Back to Multiple platform build/check report for BioC 3.8

Results for malbec1

This page was generated on 2019-04-16 12:14:12 -0400 (Tue, 16 Apr 2019).

Package status is indicated by one of the following glyphs
 TIMEOUT  INSTALL, BUILD, CHECK or BUILD BIN of package took more than 40 minutes Use the check boxes to show only packages with the selected status types.
 ERROR  Bad DESCRIPTION file or INSTALL, BUILD or BUILD BIN of package failed, or CHECK produced errors
 WARNINGS  CHECK of package produced warnings
 OK  INSTALL, BUILD, CHECK or BUILD BIN of package was OK
 skipped  CHECK or BUILD BIN of package was skipped because the BUILD step failed
 NA  BUILD, CHECK or BUILD BIN result is not available because of an anomaly in the Build System
Click on any glyph in the report below to access the detailed results.
Package propagation status is indicated by one of the following LEDs
YES YES: Package was propagated because it didn't previously exist or version was bumped
NO NO: Package was not propagated because of a problem (impossible dependencies, or version lower than what is already propagated)
UNNEEDED UNNEEDED: Package was not propagated because it is already in the repository with this version. A version bump is required in order to propagate it

A crossed-out package name indicates the package is deprecated


SUMMARYOS / ArchINSTALLBUILDCHECKBUILD BIN
[malbec1] Linux (Ubuntu 16.04.6 LTS) / x86_64 
0816390
0181629
0132281388
merida1 OS X 10.11.6 El Capitan / x86_64 
01416250
1291609
1142451349
001609
A
ABCDEFGHIJKLMNOPQRSTUVWXYZ
PackageMaintainerINSTALLBUILDCHECKBUILD BIN
1/1649a4 1.30.0Tobias Verbeke OK  OK  OK UNNEEDED, same version exists in internal repository
2/1649a4Base 1.30.0Tobias Verbeke OK  OK  OK UNNEEDED, same version exists in internal repository
3/1649a4Classif 1.30.0Tobias Verbeke OK  OK  OK UNNEEDED, same version exists in internal repository
4/1649a4Core 1.30.0Tobias Verbeke OK  OK  OK UNNEEDED, same version exists in internal repository
5/1649a4Preproc 1.30.0Tobias Verbeke OK  OK  OK UNNEEDED, same version exists in internal repository
6/1649a4Reporting 1.30.0Tobias Verbeke , Willem Ligtenberg OK  OK  OK UNNEEDED, same version exists in internal repository
7/1649ABAEnrichment 1.12.0Steffi Grote OK  OK  OK UNNEEDED, same version exists in internal repository
8/1649ABarray 1.50.0Yongming Andrew Sun OK  OK  OK UNNEEDED, same version exists in internal repository
9/1649abseqR 1.0.0JiaHong Fong OK  OK  OK UNNEEDED, same version exists in internal repository
10/1649ABSSeq 1.36.0Wentao Yang OK  OK  OK UNNEEDED, same version exists in internal repository
11/1649acde 1.12.0Juan Pablo Acosta OK  OK  OK UNNEEDED, same version exists in internal repository
12/1649ACE 1.0.0Jos B Poell OK  OK  OK UNNEEDED, same version exists in internal repository
13/1649aCGH 1.60.0Peter Dimitrov OK  OK  OK UNNEEDED, same version exists in internal repository
14/1649ACME 2.38.0Sean Davis OK  OK  WARNINGS UNNEEDED, same version exists in internal repository
15/1649ADaCGH2 2.22.0Ramon Diaz-Uriarte OK  OK  OK UNNEEDED, same version exists in internal repository
16/1649adaptest 1.2.0Weixin Cai OK  OK  OK UNNEEDED, same version exists in internal repository
17/1649adSplit 1.52.0Claudio Lottaz OK  OK  OK UNNEEDED, same version exists in internal repository
18/1649AffiXcan 1.0.0Alessandro Lussana OK  OK  OK UNNEEDED, same version exists in internal repository
19/1649affxparser 1.54.0Kasper Daniel Hansen OK  OK  OK UNNEEDED, same version exists in internal repository
20/1649affy 1.60.0Rafael A. Irizarry OK  OK  WARNINGS UNNEEDED, same version exists in internal repository
21/1649affycomp 1.58.0Rafael A. Irizarry OK  OK  OK UNNEEDED, same version exists in internal repository
22/1649AffyCompatible 1.42.0Martin Morgan OK  OK  OK UNNEEDED, same version exists in internal repository
23/1649affyContam 1.40.0V. Carey OK  OK  OK UNNEEDED, same version exists in internal repository
24/1649affycoretools 1.54.0James W. MacDonald OK  OK  OK UNNEEDED, same version exists in internal repository
25/1649AffyExpress 1.48.0Xuejun Arthur Li OK  OK  OK UNNEEDED, same version exists in internal repository
26/1649affyILM 1.34.0Myriam Kroll and Fabrice Berger OK  OK  OK UNNEEDED, same version exists in internal repository
27/1649affyio 1.52.0Ben Bolstad OK  OK  OK UNNEEDED, same version exists in internal repository
28/1649affylmGUI 1.56.0Gordon Smyth OK  OK  OK UNNEEDED, same version exists in internal repository
29/1649affyPara 1.42.0Markus Schmidberger OK  OK  OK UNNEEDED, same version exists in internal repository
30/1649affypdnn 1.56.0Laurent Gautier OK  OK  OK UNNEEDED, same version exists in internal repository
31/1649affyPLM 1.58.0Ben Bolstad OK  OK  OK UNNEEDED, same version exists in internal repository
32/1649affyQCReport 1.60.0Craig Parman OK  OK  OK UNNEEDED, same version exists in internal repository
33/1649AffyRNADegradation 1.28.0Mario Fasold OK  OK  OK UNNEEDED, same version exists in internal repository
34/1649AGDEX 1.30.0Cuilan lani Gao OK  OK  OK UNNEEDED, same version exists in internal repository
35/1649agilp 3.14.0Benny Chain OK  OK  OK UNNEEDED, same version exists in internal repository
36/1649AgiMicroRna 2.32.0Pedro Lopez-Romero OK  OK  OK UNNEEDED, same version exists in internal repository
37/1649AIMS 1.14.1Eric R Paquet OK  OK  OK UNNEEDED, same version exists in internal repository
38/1649ALDEx2 1.14.1Greg Gloor OK  OK  OK UNNEEDED, same version exists in internal repository
39/1649AllelicImbalance 1.20.0Jesper R Gadin OK  OK  OK UNNEEDED, same version exists in internal repository
40/1649alpine 1.8.0Michael Love OK  OK  OK UNNEEDED, same version exists in internal repository
41/1649alsace 1.18.0Ron Wehrens OK  OK  OK UNNEEDED, same version exists in internal repository
42/1649altcdfenvs 2.44.0Laurent Gautier OK  OK  OK UNNEEDED, same version exists in internal repository
43/1649AMOUNTAIN 1.8.0Dong Li OK  OK  OK UNNEEDED, same version exists in internal repository
44/1649amplican 1.4.1Eivind Valen OK  OK  OK UNNEEDED, same version exists in internal repository
45/1649ampliQueso 1.20.0Michal Okoniewski OK  OK  WARNINGS UNNEEDED, same version exists in internal repository
46/1649AnalysisPageServer 1.16.0Brad Friedman OK  OK  OK UNNEEDED, same version exists in internal repository
47/1649anamiR 1.10.0Ti-Tai Wang ERROR  ERROR  skipped 
48/1649Anaquin 2.6.1Ted Wong OK  OK  OK UNNEEDED, same version exists in internal repository
49/1649AneuFinder 1.10.2Aaron Taudt OK  OK  OK UNNEEDED, same version exists in internal repository
50/1649ANF 1.4.0Tianle Ma OK  OK  OK UNNEEDED, same version exists in internal repository
51/1649annaffy 1.54.0Colin A. Smith OK  OK  OK UNNEEDED, same version exists in internal repository
52/1649annmap 1.24.0Chris Wirth OK  OK  WARNINGS UNNEEDED, same version exists in internal repository
53/1649annotate 1.60.1Bioconductor Package Maintainer OK  OK  OK UNNEEDED, same version exists in internal repository
54/1649AnnotationDbi 1.44.0Bioconductor Package Maintainer OK  OK  OK UNNEEDED, same version exists in internal repository
55/1649AnnotationFilter 1.6.0Bioconductor Package Maintainer OK  OK  OK UNNEEDED, same version exists in internal repository
56/1649AnnotationForge 1.24.0Bioconductor Package Maintainer OK  OK  OK UNNEEDED, same version exists in internal repository
57/1649AnnotationFuncs 1.32.0Stefan McKinnon Edwards OK  OK  OK UNNEEDED, same version exists in internal repository
58/1649AnnotationHub 2.14.5Bioconductor Package Maintainer OK  OK  WARNINGS UNNEEDED, same version exists in internal repository
59/1649AnnotationHubData 1.12.0Bioconductor Package Maintainer OK  OK  OK UNNEEDED, same version exists in internal repository
60/1649annotationTools 1.56.0Alexandre Kuhn OK  OK  OK UNNEEDED, same version exists in internal repository
61/1649annotatr 1.8.0Raymond G. Cavalcante OK  OK  OK UNNEEDED, same version exists in internal repository
62/1649anota 1.30.0Ola Larsson OK  OK  OK UNNEEDED, same version exists in internal repository
63/1649anota2seq 1.4.2Christian Oertlin , Julie Lorent OK  OK  OK UNNEEDED, same version exists in internal repository
64/1649antiProfiles 1.22.0Hector Corrada Bravo OK  OK  OK UNNEEDED, same version exists in internal repository
65/1649apComplex 2.48.1Denise Scholtens OK  OK  OK UNNEEDED, same version exists in internal repository
66/1649apeglm 1.4.2Anqi Zhu OK  OK  OK UNNEEDED, same version exists in internal repository
67/1649appreci8R 1.0.0Sarah Sandmann OK  OK  OK UNNEEDED, same version exists in internal repository
68/1649aroma.light 3.12.0Henrik Bengtsson OK  OK  OK UNNEEDED, same version exists in internal repository
69/1649ArrayExpress 1.42.0Suhaib Mohammed OK  OK  OK UNNEEDED, same version exists in internal repository
70/1649ArrayExpressHTS 1.32.1Angela Goncalves , Andrew Tikhonov OK  OK  OK UNNEEDED, same version exists in internal repository
71/1649arrayMvout 1.40.0V. Carey OK  OK  OK UNNEEDED, same version exists in internal repository
72/1649arrayQuality 1.60.0Agnes Paquet OK  OK  WARNINGS UNNEEDED, same version exists in internal repository
73/1649arrayQualityMetrics 3.38.0Mike Smith OK  OK  OK UNNEEDED, same version exists in internal repository
74/1649ArrayTools 1.42.0Arthur Li OK  OK  OK UNNEEDED, same version exists in internal repository
75/1649ArrayTV 1.20.0Eitan Halper-Stromberg OK  OK  OK UNNEEDED, same version exists in internal repository
76/1649ARRmNormalization 1.22.0Jean-Philippe Fortin OK  OK  OK UNNEEDED, same version exists in internal repository
77/1649artMS 1.0.12David Jimenez-Morales OK  OK  OK UNNEEDED, same version exists in internal repository
78/1649ASAFE 1.8.0Qian Zhang OK  OK  OK UNNEEDED, same version exists in internal repository
79/1649ASEB 1.26.0Likun Wang OK  OK  OK UNNEEDED, same version exists in internal repository
80/1649ASGSCA 1.16.0Hela Romdhani OK  OK  OK UNNEEDED, same version exists in internal repository
81/1649ASICS 1.2.0Gaëlle Lefort OK  OK  OK UNNEEDED, same version exists in internal repository
82/1649ASpli 1.8.1Estefania Mancini OK  OK  OK UNNEEDED, same version exists in internal repository
83/1649AssessORF 1.0.2Deepank Korandla OK  OK  OK UNNEEDED, same version exists in internal repository
84/1649ASSET 2.0.0Samsiddhi Bhattacharjee OK  OK  WARNINGS UNNEEDED, same version exists in internal repository
85/1649ASSIGN 1.18.0Ying Shen , W. Evan Johnson OK  OK  OK UNNEEDED, same version exists in internal repository
86/1649ATACseqQC 1.6.4Jianhong Ou OK  OK  OK UNNEEDED, same version exists in internal repository
87/1649attract 1.34.1Samuel Zimmerman OK  OK  OK UNNEEDED, same version exists in internal repository
88/1649AUCell 1.4.1Sara Aibar OK  OK  OK UNNEEDED, same version exists in internal repository
B
ABCDEFGHIJKLMNOPQRSTUVWXYZ
PackageMaintainerINSTALLBUILDCHECKBUILD BIN
89/1649BaalChIP 1.8.0Ines de Santiago OK  OK  WARNINGS UNNEEDED, same version exists in internal repository
90/1649BAC 1.42.0Raphael Gottardo OK  OK  OK UNNEEDED, same version exists in internal repository
91/1649bacon 1.10.1Maarten van Iterson OK  OK  OK UNNEEDED, same version exists in internal repository
92/1649BADER 1.20.1Andreas Neudecker OK  OK  OK UNNEEDED, same version exists in internal repository
93/1649BadRegionFinder 1.10.0Sarah Sandmann OK  OK  OK UNNEEDED, same version exists in internal repository
94/1649BAGS 2.22.0Alejandro Quiroz-Zarate OK  OK  OK UNNEEDED, same version exists in internal repository
95/1649ballgown 2.14.1Jack Fu OK  OK  OK UNNEEDED, same version exists in internal repository
96/1649bamsignals 1.14.0Alessandro Mammana OK  OK  OK UNNEEDED, same version exists in internal repository
97/1649banocc 1.6.1George Weingart OK  OK  OK UNNEEDED, same version exists in internal repository
98/1649basecallQC 1.6.0Thomas Carroll OK  OK  OK UNNEEDED, same version exists in internal repository
99/1649BaseSpaceR 1.26.0Jared O'Connell OK  OK  OK UNNEEDED, same version exists in internal repository
100/1649Basic4Cseq 1.18.1Carolin Walter OK  OK  OK UNNEEDED, same version exists in internal repository
101/1649BASiCS 1.4.7Catalina A. Vallejos , Nils Eling OK  OK  OK UNNEEDED, same version exists in internal repository
102/1649BasicSTARRseq 1.10.0Annika Buerger OK  OK  OK UNNEEDED, same version exists in internal repository
103/1649BatchQC 1.10.1Solaiappan Manimaran OK  OK  OK UNNEEDED, same version exists in internal repository
104/1649BayesKnockdown 1.8.0William Chad Young OK  OK  OK UNNEEDED, same version exists in internal repository
105/1649BayesPeak 1.34.0Jonathan Cairns OK  OK  OK UNNEEDED, same version exists in internal repository
106/1649bayNorm 1.0.9Wenhao Tang OK  OK  OK UNNEEDED, same version exists in internal repository
107/1649baySeq 2.16.0Thomas J. Hardcastle OK  OK  OK UNNEEDED, same version exists in internal repository
108/1649BBCAnalyzer 1.12.0Sarah Sandmann OK  OK  OK UNNEEDED, same version exists in internal repository
109/1649BCRANK 1.44.0Adam Ameur OK  OK  OK UNNEEDED, same version exists in internal repository
110/1649bcSeq  ERROR  (Bad DESCRIPTION file)
111/1649BDMMAcorrect 1.0.1ZHENWEI DAI OK  OK  OK UNNEEDED, same version exists in internal repository
112/1649beachmat 1.4.0Aaron Lun OK  OK  OK UNNEEDED, same version exists in internal repository
113/1649beadarray 2.32.0Mark Dunning OK  OK  OK UNNEEDED, same version exists in internal repository
114/1649beadarraySNP 1.48.0Jan Oosting OK  OK  OK UNNEEDED, same version exists in internal repository
115/1649BeadDataPackR 1.34.0Mike Smith OK  OK  OK UNNEEDED, same version exists in internal repository
116/1649BEARscc 1.2.1Benjamin Schuster-Boeckler OK  OK  OK UNNEEDED, same version exists in internal repository
117/1649BEAT 1.20.1Kemal Akman OK  OK  OK UNNEEDED, same version exists in internal repository
118/1649BEclear 1.14.0David Rasp OK  OK  OK UNNEEDED, same version exists in internal repository
119/1649bgafun 1.44.0Iain Wallace OK  OK  OK UNNEEDED, same version exists in internal repository
120/1649BgeeDB 2.8.0Julien Wollbrett , Julien Roux , Andrea Komljenovic , Frederic Bastian OK  OK  OK UNNEEDED, same version exists in internal repository
121/1649BGmix 1.42.0Alex Lewin OK  OK  WARNINGS UNNEEDED, same version exists in internal repository
122/1649bgx 1.48.1Ernest Turro OK  OK  OK UNNEEDED, same version exists in internal repository
123/1649BHC 1.34.0Rich Savage OK  OK  OK UNNEEDED, same version exists in internal repository
124/1649BicARE 1.40.0Pierre Gestraud OK  OK  OK UNNEEDED, same version exists in internal repository
125/1649BiFET 1.2.1Ahrim Youn OK  OK  OK UNNEEDED, same version exists in internal repository
126/1649BiGGR 1.18.0Anand K. Gavai OK  OK  OK UNNEEDED, same version exists in internal repository
127/1649bigmelon 1.8.0Tyler J. Gorrie-Stone OK  OK  OK UNNEEDED, same version exists in internal repository
128/1649bigmemoryExtras 1.30.0Peter M. Haverty OK  OK  WARNINGS UNNEEDED, same version exists in internal repository
129/1649bioassayR 1.20.1Tyler Backman OK  OK  OK UNNEEDED, same version exists in internal repository
130/1649Biobase 2.42.0Bioconductor Package Maintainer OK  OK  OK UNNEEDED, same version exists in internal repository
131/1649biobroom 1.14.0John D. Storey and Andrew J. Bass OK  OK  OK UNNEEDED, same version exists in internal repository
132/1649bioCancer 1.10.11Karim Mezhoud OK  OK  OK UNNEEDED, same version exists in internal repository
133/1649BiocCaseStudies 1.44.0Bioconductor Package Maintainer OK  OK  OK UNNEEDED, same version exists in internal repository
134/1649BiocCheck 1.18.0Bioconductor Package Maintainer OK  OK  OK UNNEEDED, same version exists in internal repository
135/1649BiocFileCache 1.6.0Lori Shepherd OK  OK  OK UNNEEDED, same version exists in internal repository
136/1649BiocGenerics 0.28.0Bioconductor Package Maintainer OK  OK  WARNINGS UNNEEDED, same version exists in internal repository
137/1649biocGraph 1.44.0Florian Hahne OK  OK  OK UNNEEDED, same version exists in internal repository
138/1649BiocInstaller 1.32.1Bioconductor Package Maintainer OK  OK  WARNINGS UNNEEDED, same version exists in internal repository
139/1649BiocNeighbors 1.0.0Aaron Lun OK  OK  OK UNNEEDED, same version exists in internal repository
140/1649BiocOncoTK 1.2.1VJ Carey OK  OK  OK UNNEEDED, same version exists in internal repository
141/1649BioCor 1.6.1Lluís Revilla Sancho OK  OK  OK UNNEEDED, same version exists in internal repository
142/1649BiocParallel 1.16.6Bioconductor Package Maintainer OK  OK  ERROR 
143/1649BiocPkgTools 1.0.3Sean Davis OK  ERROR  skipped 
144/1649BiocSklearn 1.4.0VJ Carey OK  OK  OK UNNEEDED, same version exists in internal repository
145/1649BiocStyle 2.10.0Bioconductor Package Maintainer OK  OK  OK UNNEEDED, same version exists in internal repository
146/1649BiocVersion 3.8.0Bioconductor Package Maintainer OK  OK  WARNINGS UNNEEDED, same version exists in internal repository
147/1649biocViews 1.50.10Bioconductor Package Maintainer OK  OK  WARNINGS UNNEEDED, same version exists in internal repository
148/1649BiocWorkflowTools 1.8.0Mike Smith OK  OK  WARNINGS UNNEEDED, same version exists in internal repository
149/1649bioDist 1.54.0Bioconductor Package Maintainer OK  OK  OK UNNEEDED, same version exists in internal repository
150/1649biomaRt 2.38.0Mike Smith OK  OK  OK UNNEEDED, same version exists in internal repository
151/1649biomformat 1.10.1Paul J. McMurdie OK  OK  OK UNNEEDED, same version exists in internal repository
152/1649BioMVCClass 1.50.0Elizabeth Whalen OK  OK  OK UNNEEDED, same version exists in internal repository
153/1649biomvRCNS 1.22.0Yang Du OK  OK  OK UNNEEDED, same version exists in internal repository
154/1649BioNet 1.42.0Marcus Dittrich OK  OK  OK UNNEEDED, same version exists in internal repository
155/1649BioNetStat 1.2.2Vinicius Jardim OK  OK  OK UNNEEDED, same version exists in internal repository
156/1649BioQC 1.10.0Jitao David Zhang OK  OK  OK UNNEEDED, same version exists in internal repository
157/1649BioSeqClass 1.40.0Li Hong OK  OK  OK UNNEEDED, same version exists in internal repository
158/1649biosigner 1.10.0Philippe Rinaudo , Etienne Thevenot OK  OK  OK UNNEEDED, same version exists in internal repository
159/1649Biostrings 2.50.2H. Pagès OK  OK  WARNINGS UNNEEDED, same version exists in internal repository
160/1649biosvd 2.18.0Anneleen Daemen , Matthew Brauer OK  OK  OK UNNEEDED, same version exists in internal repository
161/1649biotmle 1.6.0Nima Hejazi OK  OK  OK UNNEEDED, same version exists in internal repository
162/1649biovizBase 1.30.1Michael Lawrence OK  OK  WARNINGS UNNEEDED, same version exists in internal repository
163/1649BiRewire 3.14.0Andrea Gobbi OK  OK  WARNINGS UNNEEDED, same version exists in internal repository
164/1649birta 1.26.0Benedikt Zacher OK  OK  OK UNNEEDED, same version exists in internal repository
165/1649birte 1.18.0Holger Froehlich OK  OK  WARNINGS UNNEEDED, same version exists in internal repository
166/1649BiSeq 1.22.0Katja Hebestreit OK  OK  OK UNNEEDED, same version exists in internal repository
167/1649BitSeq 1.26.1Antti Honkela , Panagiotis Papastamoulis OK  OK  WARNINGS UNNEEDED, same version exists in internal repository
168/1649blima 1.16.0Vojtěch Kulvait OK  OK  WARNINGS UNNEEDED, same version exists in internal repository
169/1649BLMA 1.6.0Tin Nguyen OK  OK  OK UNNEEDED, same version exists in internal repository
170/1649bnbc 1.4.0Kipper Fletez-Brant OK  OK  OK UNNEEDED, same version exists in internal repository
171/1649BPRMeth 1.8.1Chantriolnt-Andreas Kapourani OK  OK  OK UNNEEDED, same version exists in internal repository
172/1649BRAIN 1.28.1Piotr Dittwald OK  OK  WARNINGS UNNEEDED, same version exists in internal repository
173/1649brainImageR 1.0.0Sara B Linker OK  OK  OK UNNEEDED, same version exists in internal repository
174/1649BrainStars 1.26.0Itoshi NIKAIDO OK  OK  OK UNNEEDED, same version exists in internal repository
175/1649branchpointer 1.8.0Beth Signal OK  OK  OK UNNEEDED, same version exists in internal repository
176/1649breakpointR 1.0.0David Porubsky OK  OK  OK UNNEEDED, same version exists in internal repository
177/1649bridge 1.46.0Raphael Gottardo OK  OK  WARNINGS UNNEEDED, same version exists in internal repository
178/1649BridgeDbR 1.16.1Egon Willighagen OK  OK  OK UNNEEDED, same version exists in internal repository
179/1649BrowserViz 2.4.0Paul Shannon OK  OK  OK UNNEEDED, same version exists in internal repository
180/1649BSgenome 1.50.0H. Pagès OK  OK  WARNINGS UNNEEDED, same version exists in internal repository
181/1649bsseq 1.18.0Kasper Daniel Hansen OK  OK  OK UNNEEDED, same version exists in internal repository
182/1649BubbleTree 2.12.0Todd Creasy , Wei Zhu OK  OK  OK UNNEEDED, same version exists in internal repository
183/1649BufferedMatrix 1.46.0Ben Bolstad OK  OK  OK UNNEEDED, same version exists in internal repository
184/1649BufferedMatrixMethods 1.46.0Ben Bolstad OK  OK  OK UNNEEDED, same version exists in internal repository
185/1649BUMHMM 1.6.2Alina Selega OK  OK  OK UNNEEDED, same version exists in internal repository
186/1649bumphunter 1.24.5Rafael A. Irizarry OK  OK  OK UNNEEDED, same version exists in internal repository
187/1649BUS 1.38.0Yuanhua Liu OK  OK  OK UNNEEDED, same version exists in internal repository
188/1649BUScorrect 1.0.0Xiangyu Luo OK  OK  OK UNNEEDED, same version exists in internal repository
C
ABCDEFGHIJKLMNOPQRSTUVWXYZ
PackageMaintainerINSTALLBUILDCHECKBUILD BIN
189/1649CAFE 1.18.0Sander Bollen OK  OK  WARNINGS UNNEEDED, same version exists in internal repository
190/1649CAGEfightR 1.2.0Malte Thodberg OK  OK  OK UNNEEDED, same version exists in internal repository
191/1649CAGEr 1.24.0Vanja Haberle , Charles Plessy OK  OK  OK UNNEEDED, same version exists in internal repository
192/1649CALIB 1.48.0Hui Zhao OK  OK  OK UNNEEDED, same version exists in internal repository
193/1649CAMERA 1.38.1Steffen Neumann OK  OK  OK UNNEEDED, same version exists in internal repository
194/1649CAMTHC 1.0.0Lulu Chen OK  OK  OK UNNEEDED, same version exists in internal repository
195/1649canceR 1.16.02Karim Mezhoud OK  OK  OK UNNEEDED, same version exists in internal repository
196/1649cancerclass 1.26.0Daniel Kosztyla OK  OK  OK UNNEEDED, same version exists in internal repository
197/1649CancerInSilico 2.2.1Thomas D. Sherman OK  OK  WARNINGS UNNEEDED, same version exists in internal repository
198/1649CancerMutationAnalysis 1.24.0Simina M. Boca OK  OK  OK UNNEEDED, same version exists in internal repository
199/1649CancerSubtypes 1.8.0Taosheng Xu OK  OK  OK UNNEEDED, same version exists in internal repository
200/1649CAnD 1.14.0Caitlin McHugh OK  OK  OK UNNEEDED, same version exists in internal repository
201/1649caOmicsV 1.12.1Henry Zhang OK  OK  OK UNNEEDED, same version exists in internal repository
202/1649Cardinal 2.0.4Kylie A. Bemis OK  OK  WARNINGS UNNEEDED, same version exists in internal repository
203/1649casper 2.16.1David Rossell OK  OK  WARNINGS UNNEEDED, same version exists in internal repository
204/1649CATALYST 1.6.7Helena L. Crowell OK  OK  OK UNNEEDED, same version exists in internal repository
205/1649Category 2.48.1Bioconductor Package Maintainer OK  OK  OK UNNEEDED, same version exists in internal repository
206/1649categoryCompare 1.26.0Robert M. Flight OK  OK  OK UNNEEDED, same version exists in internal repository
207/1649CausalR 1.14.1Glyn Bradley , Steven Barrett OK  OK  OK UNNEEDED, same version exists in internal repository
208/1649cbaf 1.4.1Arman Shahrisa OK  OK  OK UNNEEDED, same version exists in internal repository
209/1649ccfindR 1.2.1Jun Woo OK  OK  OK UNNEEDED, same version exists in internal repository
210/1649ccmap 1.8.0Alex Pickering OK  OK  OK UNNEEDED, same version exists in internal repository
211/1649CCPROMISE 1.8.0Xueyuan Cao OK  OK  WARNINGS UNNEEDED, same version exists in internal repository
212/1649ccrepe 1.18.1Emma Schwager ,Craig Bielski, George Weingart OK  OK  OK UNNEEDED, same version exists in internal repository
213/1649celaref 1.0.1Sarah Williams OK  OK  OK UNNEEDED, same version exists in internal repository
214/1649cellbaseR 1.6.1Mohammed OE Abdallah OK  OK  ERROR 
215/1649cellGrowth 1.26.1Julien Gagneur OK  OK  OK UNNEEDED, same version exists in internal repository
216/1649cellHTS2 2.46.1Joseph Barry OK  OK  WARNINGS UNNEEDED, same version exists in internal repository
217/1649cellity 1.10.1Tomislav Ilicic OK  OK  OK UNNEEDED, same version exists in internal repository
218/1649CellMapper 1.8.0Brad Nelms OK  OK  WARNINGS UNNEEDED, same version exists in internal repository
219/1649CellNOptR 1.28.1A.Gabor OK  OK  WARNINGS UNNEEDED, same version exists in internal repository
220/1649cellscape 1.6.0Maia Smith OK  OK  WARNINGS UNNEEDED, same version exists in internal repository
221/1649CellScore 1.2.0Nancy Mah OK  OK  OK UNNEEDED, same version exists in internal repository
222/1649CellTrails 1.0.1Daniel Ellwanger OK  OK  OK UNNEEDED, same version exists in internal repository
223/1649cellTree 1.12.1David duVerle OK  OK  OK UNNEEDED, same version exists in internal repository
224/1649CEMiTool 1.6.11Helder Nakaya OK  OK  OK UNNEEDED, same version exists in internal repository
225/1649CexoR 1.20.0Pedro Madrigal OK  OK  OK UNNEEDED, same version exists in internal repository
226/1649CFAssay 1.16.1Herbert Braselmann OK  OK  OK UNNEEDED, same version exists in internal repository
227/1649CGEN 3.18.0William Wheeler OK  OK  OK UNNEEDED, same version exists in internal repository
228/1649CGHbase 1.42.0Mark van de Wiel OK  OK  OK UNNEEDED, same version exists in internal repository
229/1649CGHcall 2.44.0Mark van de Wiel OK  OK  OK UNNEEDED, same version exists in internal repository
230/1649cghMCR 1.40.0J. Zhang OK  OK  WARNINGS UNNEEDED, same version exists in internal repository
231/1649CGHnormaliter 1.36.0Bart P.P. van Houte OK  OK  OK UNNEEDED, same version exists in internal repository
232/1649CGHregions 1.40.0Sjoerd Vosse OK  OK  OK UNNEEDED, same version exists in internal repository
233/1649ChAMP 2.12.4Yuan Tian OK  OK  WARNINGS UNNEEDED, same version exists in internal repository
234/1649CHARGE 1.2.0Benjamin Mayne OK  OK  OK UNNEEDED, same version exists in internal repository
235/1649charm 2.28.0Peter Murakami OK  OK  WARNINGS UNNEEDED, same version exists in internal repository
236/1649ChemmineOB 1.20.0Thomas Girke OK  OK  OK UNNEEDED, same version exists in internal repository
237/1649ChemmineR 3.34.1Thomas Girke OK  OK  OK UNNEEDED, same version exists in internal repository
238/1649ChIC 1.2.0Carmen Maria Livi OK  OK  OK UNNEEDED, same version exists in internal repository
239/1649Chicago 1.10.1Mikhail Spivakov OK  OK  OK UNNEEDED, same version exists in internal repository
240/1649chimera 1.24.0Raffaele A Calogero OK  OK  OK UNNEEDED, same version exists in internal repository
241/1649chimeraviz 1.8.5Stian Lågstad OK  OK  OK UNNEEDED, same version exists in internal repository
242/1649ChIPanalyser 1.4.0Patrick C.N. Martin OK  OK  OK UNNEEDED, same version exists in internal repository
243/1649ChIPComp 1.12.0Li Chen OK  OK  OK UNNEEDED, same version exists in internal repository
244/1649chipenrich 2.6.1Raymond G. Cavalcante OK  OK  OK UNNEEDED, same version exists in internal repository
245/1649ChIPexoQual 1.6.0Rene Welch OK  OK  OK UNNEEDED, same version exists in internal repository
246/1649ChIPpeakAnno 3.16.1Lihua Julie Zhu OK  OK  OK UNNEEDED, same version exists in internal repository
247/1649ChIPQC 1.18.2Tom Carroll , Rory Stark OK  OK  OK UNNEEDED, same version exists in internal repository
248/1649ChIPseeker 1.18.0Guangchuang Yu OK  OK  OK UNNEEDED, same version exists in internal repository
249/1649chipseq 1.32.0Bioconductor Package Maintainer OK  OK  WARNINGS UNNEEDED, same version exists in internal repository
250/1649ChIPseqR 1.36.0Peter Humburg OK  OK  WARNINGS UNNEEDED, same version exists in internal repository
251/1649ChIPSeqSpike 1.2.1Nicolas Descostes OK  OK  OK UNNEEDED, same version exists in internal repository
252/1649ChIPsim 1.36.0Peter Humburg OK  OK  OK UNNEEDED, same version exists in internal repository
253/1649ChIPXpress 1.26.0George Wu OK  OK  OK UNNEEDED, same version exists in internal repository
254/1649chopsticks 1.48.0Hin-Tak Leung OK  OK  WARNINGS UNNEEDED, same version exists in internal repository
255/1649chroGPS 2.0.1Oscar Reina OK  OK  OK UNNEEDED, same version exists in internal repository
256/1649chromDraw 2.12.0Jan Janecka OK  OK  WARNINGS UNNEEDED, same version exists in internal repository
257/1649ChromHeatMap 1.36.0Tim F. Rayner OK  OK  OK UNNEEDED, same version exists in internal repository
258/1649chromPlot 1.10.0Karen Y. Orostica OK  OK  OK UNNEEDED, same version exists in internal repository
259/1649chromstaR 1.8.1Aaron Taudt OK  OK  OK UNNEEDED, same version exists in internal repository
260/1649chromswitch 1.4.1Selin Jessa OK  OK  OK UNNEEDED, same version exists in internal repository
261/1649chromVAR 1.4.1Alicia Schep OK  OK  OK UNNEEDED, same version exists in internal repository
262/1649CHRONOS 1.10.1Panos Balomenos OK  OK  OK UNNEEDED, same version exists in internal repository
263/1649cicero 1.0.15Hannah Pliner OK  OK  OK UNNEEDED, same version exists in internal repository
264/1649CINdex 1.10.0Yuriy Gusev OK  OK  OK UNNEEDED, same version exists in internal repository
265/1649cisPath 1.22.0Likun Wang OK  OK  OK UNNEEDED, same version exists in internal repository
266/1649ClassifyR 2.2.6Dario Strbenac OK  OK  OK UNNEEDED, same version exists in internal repository
267/1649cleanUpdTSeq 1.20.1Jianhong Ou ; Lihua Julie Zhu OK  OK  OK UNNEEDED, same version exists in internal repository
268/1649cleaver 1.20.0Sebastian Gibb OK  OK  OK UNNEEDED, same version exists in internal repository
269/1649clippda 1.32.0Stephen Nyangoma OK  OK  WARNINGS UNNEEDED, same version exists in internal repository
270/1649clipper 1.22.0Paolo Martini OK  OK  OK UNNEEDED, same version exists in internal repository
271/1649Clomial 1.18.1Habil Zare OK  OK  OK UNNEEDED, same version exists in internal repository
272/1649Clonality 1.30.0Irina Ostrovnaya OK  OK  OK UNNEEDED, same version exists in internal repository
273/1649clonotypeR 1.20.0Charles Plessy OK  OK  OK UNNEEDED, same version exists in internal repository
274/1649clst 1.30.0Noah Hoffman OK  OK  WARNINGS UNNEEDED, same version exists in internal repository
275/1649clstutils 1.30.0Noah Hoffman OK  OK  WARNINGS UNNEEDED, same version exists in internal repository
276/1649clustComp 1.10.0Aurora Torrente OK  OK  OK UNNEEDED, same version exists in internal repository
277/1649clusterExperiment 2.2.0Elizabeth Purdom OK  OK  WARNINGS UNNEEDED, same version exists in internal repository
278/1649ClusterJudge 1.4.0Adrian Pasculescu OK  OK  OK UNNEEDED, same version exists in internal repository
279/1649clusterProfiler 3.10.1Guangchuang Yu OK  OK  WARNINGS UNNEEDED, same version exists in internal repository
280/1649clusterSeq 1.6.0Thomas J. Hardcastle OK  OK  OK UNNEEDED, same version exists in internal repository
281/1649ClusterSignificance 1.10.0Jason T Serviss OK  OK  OK UNNEEDED, same version exists in internal repository
282/1649clusterStab 1.54.0James W. MacDonald OK  OK  OK UNNEEDED, same version exists in internal repository
283/1649CMA 1.40.0Christoph Bernau OK  OK  OK UNNEEDED, same version exists in internal repository
284/1649cn.farms 1.30.0Andreas Mitterecker OK  OK  OK UNNEEDED, same version exists in internal repository
285/1649cn.mops 1.28.0Guenter Klambauer OK  OK  OK UNNEEDED, same version exists in internal repository
286/1649CNAnorm 1.28.0Stefano Berri OK  OK  OK UNNEEDED, same version exists in internal repository
287/1649CNEr 1.18.1Ge Tan OK  OK  OK UNNEEDED, same version exists in internal repository
288/1649CNORdt 1.24.1A. MacNamara OK  OK  OK UNNEEDED, same version exists in internal repository
289/1649CNORfeeder 1.22.1F.Eduati OK  OK  OK UNNEEDED, same version exists in internal repository
290/1649CNORfuzzy 1.24.0T. Cokelaer OK  OK  OK UNNEEDED, same version exists in internal repository
291/1649CNORode 1.24.1David Henriques OK  OK  OK UNNEEDED, same version exists in internal repository
292/1649CNPBayes 1.12.0Jacob Carey OK  OK  OK UNNEEDED, same version exists in internal repository
293/1649CNTools 1.38.0J. Zhang OK  OK  OK UNNEEDED, same version exists in internal repository
294/1649cnvGSA 1.26.0Joseph Lugo OK  OK  OK UNNEEDED, same version exists in internal repository
295/1649CNVPanelizer 1.14.0Thomas Wolf OK  OK  OK UNNEEDED, same version exists in internal repository
296/1649CNVrd2 1.20.0Hoang Tan Nguyen OK  OK  OK UNNEEDED, same version exists in internal repository
297/1649CNVtools 1.76.0Chris Barnes OK  OK  OK UNNEEDED, same version exists in internal repository
298/1649cobindR 1.20.0Manuela Benary OK  OK  WARNINGS UNNEEDED, same version exists in internal repository
299/1649CoCiteStats 1.54.0Bioconductor Package Maintainer OK  OK  OK UNNEEDED, same version exists in internal repository
300/1649COCOA 1.0.2John Lawson OK  OK  OK UNNEEDED, same version exists in internal repository
301/1649codelink 1.50.0Diego Diez OK  OK  OK UNNEEDED, same version exists in internal repository
302/1649CODEX 1.14.1Yuchao Jiang OK  OK  OK UNNEEDED, same version exists in internal repository
303/1649coexnet 1.4.0Juan David Henao OK  OK  OK UNNEEDED, same version exists in internal repository
304/1649CoGAPS 3.2.40Elana J. Fertig OK  OK  OK UNNEEDED, same version exists in internal repository
305/1649cogena 1.16.0Zhilong Jia OK  OK  WARNINGS UNNEEDED, same version exists in internal repository
306/1649coGPS 1.26.0Yingying Wei OK  OK  OK UNNEEDED, same version exists in internal repository
307/1649COHCAP 1.28.1Charles Warden OK  OK  OK UNNEEDED, same version exists in internal repository
308/1649coMET 1.14.0Tiphaine Martin OK  OK  OK UNNEEDED, same version exists in internal repository
309/1649compartmap 1.0.3Benjamin Johnson OK  OK  WARNINGS UNNEEDED, same version exists in internal repository
310/1649COMPASS 1.20.1Greg Finak OK  OK  OK UNNEEDED, same version exists in internal repository
311/1649compcodeR 1.18.1Charlotte Soneson OK  OK  OK UNNEEDED, same version exists in internal repository
312/1649compEpiTools 1.16.0Kamal Kishore OK  OK  OK UNNEEDED, same version exists in internal repository
313/1649CompGO 1.18.0Ashley J. Waardenberg OK  OK  OK UNNEEDED, same version exists in internal repository
314/1649ComplexHeatmap 1.20.0Zuguang Gu OK  OK  OK UNNEEDED, same version exists in internal repository
315/1649condcomp 1.0.1Diogo P. P. Branco OK  OK  OK UNNEEDED, same version exists in internal repository
316/1649CONFESS 1.10.1Diana LOW OK  OK  WARNINGS UNNEEDED, same version exists in internal repository
317/1649consensus 1.0.3Tim Peters OK  OK  OK UNNEEDED, same version exists in internal repository
318/1649ConsensusClusterPlus 1.46.0Matt Wilkerson OK  OK  OK UNNEEDED, same version exists in internal repository
319/1649consensusDE 1.0.6Ashley J. Waardenberg OK  OK  OK UNNEEDED, same version exists in internal repository
320/1649consensusOV 1.4.1Benjamin Haibe-Kains OK  OK  OK UNNEEDED, same version exists in internal repository
321/1649consensusSeekeR 1.10.0Astrid Deschenes OK  OK  OK UNNEEDED, same version exists in internal repository
322/1649contiBAIT 1.10.1Kieran O'Neill OK  OK  OK UNNEEDED, same version exists in internal repository
323/1649conumee 1.16.0Volker Hovestadt OK  OK  OK UNNEEDED, same version exists in internal repository
324/1649convert 1.58.0Yee Hwa (Jean) Yang OK  OK  OK UNNEEDED, same version exists in internal repository
325/1649copa 1.50.0James W. MacDonald OK  OK  OK UNNEEDED, same version exists in internal repository
326/1649copynumber 1.22.0Gro Nilsen OK  OK  OK UNNEEDED, same version exists in internal repository
327/1649CopywriteR 2.14.1Oscar Krijgsman OK  OK  OK UNNEEDED, same version exists in internal repository
328/1649coRdon 1.0.3Anamaria Elek OK  OK  OK UNNEEDED, same version exists in internal repository
329/1649CoRegNet 1.20.0Remy Nicolle OK  OK  WARNINGS UNNEEDED, same version exists in internal repository
330/1649Cormotif 1.28.0Yingying Wei OK  OK  OK UNNEEDED, same version exists in internal repository
331/1649CorMut 1.24.0Zhenpeng Li OK  OK  OK UNNEEDED, same version exists in internal repository
332/1649CORREP 1.48.0Dongxiao Zhu OK  OK  OK UNNEEDED, same version exists in internal repository
333/1649coseq 1.6.1Andrea Rau OK  OK  OK UNNEEDED, same version exists in internal repository
334/1649cosmiq 1.16.1David Fischer , Christian Panse OK  OK  OK UNNEEDED, same version exists in internal repository
335/1649COSNet 1.16.0Marco Frasca OK  OK  OK UNNEEDED, same version exists in internal repository
336/1649CountClust 1.10.1Kushal Dey OK  OK  OK UNNEEDED, same version exists in internal repository
337/1649countsimQC 1.0.1Charlotte Soneson OK  OK  OK UNNEEDED, same version exists in internal repository
338/1649covEB 1.8.1C. Pacini OK  OK  OK UNNEEDED, same version exists in internal repository
339/1649CoverageView 1.20.1Ernesto Lowy OK  OK  OK UNNEEDED, same version exists in internal repository
340/1649covRNA 1.8.0Lara Urban OK  OK  OK UNNEEDED, same version exists in internal repository
341/1649cpvSNP 1.14.0Caitlin McHugh OK  OK  OK UNNEEDED, same version exists in internal repository
342/1649cqn 1.28.1Kasper Daniel Hansen OK  OK  OK UNNEEDED, same version exists in internal repository
343/1649CRImage 1.30.0Henrik Failmezger , Yinyin Yuan OK  OK  OK UNNEEDED, same version exists in internal repository
344/1649CRISPRseek 1.22.1Lihua Julie Zhu OK  OK  OK UNNEEDED, same version exists in internal repository
345/1649crisprseekplus 1.8.0Alper Kucukural OK  OK  OK UNNEEDED, same version exists in internal repository
346/1649CrispRVariants 1.10.1Helen Lindsay OK  OK  WARNINGS UNNEEDED, same version exists in internal repository
347/1649crlmm 1.40.0Benilton S Carvalho OK  OK  OK UNNEEDED, same version exists in internal repository
348/1649crossmeta 1.8.0Alex Pickering OK  OK  WARNINGS UNNEEDED, same version exists in internal repository
349/1649CSAR 1.34.0Jose M Muino OK  OK  OK UNNEEDED, same version exists in internal repository
350/1649csaw 1.16.1Aaron Lun OK  OK  OK UNNEEDED, same version exists in internal repository
351/1649CSSP 1.20.0Chandler Zuo OK  OK  OK UNNEEDED, same version exists in internal repository
352/1649ctc 1.56.0Antoine Lucas OK  OK  OK UNNEEDED, same version exists in internal repository
353/1649CTDquerier 1.2.0Carles Hernandez-Ferrer OK  OK  OK UNNEEDED, same version exists in internal repository
354/1649cTRAP 1.0.3Nuno Saraiva-Agostinho OK  OK  OK UNNEEDED, same version exists in internal repository
355/1649ctsGE 1.8.1Michal Sharabi-Schwager OK  OK  OK UNNEEDED, same version exists in internal repository
356/1649cummeRbund 2.24.0Loyal A. Goff OK  OK  OK UNNEEDED, same version exists in internal repository
357/1649customProDB 1.22.1Xiaojing Wang OK  OK  ERROR 
358/1649CVE 1.8.0Andreas Mock OK  OK  WARNINGS UNNEEDED, same version exists in internal repository
359/1649cycle 1.36.0Matthias Futschik OK  OK  OK UNNEEDED, same version exists in internal repository
360/1649cydar 1.6.1Aaron Lun OK  OK  OK UNNEEDED, same version exists in internal repository
361/1649CytoDx 1.2.1Zicheng Hu OK  OK  OK UNNEEDED, same version exists in internal repository
362/1649cytofkit 1.14.0Jinmiao Chen , Matthew Myint OK  ERROR  skipped 
363/1649cytolib 1.4.1Mike Jiang OK  OK  OK UNNEEDED, same version exists in internal repository
364/1649CytoML 1.8.1Mike Jiang OK  OK  OK UNNEEDED, same version exists in internal repository
D
ABCDEFGHIJKLMNOPQRSTUVWXYZ
PackageMaintainerINSTALLBUILDCHECKBUILD BIN
365/1649dada2 1.10.1Benjamin Callahan OK  OK  ERROR 
366/1649dagLogo 1.20.0Jianhong Ou OK  OK  OK UNNEEDED, same version exists in internal repository
367/1649daMA 1.54.0Jobst Landgrebe OK  OK  OK UNNEEDED, same version exists in internal repository
368/1649DaMiRseq 1.6.2Mattia Chiesa OK  OK  OK UNNEEDED, same version exists in internal repository
369/1649DAPAR 1.14.5Samuel Wieczorek OK  OK  OK UNNEEDED, same version exists in internal repository
370/1649DART 1.30.0Charles Shijie Zheng OK  OK  OK UNNEEDED, same version exists in internal repository
371/1649DBChIP 1.26.0Kun Liang OK  OK  OK UNNEEDED, same version exists in internal repository
372/1649dcGSA 1.10.1Jiehuan sun OK  OK  WARNINGS UNNEEDED, same version exists in internal repository
373/1649DChIPRep 1.12.0Bernd Klaus OK  OK  OK UNNEEDED, same version exists in internal repository
374/1649ddCt 1.38.0Jitao David Zhang OK  OK  OK UNNEEDED, same version exists in internal repository
375/1649ddPCRclust 1.2.0Benedikt G. Brink OK  OK  OK UNNEEDED, same version exists in internal repository
376/1649debrowser 1.10.9Alper Kucukural OK  OK  OK UNNEEDED, same version exists in internal repository
377/1649DECIPHER 2.10.2Erik Wright OK  OK  OK UNNEEDED, same version exists in internal repository
378/1649DEComplexDisease 1.2.0Guofeng Meng OK  OK  OK UNNEEDED, same version exists in internal repository
379/1649DeconRNASeq 1.24.0Ting Gong OK  OK  OK UNNEEDED, same version exists in internal repository
380/1649decontam 1.2.1Benjamin Callahan OK  OK  OK UNNEEDED, same version exists in internal repository
381/1649DEDS 1.56.0Yuanyuan Xiao OK  OK  OK UNNEEDED, same version exists in internal repository
382/1649DeepBlueR 1.8.1Felipe Albrecht , Markus List OK  OK  OK UNNEEDED, same version exists in internal repository
383/1649deepSNV 1.28.0Moritz Gerstung OK  OK  OK UNNEEDED, same version exists in internal repository
384/1649DEFormats 1.10.1Andrzej Oleś OK  OK  OK UNNEEDED, same version exists in internal repository
385/1649DEGraph 1.34.0Laurent Jacob OK  OK  OK UNNEEDED, same version exists in internal repository
386/1649DEGreport 1.18.1Lorena Pantano OK  OK  OK UNNEEDED, same version exists in internal repository
387/1649DEGseq 1.36.1Likun Wang OK  OK  OK UNNEEDED, same version exists in internal repository
388/1649DelayedArray 0.8.0Hervé Pagès OK  OK  WARNINGS UNNEEDED, same version exists in internal repository
389/1649DelayedMatrixStats 1.4.0Peter Hickey OK  OK  OK UNNEEDED, same version exists in internal repository
390/1649deltaGseg 1.22.0Diana Low OK  OK  OK UNNEEDED, same version exists in internal repository
391/1649DeMAND 1.12.0Jung Hoon Woo , Mariano Alvarez OK  OK  OK UNNEEDED, same version exists in internal repository
392/1649DEP 1.4.1Arne Smits OK  OK  OK UNNEEDED, same version exists in internal repository
393/1649DEqMS 1.0.1Yafeng Zhu OK  OK  OK UNNEEDED, same version exists in internal repository
394/1649derfinder 1.16.1Leonardo Collado-Torres OK  OK  OK UNNEEDED, same version exists in internal repository
395/1649derfinderHelper 1.16.1Leonardo Collado-Torres OK  OK  OK UNNEEDED, same version exists in internal repository
396/1649derfinderPlot 1.16.1Leonardo Collado-Torres OK  OK  OK UNNEEDED, same version exists in internal repository
397/1649DEScan2 1.2.1Dario Righelli OK  OK  OK UNNEEDED, same version exists in internal repository
398/1649DESeq 1.34.1Simon Anders OK  OK  OK UNNEEDED, same version exists in internal repository
399/1649DESeq2 1.22.2Michael Love OK  OK  OK UNNEEDED, same version exists in internal repository
400/1649DEsingle 1.2.1Zhun Miao OK  OK  OK UNNEEDED, same version exists in internal repository
401/1649destiny 2.12.0Philipp Angerer OK  OK  OK UNNEEDED, same version exists in internal repository
402/1649DEsubs 1.8.1Aristidis G. Vrahatis , Panos Balomenos OK  OK  OK UNNEEDED, same version exists in internal repository
403/1649DEXSeq 1.28.3Alejandro Reyes OK  OK  OK UNNEEDED, same version exists in internal repository
404/1649dexus 1.22.1Guenter Klambauer OK  OK  OK UNNEEDED, same version exists in internal repository
405/1649DFP 1.40.0Rodrigo Alvarez-Glez OK  OK  OK UNNEEDED, same version exists in internal repository
406/1649DiffBind 2.10.0Rory Stark OK  OK  OK UNNEEDED, same version exists in internal repository
407/1649diffcoexp 1.2.0Wenbin Wei OK  OK  OK UNNEEDED, same version exists in internal repository
408/1649diffcyt 1.2.23Lukas M. Weber OK  OK  OK UNNEEDED, same version exists in internal repository
409/1649diffGeneAnalysis 1.64.0Choudary Jagarlamudi OK  OK  OK UNNEEDED, same version exists in internal repository
410/1649diffHic 1.14.0Aaron Lun OK  OK  OK UNNEEDED, same version exists in internal repository
411/1649DiffLogo 2.6.0Hendrik Treutler OK  OK  OK UNNEEDED, same version exists in internal repository
412/1649diffloop 1.10.0Caleb Lareau OK  OK  OK UNNEEDED, same version exists in internal repository
413/1649diffuStats 1.2.0Sergio Picart-Armada OK  OK  OK UNNEEDED, same version exists in internal repository
414/1649diggit 1.14.0Mariano J Alvarez OK  OK  WARNINGS UNNEEDED, same version exists in internal repository
415/1649Director 1.8.0Katherine Icay OK  OK  OK UNNEEDED, same version exists in internal repository
416/1649DirichletMultinomial 1.24.1Martin Morgan OK  OK  OK UNNEEDED, same version exists in internal repository
417/1649discordant 1.6.1Charlotte Siska OK  OK  WARNINGS UNNEEDED, same version exists in internal repository
418/1649dks 1.28.0Jeffrey T. Leek OK  OK  OK UNNEEDED, same version exists in internal repository
419/1649DMCHMM 1.4.0Farhad Shokoohi OK  OK  WARNINGS UNNEEDED, same version exists in internal repository
420/1649DMRcaller 1.14.2Nicolae Radu Zabet OK  OK  OK UNNEEDED, same version exists in internal repository
421/1649DMRcate 1.18.0Tim Peters OK  OK  OK UNNEEDED, same version exists in internal repository
422/1649DMRforPairs 1.18.0Martin Rijlaarsdam OK  OK  OK UNNEEDED, same version exists in internal repository
423/1649DMRScan 1.8.0Christian M Page OK  OK  OK UNNEEDED, same version exists in internal repository
424/1649dmrseq 1.2.5Keegan Korthauer OK  OK  OK UNNEEDED, same version exists in internal repository
425/1649DNABarcodes 1.12.0Tilo Buschmann OK  OK  OK UNNEEDED, same version exists in internal repository
426/1649DNAcopy 1.56.0Venkatraman E. Seshan OK  OK  OK UNNEEDED, same version exists in internal repository
427/1649DNAshapeR 1.10.0Tsu-Pei Chiu OK  OK  OK UNNEEDED, same version exists in internal repository
428/1649DominoEffect 1.2.1Marija Buljan OK  OK  OK UNNEEDED, same version exists in internal repository
429/1649doppelgangR 1.10.1Levi Waldron OK  OK  OK UNNEEDED, same version exists in internal repository
430/1649DOQTL 1.18.0Daniel Gatti OK  OK  ERROR 
431/1649Doscheda 1.4.1Bruno Contrino OK  OK  OK UNNEEDED, same version exists in internal repository
432/1649DOSE 3.8.2Guangchuang Yu OK  OK  OK UNNEEDED, same version exists in internal repository
433/1649drawProteins 1.2.0Paul Brennan OK  OK  OK UNNEEDED, same version exists in internal repository
434/1649DRIMSeq 1.10.1Malgorzata Nowicka OK  OK  OK UNNEEDED, same version exists in internal repository
435/1649DriverNet 1.22.0Jiarui Ding OK  OK  OK UNNEEDED, same version exists in internal repository
436/1649DropletUtils 1.2.2Aaron Lun OK  OK  WARNINGS UNNEEDED, same version exists in internal repository
437/1649DrugVsDisease 2.24.2j. Saez-Rodriguez OK  OK  OK UNNEEDED, same version exists in internal repository
438/1649dSimer 1.8.0Peng Ni OK  OK  OK UNNEEDED, same version exists in internal repository
439/1649DSS 2.30.1Hao Wu OK  OK  OK UNNEEDED, same version exists in internal repository
440/1649DTA 2.28.0Bjoern Schwalb OK  OK  OK UNNEEDED, same version exists in internal repository
441/1649dualKS 1.42.0Eric J. Kort OK  OK  OK UNNEEDED, same version exists in internal repository
442/1649DupChecker 1.20.0"Quanhu SHENG" OK  OK  OK UNNEEDED, same version exists in internal repository
443/1649dupRadar 1.12.1Sergi Sayols , Holger Klein OK  OK  OK UNNEEDED, same version exists in internal repository
444/1649dyebias 1.42.0Philip Lijnzaad OK  OK  OK UNNEEDED, same version exists in internal repository
445/1649DynDoc 1.60.0Bioconductor Package Maintainer OK  OK  OK UNNEEDED, same version exists in internal repository
E
ABCDEFGHIJKLMNOPQRSTUVWXYZ
PackageMaintainerINSTALLBUILDCHECKBUILD BIN
446/1649EasyqpcR 1.24.0Le Pape Sylvain OK  OK  OK UNNEEDED, same version exists in internal repository
447/1649easyRNASeq 2.18.4Nicolas Delhomme OK  OK  OK UNNEEDED, same version exists in internal repository
448/1649EBarrays 2.46.0Ming Yuan OK  OK  OK UNNEEDED, same version exists in internal repository
449/1649EBcoexpress 1.26.0John A. Dawson OK  OK  WARNINGS UNNEEDED, same version exists in internal repository
450/1649EBImage 4.24.0Andrzej Oleś OK  OK  OK UNNEEDED, same version exists in internal repository
451/1649EBSEA 1.10.0Arfa Mehmood OK  OK  OK UNNEEDED, same version exists in internal repository
452/1649EBSeq 1.22.1Ning Leng OK  OK  OK UNNEEDED, same version exists in internal repository
453/1649EBSeqHMM 1.16.1Ning Leng OK  OK  OK UNNEEDED, same version exists in internal repository
454/1649ecolitk 1.54.0Laurent Gautier OK  OK  WARNINGS UNNEEDED, same version exists in internal repository
455/1649EDASeq 2.16.3Davide Risso OK  OK  OK UNNEEDED, same version exists in internal repository
456/1649EDDA 1.20.1Chia Kuan Hui Burton , Niranjan Nagarajan OK  OK  WARNINGS UNNEEDED, same version exists in internal repository
457/1649edge 2.14.0John D. Storey , Andrew J. Bass OK  OK  OK UNNEEDED, same version exists in internal repository
458/1649edgeR 3.24.3Yunshun Chen , Aaron Lun , Mark Robinson , Davis McCarthy , Gordon Smyth OK  OK  OK UNNEEDED, same version exists in internal repository
459/1649eegc 1.8.1Xiaoyuan Zhou OK  OK  WARNINGS UNNEEDED, same version exists in internal repository
460/1649EGAD 1.10.0Sara Ballouz OK  OK  OK UNNEEDED, same version exists in internal repository
461/1649EGSEA 1.10.1Monther Alhamdoosh OK  OK  OK UNNEEDED, same version exists in internal repository
462/1649eiR 1.22.0Thomas Girke OK  OK  OK UNNEEDED, same version exists in internal repository
463/1649eisa 1.34.0Gabor Csardi OK  OK  OK UNNEEDED, same version exists in internal repository
464/1649ELBOW 1.18.1Graham Alvare , Xiangli Zhang OK  OK  OK UNNEEDED, same version exists in internal repository
465/1649ELMER 2.6.3Tiago Chedraoui Silva OK  OK  WARNINGS UNNEEDED, same version exists in internal repository
466/1649EMDomics 2.12.0Sadhika Malladi and Daniel Schmolze OK  OK  OK UNNEEDED, same version exists in internal repository
467/1649EmpiricalBrownsMethod 1.10.0David Gibbs OK  OK  OK UNNEEDED, same version exists in internal repository
468/1649ENCODExplorer 2.8.0Charles Joly Beauparlant OK  OK  OK UNNEEDED, same version exists in internal repository
469/1649EnhancedVolcano 1.0.1Kevin Blighe OK  OK  OK UNNEEDED, same version exists in internal repository
470/1649ENmix 1.18.2Zongli Xu OK  OK  OK UNNEEDED, same version exists in internal repository
471/1649EnrichedHeatmap 1.12.0Zuguang Gu OK  OK  WARNINGS UNNEEDED, same version exists in internal repository
472/1649EnrichmentBrowser 2.12.1Ludwig Geistlinger OK  OK  OK UNNEEDED, same version exists in internal repository
473/1649enrichplot 1.2.0Guangchuang Yu OK  OK  OK UNNEEDED, same version exists in internal repository
474/1649ensembldb 2.6.8Johannes Rainer OK  OK  OK UNNEEDED, same version exists in internal repository
475/1649ensemblVEP 1.24.2Bioconductor Package Maintainer OK  OK  OK UNNEEDED, same version exists in internal repository
476/1649ENVISIONQuery 1.30.0Alex Lisovich , Roger Day OK  OK  OK UNNEEDED, same version exists in internal repository
477/1649EpiDISH 1.4.1Shijie Charles Zheng OK  OK  OK UNNEEDED, same version exists in internal repository
478/1649epigenomix 1.22.0Hans-Ulrich Klein OK  OK  OK UNNEEDED, same version exists in internal repository
479/1649epiNEM 1.6.0Martin Pirkl OK  OK  OK UNNEEDED, same version exists in internal repository
480/1649epivizr 2.12.0Hector Corrada Bravo OK  OK  OK UNNEEDED, same version exists in internal repository
481/1649epivizrChart 1.4.0Hector Corrada Bravo OK  OK  OK UNNEEDED, same version exists in internal repository
482/1649epivizrData 1.10.0Hector Corrada Bravo OK  OK  OK UNNEEDED, same version exists in internal repository
483/1649epivizrServer 1.10.0Hector Corrada Bravo OK  OK  OK UNNEEDED, same version exists in internal repository
484/1649epivizrStandalone 1.10.0Hector Corrada Bravo OK  OK  OK UNNEEDED, same version exists in internal repository
485/1649erccdashboard 1.16.1Sarah Munro OK  OK  OK UNNEEDED, same version exists in internal repository
486/1649erma 0.14.0VJ Carey OK  OK  OK UNNEEDED, same version exists in internal repository
487/1649ERSSA 1.0.1Zixuan Shao OK  OK  OK UNNEEDED, same version exists in internal repository
488/1649esATAC 1.4.5Zheng Wei OK  OK  OK UNNEEDED, same version exists in internal repository
489/1649esetVis 1.8.0Laure Cougnaud OK  OK  OK UNNEEDED, same version exists in internal repository
490/1649eudysbiome 1.12.0Xiaoyuan Zhou OK  OK  OK UNNEEDED, same version exists in internal repository
491/1649EventPointer 2.0.1Juan Pablo Romero OK  OK  OK UNNEEDED, same version exists in internal repository
492/1649ExCluster 1.0.1R. Matthew Tanner OK  OK  OK UNNEEDED, same version exists in internal repository
493/1649ExiMiR 2.24.0Sylvain Gubian OK  OK  OK UNNEEDED, same version exists in internal repository
494/1649exomeCopy 1.28.0Michael Love OK  OK  OK UNNEEDED, same version exists in internal repository
495/1649exomePeak 2.16.0Lin Zhang , Lian Liu , Jia Meng OK  OK  OK UNNEEDED, same version exists in internal repository
496/1649ExperimentHub 1.8.0Bioconductor Package Maintainer OK  OK  OK UNNEEDED, same version exists in internal repository
497/1649ExperimentHubData 1.8.0Bioconductor Package Maintainer OK  OK  OK UNNEEDED, same version exists in internal repository
498/1649explorase 1.46.0Michael Lawrence OK  OK  OK UNNEEDED, same version exists in internal repository
499/1649ExpressionAtlas 1.10.0Suhaib Mohammed OK  OK  OK UNNEEDED, same version exists in internal repository
500/1649ExpressionView 1.34.0Gabor Csardi OK  OK  OK UNNEEDED, same version exists in internal repository
F
ABCDEFGHIJKLMNOPQRSTUVWXYZ
PackageMaintainerINSTALLBUILDCHECKBUILD BIN
501/1649fabia 2.28.0Sepp Hochreiter OK  OK  OK UNNEEDED, same version exists in internal repository
502/1649facopy 1.16.0David Mosen-Ansorena ERROR  ERROR  skipped 
503/1649factDesign 1.58.0Denise Scholtens OK  OK  OK UNNEEDED, same version exists in internal repository
504/1649FamAgg 1.10.4Johannes Rainer OK  OK  OK UNNEEDED, same version exists in internal repository
505/1649farms 1.34.0Djork-Arne Clevert OK  OK  OK UNNEEDED, same version exists in internal repository
506/1649fastLiquidAssociation 1.18.0Tina Gunderson OK  OK  WARNINGS UNNEEDED, same version exists in internal repository
507/1649FastqCleaner 1.0.0Leandro Roser OK  OK  OK UNNEEDED, same version exists in internal repository
508/1649fastseg 1.28.0Guenter Klambauer OK  OK  OK UNNEEDED, same version exists in internal repository
509/1649FCBF 1.0.1Tiago Lubiana OK  OK  OK UNNEEDED, same version exists in internal repository
510/1649fCCAC 1.8.0Pedro Madrigal OK  OK  OK UNNEEDED, same version exists in internal repository
511/1649fCI 1.12.0Shaojun Tang OK  OK  OK UNNEEDED, same version exists in internal repository
512/1649fdrame 1.54.0Effi Kenigsberg OK  OK  OK UNNEEDED, same version exists in internal repository
513/1649FELLA 1.2.0Sergio Picart-Armada OK  OK  OK UNNEEDED, same version exists in internal repository
514/1649FEM 3.10.0Zhen Yang OK  OK  WARNINGS UNNEEDED, same version exists in internal repository
515/1649ffpe 1.26.0Levi Waldron OK  OK  OK UNNEEDED, same version exists in internal repository
516/1649FGNet 3.16.0Sara Aibar OK  OK  OK UNNEEDED, same version exists in internal repository
517/1649fgsea 1.8.0Alexey Sergushichev OK  OK  OK UNNEEDED, same version exists in internal repository
518/1649FindMyFriends 1.12.0Thomas Lin Pedersen OK  OK  WARNINGS UNNEEDED, same version exists in internal repository
519/1649FISHalyseR 1.16.0Karesh Arunakirinathan OK  OK  WARNINGS UNNEEDED, same version exists in internal repository
520/1649FitHiC 1.8.0Ruyu Tan OK  OK  OK UNNEEDED, same version exists in internal repository
521/1649flagme 1.38.1Mark Robinson , Riccardo Romoli OK  OK  WARNINGS UNNEEDED, same version exists in internal repository
522/1649flipflop 1.20.0Elsa Bernard OK  OK  WARNINGS UNNEEDED, same version exists in internal repository
523/1649flowAI 1.12.7Gianni Monaco OK  OK  OK UNNEEDED, same version exists in internal repository
524/1649flowBeads 1.20.1Nikolas Pontikos OK  OK  OK UNNEEDED, same version exists in internal repository
525/1649flowBin 1.18.1Kieran O'Neill OK  OK  OK UNNEEDED, same version exists in internal repository
526/1649flowcatchR 1.16.0Federico Marini OK  OK  OK UNNEEDED, same version exists in internal repository
527/1649flowCHIC 1.16.1Author: Joachim Schumann OK  OK  OK UNNEEDED, same version exists in internal repository
528/1649flowCL 1.20.1Justin Meskas OK  OK  OK UNNEEDED, same version exists in internal repository
529/1649flowClean 1.20.0Kipper Fletez-Brant OK  OK  WARNINGS UNNEEDED, same version exists in internal repository
530/1649flowClust 3.20.1Greg Finak , Mike Jiang OK  OK  OK UNNEEDED, same version exists in internal repository
531/1649flowCore 1.48.1Mike Jiang OK  OK  OK UNNEEDED, same version exists in internal repository
532/1649flowCyBar 1.18.1Joachim Schumann OK  OK  OK UNNEEDED, same version exists in internal repository
533/1649flowDensity 1.16.1Mehrnoush Malek OK  OK  WARNINGS UNNEEDED, same version exists in internal repository
534/1649flowFit 1.20.1Davide Rambaldi OK  OK  OK UNNEEDED, same version exists in internal repository
535/1649flowFP 1.40.1Herb Holyst OK  OK  OK UNNEEDED, same version exists in internal repository
536/1649flowMap 1.20.1Chiaowen Joyce Hsiao OK  OK  WARNINGS UNNEEDED, same version exists in internal repository
537/1649flowMatch 1.18.1Ariful Azad OK  OK  OK UNNEEDED, same version exists in internal repository
538/1649flowMeans 1.42.1Nima Aghaeepour OK  OK  OK UNNEEDED, same version exists in internal repository
539/1649flowMerge 2.30.1Greg Finak OK  OK  OK UNNEEDED, same version exists in internal repository
540/1649flowPeaks 1.28.1Yongchao Ge OK  OK  OK UNNEEDED, same version exists in internal repository
541/1649flowPloidy 1.8.0Tyler Smith OK  OK  OK UNNEEDED, same version exists in internal repository
542/1649flowPlots 1.30.1N. Hawkins OK  OK  OK UNNEEDED, same version exists in internal repository
543/1649flowQ 1.42.0Mike Jiang OK  ERROR  skipped 
544/1649flowQB 2.10.1Josef Spidlen OK  OK  OK UNNEEDED, same version exists in internal repository
545/1649FlowRepositoryR 1.14.1Josef Spidlen OK  OK  OK UNNEEDED, same version exists in internal repository
546/1649FlowSOM 1.14.1Sofie Van Gassen OK  OK  OK UNNEEDED, same version exists in internal repository
547/1649flowStats 3.40.1Greg Finak and Mike Jiang OK  OK  OK UNNEEDED, same version exists in internal repository
548/1649flowTime 1.6.1R. Clay Wright OK  OK  OK UNNEEDED, same version exists in internal repository
549/1649flowTrans 1.34.1Greg Finak OK  OK  OK UNNEEDED, same version exists in internal repository
550/1649flowType 2.20.1Nima Aghaeepour OK  OK  OK UNNEEDED, same version exists in internal repository
551/1649flowUtils 1.46.1Josef Spidlen OK  OK  OK UNNEEDED, same version exists in internal repository
552/1649flowViz 1.46.1Mike Jiang OK  OK  OK UNNEEDED, same version exists in internal repository
553/1649flowVS 1.14.1Ariful Azad OK  OK  OK UNNEEDED, same version exists in internal repository
554/1649flowWorkspace 3.30.2Greg Finak ,Mike Jiang OK  OK  WARNINGS UNNEEDED, same version exists in internal repository
555/1649fmcsR 1.24.0Thomas Girke OK  OK  OK UNNEEDED, same version exists in internal repository
556/1649focalCall 1.16.0Oscar Krijgsman OK  OK  OK UNNEEDED, same version exists in internal repository
557/1649FoldGO 1.0.2Daniil Wiebe OK  OK  OK UNNEEDED, same version exists in internal repository
558/1649FourCSeq 1.16.0Felix A. Klein OK  OK  WARNINGS UNNEEDED, same version exists in internal repository
559/1649FRGEpistasis 1.18.0Futao Zhang OK  OK  OK UNNEEDED, same version exists in internal repository
560/1649frma 1.34.0Matthew N. McCall OK  OK  OK UNNEEDED, same version exists in internal repository
561/1649frmaTools 1.34.0Matthew N. McCall OK  OK  OK UNNEEDED, same version exists in internal repository
562/1649FunChIP 1.8.0Alice Parodi OK  OK  WARNINGS UNNEEDED, same version exists in internal repository
563/1649FunciSNP 1.26.0Simon G. Coetzee OK  OK  OK UNNEEDED, same version exists in internal repository
564/1649funtooNorm 1.6.0Kathleen Klein OK  OK  OK UNNEEDED, same version exists in internal repository
G
ABCDEFGHIJKLMNOPQRSTUVWXYZ
PackageMaintainerINSTALLBUILDCHECKBUILD BIN
565/1649GA4GHclient 1.6.0Welliton Souza OK  OK  OK UNNEEDED, same version exists in internal repository
566/1649GA4GHshiny 1.4.0Welliton Souza OK  OK  OK UNNEEDED, same version exists in internal repository
567/1649gaga 2.28.1David Rossell OK  OK  OK UNNEEDED, same version exists in internal repository
568/1649gage 2.32.1Weijun Luo OK  OK  WARNINGS UNNEEDED, same version exists in internal repository
569/1649gaggle 1.50.0Christopher Bare OK  OK  OK UNNEEDED, same version exists in internal repository
570/1649gaia 2.26.0S. Morganella OK  OK  OK UNNEEDED, same version exists in internal repository
571/1649GAprediction 1.8.1Jon Bohlin OK  OK  OK UNNEEDED, same version exists in internal repository
572/1649garfield 1.10.0Valentina Iotchkova OK  OK  OK UNNEEDED, same version exists in internal repository
573/1649GARS 1.2.0Mattia Chiesa OK  OK  OK UNNEEDED, same version exists in internal repository
574/1649GateFinder 1.2.1Nima Aghaeepour OK  OK  OK UNNEEDED, same version exists in internal repository
575/1649gaucho 1.18.0Alex Murison OK  OK  ERROR 
576/1649gcapc 1.6.0Mingxiang Teng OK  OK  OK UNNEEDED, same version exists in internal repository
577/1649gcatest 1.12.0Wei Hao , John D. Storey OK  OK  OK UNNEEDED, same version exists in internal repository
578/1649gCMAP 1.26.0Thomas Sandmann OK  OK  OK UNNEEDED, same version exists in internal repository
579/1649gCMAPWeb 1.22.0Thomas Sandmann OK  OK  OK UNNEEDED, same version exists in internal repository
580/1649gCrisprTools 1.10.1Peter Haverty OK  OK  OK UNNEEDED, same version exists in internal repository
581/1649gcrma 2.54.0Z. Wu OK  OK  OK UNNEEDED, same version exists in internal repository
582/1649GDCRNATools 1.2.1Ruidong Li OK  OK  OK UNNEEDED, same version exists in internal repository
583/1649GDSArray 1.2.0Qian Liu OK  OK  OK UNNEEDED, same version exists in internal repository
584/1649gdsfmt 1.18.1Xiuwen Zheng OK  OK  OK UNNEEDED, same version exists in internal repository
585/1649geecc 1.16.1Markus Boenn OK  OK  OK UNNEEDED, same version exists in internal repository
586/1649GEM 1.8.0Hong Pan OK  OK  OK UNNEEDED, same version exists in internal repository
587/1649genArise 1.58.0IFC Development Team OK  OK  WARNINGS UNNEEDED, same version exists in internal repository
588/1649genbankr 1.10.0Gabriel Becker OK  OK  OK UNNEEDED, same version exists in internal repository
589/1649GeneAccord 1.0.0Ariane L. Moore OK  OK  OK UNNEEDED, same version exists in internal repository
590/1649GeneAnswers 2.24.0Lei Huang and Gang Feng OK  OK  WARNINGS UNNEEDED, same version exists in internal repository
591/1649geneAttribution 1.8.0Arthur Wuster OK  OK  OK UNNEEDED, same version exists in internal repository
592/1649GeneBreak 1.12.0Evert van den Broek OK  OK  OK UNNEEDED, same version exists in internal repository
593/1649geneClassifiers 1.6.0R Kuiper OK  OK  OK UNNEEDED, same version exists in internal repository
594/1649GeneExpressionSignature 1.28.0Yang Cao , Fei Li OK  OK  OK UNNEEDED, same version exists in internal repository
595/1649genefilter 1.64.0Bioconductor Package Maintainer OK  OK  WARNINGS UNNEEDED, same version exists in internal repository
596/1649genefu 2.14.0Benjamin Haibe-Kains , Markus Schroeder OK  OK  WARNINGS UNNEEDED, same version exists in internal repository
597/1649GeneGA 1.32.0Zhenpeng Li OK  OK  OK UNNEEDED, same version exists in internal repository
598/1649GeneGeneInteR 1.8.0Mathieu Emily , Magalie Houee-Bigot OK  OK  OK UNNEEDED, same version exists in internal repository
599/1649GeneMeta 1.54.0Bioconductor Package Maintainer OK  OK  OK UNNEEDED, same version exists in internal repository
600/1649GeneNetworkBuilder 1.24.1Jianhong Ou OK  OK  OK UNNEEDED, same version exists in internal repository
601/1649GeneOverlap 1.18.0Li Shen, Mount Sinai OK  OK  OK UNNEEDED, same version exists in internal repository
602/1649geneplast 1.8.0Mauro Castro OK  OK  OK UNNEEDED, same version exists in internal repository
603/1649geneplotter 1.60.0Bioconductor Package Maintainer OK  OK  OK UNNEEDED, same version exists in internal repository
604/1649geneRecommender 1.54.0Greg Hather OK  OK  OK UNNEEDED, same version exists in internal repository
605/1649GeneRegionScan 1.38.0Lasse Folkersen OK  OK  OK UNNEEDED, same version exists in internal repository
606/1649geneRxCluster 1.18.0Charles Berry OK  OK  OK UNNEEDED, same version exists in internal repository
607/1649GeneSelectMMD 2.26.0Weiliang Qiu OK  OK  WARNINGS UNNEEDED, same version exists in internal repository
608/1649GeneSelector 2.32.0Martin Slawski OK  OK  WARNINGS UNNEEDED, same version exists in internal repository
609/1649GENESIS 2.12.4Stephanie M. Gogarten OK  OK  OK UNNEEDED, same version exists in internal repository
610/1649GeneStructureTools 1.2.1Beth Signal OK  OK  OK UNNEEDED, same version exists in internal repository
611/1649geNetClassifier 1.22.0Sara Aibar OK  OK  OK UNNEEDED, same version exists in internal repository
612/1649GeneticsDesign 1.50.0The R Genetics Project OK  OK  OK UNNEEDED, same version exists in internal repository
613/1649GeneticsPed 1.44.0David Henderson OK  OK  OK UNNEEDED, same version exists in internal repository
614/1649geneXtendeR 1.8.0Bohdan Khomtchouk OK  OK  OK UNNEEDED, same version exists in internal repository
615/1649GENIE3 1.4.3Van Anh Huynh-Thu OK  OK  OK UNNEEDED, same version exists in internal repository
616/1649genoCN 1.34.0Wei Sun OK  OK  OK UNNEEDED, same version exists in internal repository
617/1649GenoGAM 2.0.3Georg Stricker OK  OK  WARNINGS UNNEEDED, same version exists in internal repository
618/1649genomation 1.14.0Altuna Akalin , Vedran Franke OK  OK  OK UNNEEDED, same version exists in internal repository
619/1649GenomeGraphs 1.42.0Steffen Durinck OK  OK  OK UNNEEDED, same version exists in internal repository
620/1649GenomeInfoDb 1.18.2Bioconductor Package Maintainer OK  OK  OK UNNEEDED, same version exists in internal repository
621/1649genomeIntervals 1.38.0Julien Gagneur OK  OK  OK UNNEEDED, same version exists in internal repository
622/1649genomes 3.12.0Chris Stubben OK  OK  OK UNNEEDED, same version exists in internal repository
623/1649GenomicAlignments 1.18.1Bioconductor Package Maintainer OK  OK  WARNINGS UNNEEDED, same version exists in internal repository
624/1649GenomicDataCommons 1.6.0Sean Davis OK  OK  WARNINGS UNNEEDED, same version exists in internal repository
625/1649GenomicFeatures 1.34.8Bioconductor Package Maintainer OK  OK  OK UNNEEDED, same version exists in internal repository
626/1649GenomicFiles 1.18.0Bioconductor Package Maintainer OK  OK  OK UNNEEDED, same version exists in internal repository
627/1649GenomicInteractions 1.16.0Liz Ing-Simmons OK  OK  OK UNNEEDED, same version exists in internal repository
628/1649GenomicRanges 1.34.0Bioconductor Package Maintainer OK  OK  WARNINGS UNNEEDED, same version exists in internal repository
629/1649GenomicScores 1.6.0Robert Castelo OK  OK  WARNINGS UNNEEDED, same version exists in internal repository
630/1649GenomicTuples 1.16.0Peter Hickey OK  OK  OK UNNEEDED, same version exists in internal repository
631/1649Genominator 1.36.0James Bullard OK  OK  OK UNNEEDED, same version exists in internal repository
632/1649genoset 1.38.0Peter M. Haverty OK  OK  OK UNNEEDED, same version exists in internal repository
633/1649genotypeeval 1.14.0Jennifer Tom OK  OK  OK UNNEEDED, same version exists in internal repository
634/1649genphen 1.10.3Simo Kitanovski OK  OK  OK UNNEEDED, same version exists in internal repository
635/1649GenRank 1.10.0Chakravarthi Kanduri OK  OK  OK UNNEEDED, same version exists in internal repository
636/1649GenVisR 1.14.2Zachary Skidmore OK  OK  ERROR 
637/1649GEOmetadb 1.44.0Jack Zhu OK  OK  OK UNNEEDED, same version exists in internal repository
638/1649GEOquery 2.50.5Sean Davis OK  OK  OK UNNEEDED, same version exists in internal repository
639/1649GEOsubmission 1.34.0Alexandre Kuhn OK  OK  OK UNNEEDED, same version exists in internal repository
640/1649gep2pep 1.2.0Francesco Napolitano OK  OK  OK UNNEEDED, same version exists in internal repository
641/1649gespeR 1.14.1Fabian Schmich OK  OK  WARNINGS UNNEEDED, same version exists in internal repository
642/1649GEWIST 1.26.0Wei Q. Deng OK  OK  OK UNNEEDED, same version exists in internal repository
643/1649GGBase 3.44.0VJ Carey OK  OK  OK UNNEEDED, same version exists in internal repository
644/1649ggbio 1.30.0Michael Lawrence OK  OK  WARNINGS UNNEEDED, same version exists in internal repository
645/1649ggcyto 1.10.2Mike Jiang OK  OK  OK UNNEEDED, same version exists in internal repository
646/1649GGtools 5.18.0VJ Carey OK  OK  WARNINGS UNNEEDED, same version exists in internal repository
647/1649ggtree 1.14.6Guangchuang Yu OK  OK  OK UNNEEDED, same version exists in internal repository
648/1649GIGSEA 1.0.0Shijia Zhu OK  OK  OK UNNEEDED, same version exists in internal repository
649/1649girafe 1.34.0J. Toedling OK  OK  OK UNNEEDED, same version exists in internal repository
650/1649GISPA 1.6.0Bhakti Dwivedi OK  OK  OK UNNEEDED, same version exists in internal repository
651/1649GLAD 2.46.0Philippe Hupe OK  OK  OK UNNEEDED, same version exists in internal repository
652/1649Glimma 1.10.1Shian Su OK  OK  OK UNNEEDED, same version exists in internal repository
653/1649glmSparseNet 1.0.0André Veríssimo OK  OK  OK UNNEEDED, same version exists in internal repository
654/1649GlobalAncova 4.0.0Manuela Hummel OK  OK  OK UNNEEDED, same version exists in internal repository
655/1649globalSeq 1.10.1Armin Rauschenberger OK  OK  OK UNNEEDED, same version exists in internal repository
656/1649globaltest 5.36.0Jelle Goeman OK  OK  OK UNNEEDED, same version exists in internal repository
657/1649gmapR 1.24.2Michael Lawrence OK  OK  WARNINGS UNNEEDED, same version exists in internal repository
658/1649GMRP 1.10.1Yuan-De Tan OK  OK  WARNINGS UNNEEDED, same version exists in internal repository
659/1649GOexpress 1.16.1Kevin Rue-Albrecht OK  OK  OK UNNEEDED, same version exists in internal repository
660/1649GOfuncR 1.2.0Steffi Grote OK  OK  OK UNNEEDED, same version exists in internal repository
661/1649GOFunction 1.30.0Jing Wang OK  OK  OK UNNEEDED, same version exists in internal repository
662/1649GoogleGenomics 2.4.0Siddhartha Bagaria OK  ERROR  skipped 
663/1649GOpro 1.8.0Lidia Chrabaszcz OK  OK  WARNINGS UNNEEDED, same version exists in internal repository
664/1649goProfiles 1.44.0Alex Sanchez OK  OK  OK UNNEEDED, same version exists in internal repository
665/1649GOSemSim 2.8.0Guangchuang Yu OK  OK  OK UNNEEDED, same version exists in internal repository
666/1649goseq 1.34.1Nadia Davidson , Anthony Hawkins OK  OK  OK UNNEEDED, same version exists in internal repository
667/1649GOSim 1.20.0Holger Froehlich OK  OK  OK UNNEEDED, same version exists in internal repository
668/1649goSTAG 1.6.1Brian D. Bennett OK  OK  OK UNNEEDED, same version exists in internal repository
669/1649GOstats 2.48.0Bioconductor Package Maintainer OK  OK  OK UNNEEDED, same version exists in internal repository
670/1649GOsummaries 2.18.0Raivo Kolde OK  OK  OK UNNEEDED, same version exists in internal repository
671/1649GOTHiC 1.18.1Borbala Mifsud OK  OK  WARNINGS UNNEEDED, same version exists in internal repository
672/1649goTools 1.56.0Agnes Paquet OK  OK  OK UNNEEDED, same version exists in internal repository
673/1649gpart 1.0.3Sun Ah Kim OK  OK  WARNINGS UNNEEDED, same version exists in internal repository
674/1649gpls 1.54.0Bioconductor Package Maintainer OK  OK  WARNINGS UNNEEDED, same version exists in internal repository
675/1649gprege 1.26.0Alfredo Kalaitzis OK  OK  OK UNNEEDED, same version exists in internal repository
676/1649gQTLBase 1.14.0VJ Carey OK  OK  OK UNNEEDED, same version exists in internal repository
677/1649gQTLstats 1.14.1VJ Carey OK  OK  OK UNNEEDED, same version exists in internal repository
678/1649graph 1.60.0Bioconductor Package Maintainer OK  OK  OK UNNEEDED, same version exists in internal repository
679/1649GraphAlignment 1.46.0Joern P. Meier OK  OK  OK UNNEEDED, same version exists in internal repository
680/1649GraphAT 1.54.0Thomas LaFramboise OK  OK  OK UNNEEDED, same version exists in internal repository
681/1649graphite 1.28.2Gabriele Sales OK  OK  OK UNNEEDED, same version exists in internal repository
682/1649GraphPAC 1.24.0Gregory Ryslik OK  OK  OK UNNEEDED, same version exists in internal repository
683/1649GRENITS 1.34.0Edward Morrissey OK  OK  OK UNNEEDED, same version exists in internal repository
684/1649GreyListChIP 1.14.0Gordon Brown OK  OK  OK UNNEEDED, same version exists in internal repository
685/1649GRmetrics 1.8.1Nicholas Clark , Mario Medvedovic OK  OK  OK UNNEEDED, same version exists in internal repository
686/1649groHMM 1.16.0Anusha Nagari , Tulip Nandu , W. Lee Kraus OK  OK  OK UNNEEDED, same version exists in internal repository
687/1649GRridge 1.6.0Mark A. van de Wiel OK  OK  WARNINGS UNNEEDED, same version exists in internal repository
688/1649GSALightning 1.10.0Billy Heung Wing Chang OK  OK  OK UNNEEDED, same version exists in internal repository
689/1649GSAR 1.16.0Yasir Rahmatallah , Galina Glazko OK  OK  OK UNNEEDED, same version exists in internal repository
690/1649GSCA 2.12.0Zhicheng Ji OK  OK  OK UNNEEDED, same version exists in internal repository
691/1649GSEABase 1.44.0Bioconductor Package Maintainer OK  OK  OK UNNEEDED, same version exists in internal repository
692/1649GSEABenchmarkeR 1.2.1Ludwig Geistlinger OK  OK  OK UNNEEDED, same version exists in internal repository
693/1649GSEAlm 1.42.0Assaf Oron OK  OK  OK UNNEEDED, same version exists in internal repository
694/1649gsean 1.2.1Dongmin Jung OK  OK  OK UNNEEDED, same version exists in internal repository
695/1649GSReg 1.16.0Bahman Afsari , Elana J. Fertig OK  OK  WARNINGS UNNEEDED, same version exists in internal repository
696/1649GSRI 2.30.0Julian Gehring OK  OK  OK UNNEEDED, same version exists in internal repository
697/1649GSVA 1.30.0Justin Guinney OK  OK  OK UNNEEDED, same version exists in internal repository
698/1649gtrellis 1.14.0Zuguang Gu OK  OK  OK UNNEEDED, same version exists in internal repository
699/1649GUIDEseq 1.12.1Lihua Julie Zhu OK  OK  OK UNNEEDED, same version exists in internal repository
700/1649Guitar 1.20.1Jia Meng OK  OK  OK UNNEEDED, same version exists in internal repository
701/1649Gviz 1.26.5Robert Ivanek OK  OK  OK UNNEEDED, same version exists in internal repository
702/1649gwascat 2.14.0VJ Carey OK  OK  OK UNNEEDED, same version exists in internal repository
703/1649GWASTools 1.28.0Stephanie M. Gogarten OK  OK  OK UNNEEDED, same version exists in internal repository
704/1649gwasurvivr 1.0.0Abbas Rizvi OK  OK  OK UNNEEDED, same version exists in internal repository
H
ABCDEFGHIJKLMNOPQRSTUVWXYZ
PackageMaintainerINSTALLBUILDCHECKBUILD BIN
705/1649h5vc 2.16.0Paul Theodor Pyl OK  OK  OK UNNEEDED, same version exists in internal repository
706/1649hapFabia 1.24.0Sepp Hochreiter OK  OK  OK UNNEEDED, same version exists in internal repository
707/1649Harman 1.10.0Jason Ross OK  OK  OK UNNEEDED, same version exists in internal repository
708/1649Harshlight 1.54.0Maurizio Pellegrino OK  OK  OK UNNEEDED, same version exists in internal repository
709/1649HDF5Array 1.10.1Hervé Pagès OK  OK  OK UNNEEDED, same version exists in internal repository
710/1649HDTD 1.16.0Anestis Touloumis OK  OK  OK UNNEEDED, same version exists in internal repository
711/1649heatmaps 1.6.0Malcolm Perry OK  OK  OK UNNEEDED, same version exists in internal repository
712/1649Heatplus 2.28.0Alexander Ploner OK  OK  OK UNNEEDED, same version exists in internal repository
713/1649HelloRanges 1.8.0Michael Lawrence OK  OK  OK UNNEEDED, same version exists in internal repository
714/1649HELP 1.40.0Reid F. Thompson OK  OK  OK UNNEEDED, same version exists in internal repository
715/1649HEM 1.54.0HyungJun Cho OK  OK  OK UNNEEDED, same version exists in internal repository
716/1649hiAnnotator 1.16.0Nirav V Malani OK  OK  OK UNNEEDED, same version exists in internal repository
717/1649HIBAG 1.18.1Xiuwen Zheng OK  OK  OK UNNEEDED, same version exists in internal repository
718/1649HiCBricks 1.0.0Koustav Pal OK  OK  OK UNNEEDED, same version exists in internal repository
719/1649HiCcompare 1.4.0John Stansfield OK  OK  OK UNNEEDED, same version exists in internal repository
720/1649hicrep 1.6.0Tao Yang OK  OK  OK UNNEEDED, same version exists in internal repository
721/1649hierGWAS 1.12.0Laura Buzdugan OK  OK  OK UNNEEDED, same version exists in internal repository
722/1649hierinf 1.0.0Claude Renaux OK  OK  OK UNNEEDED, same version exists in internal repository
723/1649HilbertCurve 1.12.0Zuguang Gu OK  OK  OK UNNEEDED, same version exists in internal repository
724/1649HilbertVis 1.40.0Simon Anders OK  OK  OK UNNEEDED, same version exists in internal repository
725/1649HilbertVisGUI 1.40.0Simon Anders OK  OK  WARNINGS UNNEEDED, same version exists in internal repository
726/1649hipathia 1.4.1Marta R. Hidalgo OK  OK  OK UNNEEDED, same version exists in internal repository
727/1649hiReadsProcessor 1.18.0Nirav V Malani OK  OK  OK UNNEEDED, same version exists in internal repository
728/1649HIREewas 1.0.2Xiangyu Luo OK  OK  OK UNNEEDED, same version exists in internal repository
729/1649HiTC 1.26.0Nicolas Servant OK  OK  OK UNNEEDED, same version exists in internal repository
730/1649hmdbQuery 1.2.0VJ Carey OK  OK  OK UNNEEDED, same version exists in internal repository
731/1649HMMcopy 1.24.0Daniel Lai , Sohrab Shah OK  OK  OK UNNEEDED, same version exists in internal repository
732/1649hopach 2.42.0Katherine S. Pollard OK  OK  OK UNNEEDED, same version exists in internal repository
733/1649HPAanalyze 1.0.0Anh Nhat Tran OK  OK  OK UNNEEDED, same version exists in internal repository
734/1649hpar 1.24.0Laurent Gatto OK  OK  OK UNNEEDED, same version exists in internal repository
735/1649HTqPCR 1.36.0Heidi Dvinge OK  OK  OK UNNEEDED, same version exists in internal repository
736/1649HTSanalyzeR 2.34.1Xin Wang OK  OK  WARNINGS UNNEEDED, same version exists in internal repository
737/1649HTSeqGenie 4.12.0Jens Reeder OK  OK  OK UNNEEDED, same version exists in internal repository
738/1649htSeqTools 1.30.0Oscar Reina OK  OK  WARNINGS UNNEEDED, same version exists in internal repository
739/1649HTSFilter 1.22.1Andrea Rau OK  OK  OK UNNEEDED, same version exists in internal repository
740/1649HybridMTest 1.26.0Demba Fofana OK  OK  OK UNNEEDED, same version exists in internal repository
741/1649hyperdraw 1.34.0Paul Murrell OK  OK  OK UNNEEDED, same version exists in internal repository
742/1649hypergraph 1.54.0Bioconductor Package Maintainer OK  OK  OK UNNEEDED, same version exists in internal repository
I
ABCDEFGHIJKLMNOPQRSTUVWXYZ
PackageMaintainerINSTALLBUILDCHECKBUILD BIN
743/1649iASeq 1.26.1Yingying Wei OK  OK  OK UNNEEDED, same version exists in internal repository
744/1649iasva 1.0.1Donghyung Lee , Anthony Cheng OK  OK  OK UNNEEDED, same version exists in internal repository
745/1649iBBiG 1.26.0Aedin Culhane OK  OK  OK UNNEEDED, same version exists in internal repository
746/1649ibh 1.30.0Kircicegi Korkmaz OK  OK  OK UNNEEDED, same version exists in internal repository
747/1649iBMQ 1.22.0Greg Imholte OK  OK  OK UNNEEDED, same version exists in internal repository
748/1649iCARE 1.10.3Bill Wheeler OK  OK  OK UNNEEDED, same version exists in internal repository
749/1649Icens 1.54.0Bioconductor Package Maintainer OK  OK  OK UNNEEDED, same version exists in internal repository
750/1649icetea 1.0.1Vivek Bhardwaj OK  OK  ERROR 
751/1649iCheck 1.12.0Weiliang Qiu OK  OK  OK UNNEEDED, same version exists in internal repository
752/1649iChip 1.36.0Qianxing Mo OK  OK  OK UNNEEDED, same version exists in internal repository
753/1649iClusterPlus 1.18.0Qianxing Mo , Ronglai Shen OK  OK  OK UNNEEDED, same version exists in internal repository
754/1649iCNV 1.2.1Zilu Zhou OK  OK  WARNINGS UNNEEDED, same version exists in internal repository
755/1649iCOBRA 1.10.0Charlotte Soneson OK  OK  OK UNNEEDED, same version exists in internal repository
756/1649ideal 1.6.1Federico Marini OK  OK  OK UNNEEDED, same version exists in internal repository
757/1649IdeoViz 1.18.0Shraddha Pai OK  OK  WARNINGS UNNEEDED, same version exists in internal repository
758/1649idiogram 1.58.0Karl J. Dykema OK  OK  OK UNNEEDED, same version exists in internal repository
759/1649IdMappingAnalysis 1.26.0Alex Lisovich , Roger Day OK  OK  OK UNNEEDED, same version exists in internal repository
760/1649IdMappingRetrieval 1.30.0Alex Lisovich , Roger Day OK  OK  OK UNNEEDED, same version exists in internal repository
761/1649iGC 1.12.0Liang-Bo Wang OK  OK  OK UNNEEDED, same version exists in internal repository
762/1649igvR 1.2.0Paul Shannon OK  OK  OK UNNEEDED, same version exists in internal repository
763/1649IHW 1.10.1Nikos Ignatiadis OK  OK  OK UNNEEDED, same version exists in internal repository
764/1649illuminaio 0.24.0Kasper Daniel Hansen OK  OK  OK UNNEEDED, same version exists in internal repository
765/1649imageHTS 1.32.1Joseph Barry OK  OK  OK UNNEEDED, same version exists in internal repository
766/1649IMAS 1.6.1Seonggyun Han OK  OK  OK UNNEEDED, same version exists in internal repository
767/1649Imetagene 1.12.0Audrey Lemacon OK  OK  OK UNNEEDED, same version exists in internal repository
768/1649IMMAN 1.2.0Minoo Ashtiani OK  OK  OK UNNEEDED, same version exists in internal repository
769/1649ImmuneSpaceR 1.10.5ImmuneSpace Package Maintainer OK  OK  OK UNNEEDED, same version exists in internal repository
770/1649immunoClust 1.14.1Till Soerensen OK  OK  OK UNNEEDED, same version exists in internal repository
771/1649IMPCdata 1.18.0Jeremy Mason OK  OK  OK UNNEEDED, same version exists in internal repository
772/1649ImpulseDE 1.8.0Jil Sander , Nir Yosef OK  OK  OK UNNEEDED, same version exists in internal repository
773/1649ImpulseDE2 1.6.1David S Fischer OK  OK  OK UNNEEDED, same version exists in internal repository
774/1649impute 1.56.0Balasubramanian Narasimhan OK  OK  OK UNNEEDED, same version exists in internal repository
775/1649INDEED 1.0.1Zhenzhi Li OK  OK  OK UNNEEDED, same version exists in internal repository
776/1649InPAS 1.14.2Jianhong Ou OK  OK  OK UNNEEDED, same version exists in internal repository
777/1649INPower 1.18.0Bill Wheeler OK  OK  OK UNNEEDED, same version exists in internal repository
778/1649INSPEcT 1.12.2Stefano de Pretis OK  OK  OK UNNEEDED, same version exists in internal repository
779/1649InTAD 1.2.3Konstantin Okonechnikov OK  OK  OK UNNEEDED, same version exists in internal repository
780/1649intansv 1.22.0Wen Yao OK  OK  OK UNNEEDED, same version exists in internal repository
781/1649InteractionSet 1.10.0Aaron Lun OK  OK  OK UNNEEDED, same version exists in internal repository
782/1649interactiveDisplay 1.20.0Shawn Balcome OK  OK  WARNINGS UNNEEDED, same version exists in internal repository
783/1649interactiveDisplayBase 1.20.0Shawn Balcome OK  OK  WARNINGS UNNEEDED, same version exists in internal repository
784/1649IntEREst 1.6.2Ali Oghabian , Mikko Frilander OK  OK  OK UNNEEDED, same version exists in internal repository
785/1649InterMineR 1.4.1InterMine Team OK  OK  OK UNNEEDED, same version exists in internal repository
786/1649IntramiRExploreR 1.4.0Surajit Bhattacharya OK  OK  OK UNNEEDED, same version exists in internal repository
787/1649inveRsion 1.30.0Alejandro Caceres OK  OK  WARNINGS UNNEEDED, same version exists in internal repository
788/1649IONiseR 2.6.0Mike Smith OK  OK  OK UNNEEDED, same version exists in internal repository
789/1649iPAC 1.26.0Gregory Ryslik OK  OK  OK UNNEEDED, same version exists in internal repository
790/1649ipdDb 1.0.0Steffen Klasberg OK  OK  OK UNNEEDED, same version exists in internal repository
791/1649IPO 1.8.1Thomas Riebenbauer OK  OK  OK UNNEEDED, same version exists in internal repository
792/1649IPPD 1.30.0Martin Slawski OK  OK  OK UNNEEDED, same version exists in internal repository
793/1649IRanges 2.16.0Bioconductor Package Maintainer OK  OK  WARNINGS UNNEEDED, same version exists in internal repository
794/1649IrisSpatialFeatures 1.6.0Daniel Gusenleitner OK  ERROR  skipped 
795/1649iSEE 1.2.4Charlotte Soneson OK  OK  OK UNNEEDED, same version exists in internal repository
796/1649iSeq 1.34.0Qianxing Mo OK  OK  OK UNNEEDED, same version exists in internal repository
797/1649isobar 1.28.1Florian P Breitwieser OK  OK  WARNINGS UNNEEDED, same version exists in internal repository
798/1649IsoCorrectoR 1.0.5Christian Kohler OK  OK  OK UNNEEDED, same version exists in internal repository
799/1649IsoformSwitchAnalyzeR 1.4.0Kristoffer Vitting-Seerup OK  OK  WARNINGS UNNEEDED, same version exists in internal repository
800/1649IsoGeneGUI 2.18.0Setia Pramana OK  OK  OK UNNEEDED, same version exists in internal repository
801/1649ISoLDE 1.10.1Christelle Reynès OK  OK  WARNINGS UNNEEDED, same version exists in internal repository
802/1649isomiRs 1.10.1Lorena Pantano OK  OK  OK UNNEEDED, same version exists in internal repository
803/1649ITALICS 2.42.0Guillem Rigaill OK  OK  OK UNNEEDED, same version exists in internal repository
804/1649iterativeBMA 1.40.0Ka Yee Yeung OK  OK  OK UNNEEDED, same version exists in internal repository
805/1649iterativeBMAsurv 1.40.0Ka Yee Yeung OK  OK  OK UNNEEDED, same version exists in internal repository
806/1649iterClust 1.4.0Hongxu Ding OK  OK  OK UNNEEDED, same version exists in internal repository
807/1649iteremoval 1.2.0Jiacheng Chuan OK  OK  OK UNNEEDED, same version exists in internal repository
808/1649IVAS 2.2.1Seonggyun Han OK  OK  WARNINGS UNNEEDED, same version exists in internal repository
809/1649ivygapSE 1.4.0VJ Carey OK  OK  OK UNNEEDED, same version exists in internal repository
810/1649IWTomics 1.6.0Marzia A Cremona OK  OK  WARNINGS UNNEEDED, same version exists in internal repository
J
ABCDEFGHIJKLMNOPQRSTUVWXYZ
PackageMaintainerINSTALLBUILDCHECKBUILD BIN
811/1649joda 1.30.0Ewa Szczurek OK  OK  OK UNNEEDED, same version exists in internal repository
812/1649JunctionSeq 1.12.1Stephen Hartley OK  OK  OK UNNEEDED, same version exists in internal repository
K
ABCDEFGHIJKLMNOPQRSTUVWXYZ
PackageMaintainerINSTALLBUILDCHECKBUILD BIN
813/1649karyoploteR 1.8.8Bernat Gel OK  OK  OK UNNEEDED, same version exists in internal repository
814/1649KCsmart 2.40.0Jorma de Ronde OK  OK  WARNINGS UNNEEDED, same version exists in internal repository
815/1649kebabs 1.16.0Ulrich Bodenhofer OK  OK  OK UNNEEDED, same version exists in internal repository
816/1649KEGGgraph 1.42.0Jitao David Zhang OK  ERROR  skipped 
817/1649KEGGlincs 1.8.0Shana White , Mario Medvedovic OK  OK  OK UNNEEDED, same version exists in internal repository
818/1649keggorthology 2.34.0VJ Carey OK  OK  OK UNNEEDED, same version exists in internal repository
819/1649KEGGprofile 1.24.0Shilin Zhao OK  OK  OK UNNEEDED, same version exists in internal repository
820/1649KEGGREST 1.22.0Bioconductor Package Maintainer OK  OK  OK UNNEEDED, same version exists in internal repository
821/1649kimod 1.10.0M L Zingaretti OK  OK  OK UNNEEDED, same version exists in internal repository
822/1649KinSwingR 1.0.3Ashley J. Waardenberg OK  OK  OK UNNEEDED, same version exists in internal repository
823/1649kissDE 1.2.0Aurélie Siberchicot OK  OK  OK UNNEEDED, same version exists in internal repository
L
ABCDEFGHIJKLMNOPQRSTUVWXYZ
PackageMaintainerINSTALLBUILDCHECKBUILD BIN
824/1649lapmix 1.48.0Yann Ruffieux OK  OK  OK UNNEEDED, same version exists in internal repository
825/1649LBE 1.50.0Cyril Dalmasso OK  OK  OK UNNEEDED, same version exists in internal repository
826/1649ldblock 1.12.1VJ Carey OK  OK  OK UNNEEDED, same version exists in internal repository
827/1649LEA 2.4.0Eric Frichot , Olivier Francois OK  OK  OK UNNEEDED, same version exists in internal repository
828/1649LedPred 1.16.0Aitor Gonzalez OK  OK  OK UNNEEDED, same version exists in internal repository
829/1649les 1.32.0Julian Gehring OK  OK  OK UNNEEDED, same version exists in internal repository
830/1649levi 1.0.0Jose Luiz Rybarczyk Filho OK  OK  OK UNNEEDED, same version exists in internal repository
831/1649lfa 1.12.0Wei Hao , John D. Storey OK  OK  WARNINGS UNNEEDED, same version exists in internal repository
832/1649limma 3.38.3Gordon Smyth OK  OK  OK UNNEEDED, same version exists in internal repository
833/1649limmaGUI 1.58.0Gordon Smyth OK  OK  OK UNNEEDED, same version exists in internal repository
834/1649LINC 1.10.0Manuel Goepferich OK  OK  OK UNNEEDED, same version exists in internal repository
835/1649LineagePulse 1.2.1David S Fischer OK  OK  WARNINGS UNNEEDED, same version exists in internal repository
836/1649Linnorm 2.6.1Ken Shun Hang Yip OK  OK  OK UNNEEDED, same version exists in internal repository
837/1649LiquidAssociation 1.36.0Yen-Yi Ho OK  OK  OK UNNEEDED, same version exists in internal repository
838/1649lmdme 1.24.0Cristobal Fresno OK  OK  OK UNNEEDED, same version exists in internal repository
839/1649LMGene 2.38.0Blythe Durbin-Johnson OK  OK  OK UNNEEDED, same version exists in internal repository
840/1649LOBSTAHS 1.8.1James Collins OK  OK  WARNINGS UNNEEDED, same version exists in internal repository
841/1649loci2path 1.2.0Tianlei Xu OK  OK  OK UNNEEDED, same version exists in internal repository
842/1649logicFS 2.2.0Holger Schwender OK  OK  OK UNNEEDED, same version exists in internal repository
843/1649logitT 1.40.0Tobias Guennel OK  OK  OK UNNEEDED, same version exists in internal repository
844/1649Logolas 1.6.0Kushal Dey OK  OK  OK UNNEEDED, same version exists in internal repository
845/1649lol 1.30.0Yinyin Yuan OK  OK  OK UNNEEDED, same version exists in internal repository
846/1649LOLA 1.12.0Nathan Sheffield OK  OK  OK UNNEEDED, same version exists in internal repository
847/1649LoomExperiment 1.0.4Bioconductor Package Maintainer OK  OK  OK UNNEEDED, same version exists in internal repository
848/1649LowMACA 1.12.1Stefano de Pretis , Giorgio Melloni OK  OK  OK UNNEEDED, same version exists in internal repository
849/1649LPE 1.56.0Nitin Jain OK  OK  OK UNNEEDED, same version exists in internal repository
850/1649LPEadj 1.42.0Carl Murie OK  OK  OK UNNEEDED, same version exists in internal repository
851/1649lpNet 2.14.0Lars Kaderali OK  OK  OK UNNEEDED, same version exists in internal repository
852/1649lpsymphony 1.10.0Vladislav Kim OK  OK  WARNINGS UNNEEDED, same version exists in internal repository
853/1649LRBaseDbi 1.0.0Koki Tsuyuzaki OK  OK  OK UNNEEDED, same version exists in internal repository
854/1649lumi 2.34.0Pan Du , Lei Huang , Gang Feng OK  OK  WARNINGS UNNEEDED, same version exists in internal repository
855/1649LVSmiRNA 1.32.0Stefano Calza OK  OK  WARNINGS UNNEEDED, same version exists in internal repository
856/1649LymphoSeq 1.10.0David Coffey OK  OK  OK UNNEEDED, same version exists in internal repository
M
ABCDEFGHIJKLMNOPQRSTUVWXYZ
PackageMaintainerINSTALLBUILDCHECKBUILD BIN
857/1649M3C 1.4.1Christopher John OK  OK  OK UNNEEDED, same version exists in internal repository
858/1649M3D 1.16.0Tom Mayo OK  OK  OK UNNEEDED, same version exists in internal repository
859/1649M3Drop 1.8.1Tallulah Andrews OK  OK  OK UNNEEDED, same version exists in internal repository
860/1649maanova 1.52.0Keith Sheppard OK  OK  OK UNNEEDED, same version exists in internal repository
861/1649macat 1.56.0Joern Toedling OK  OK  WARNINGS UNNEEDED, same version exists in internal repository
862/1649maCorrPlot 1.52.0Alexander Ploner OK  OK  OK UNNEEDED, same version exists in internal repository
863/1649MACPET 1.2.0Ioannis Vardaxis ERROR  ERROR  skipped 
864/1649made4 1.56.0Aedin Culhane OK  OK  WARNINGS UNNEEDED, same version exists in internal repository
865/1649MADSEQ 1.8.0Yu Kong OK  OK  OK UNNEEDED, same version exists in internal repository
866/1649maftools 1.8.10Anand Mayakonda OK  OK  OK UNNEEDED, same version exists in internal repository
867/1649MAGeCKFlute 1.2.3Wubing Zhang OK  OK  OK UNNEEDED, same version exists in internal repository
868/1649maigesPack 1.46.0Gustavo H. Esteves OK  OK  OK UNNEEDED, same version exists in internal repository
869/1649MAIT 1.16.1Pol Sola-Santos ERROR  ERROR  skipped 
870/1649makecdfenv 1.58.0James W. MacDonald OK  OK  OK UNNEEDED, same version exists in internal repository
871/1649MANOR 1.54.0Pierre Neuvial OK  OK  OK UNNEEDED, same version exists in internal repository
872/1649manta 1.28.1Chris Berthiaume , Adrian Marchetti OK  OK  OK UNNEEDED, same version exists in internal repository
873/1649MantelCorr 1.52.0Brian Steinmeyer OK  OK  OK UNNEEDED, same version exists in internal repository
874/1649mAPKL 1.12.0Argiris Sakellariou OK  OK  OK UNNEEDED, same version exists in internal repository
875/1649maPredictDSC 1.20.0Adi Laurentiu Tarca OK  OK  OK UNNEEDED, same version exists in internal repository
876/1649mapscape 1.6.0Maia Smith OK  OK  WARNINGS UNNEEDED, same version exists in internal repository
877/1649marray 1.60.0Yee Hwa (Jean) Yang OK  OK  OK UNNEEDED, same version exists in internal repository
878/1649martini 1.2.0Hector Climente-Gonzalez OK  OK  OK UNNEEDED, same version exists in internal repository
879/1649maser 1.0.0Diogo Veiga OK  OK  OK UNNEEDED, same version exists in internal repository
880/1649maSigPro 1.54.0Maria Jose Nueda OK  OK  OK UNNEEDED, same version exists in internal repository
881/1649maskBAD 1.26.0Michael Dannemann OK  OK  OK UNNEEDED, same version exists in internal repository
882/1649MassArray 1.34.1Reid F. Thompson OK  OK  OK UNNEEDED, same version exists in internal repository
883/1649massiR 1.18.0Sam Buckberry OK  OK  OK UNNEEDED, same version exists in internal repository
884/1649MassSpecWavelet 1.48.1Pan Du OK  OK  OK UNNEEDED, same version exists in internal repository
885/1649MAST 1.8.2Andrew McDavid OK  OK  OK UNNEEDED, same version exists in internal repository
886/1649matchBox 1.24.0Luigi Marchionni , Anuj Gupta OK  OK  OK UNNEEDED, same version exists in internal repository
887/1649MatrixRider 1.14.0Elena Grassi OK  OK  OK UNNEEDED, same version exists in internal repository
888/1649matter 1.8.3Kylie A. Bemis OK  OK  OK UNNEEDED, same version exists in internal repository
889/1649MaxContrastProjection 1.6.1Jan Sauer OK  OK  OK UNNEEDED, same version exists in internal repository
890/1649MBAmethyl 1.16.0Tao Wang OK  OK  OK UNNEEDED, same version exists in internal repository
891/1649MBASED 1.16.0Oleg Mayba OK  OK  OK UNNEEDED, same version exists in internal repository
892/1649MBCB 1.36.0Jeff Allen OK  OK  OK UNNEEDED, same version exists in internal repository
893/1649mBPCR 1.36.0P.M.V. Rancoita OK  OK  OK UNNEEDED, same version exists in internal repository
894/1649MBttest 1.10.0Yuan-De Tan OK  OK  OK UNNEEDED, same version exists in internal repository
895/1649mcaGUI 1.30.0Wade K. Copeland OK  OK  WARNINGS UNNEEDED, same version exists in internal repository
896/1649MCbiclust 1.6.1Robert Bentham OK  OK  OK UNNEEDED, same version exists in internal repository
897/1649MCRestimate 2.38.0Marc Johannes OK  OK  OK UNNEEDED, same version exists in internal repository
898/1649mCSEA 1.2.2Jordi Martorell-Marugán OK  OK  OK UNNEEDED, same version exists in internal repository
899/1649mdgsa 1.14.0David Montaner OK  OK  OK UNNEEDED, same version exists in internal repository
900/1649mdp 1.2.1Helder Nakaya OK  OK  OK UNNEEDED, same version exists in internal repository
901/1649mdqc 1.44.0Gabriela Cohen-Freue OK  OK  OK UNNEEDED, same version exists in internal repository
902/1649MDTS 1.2.0Jack M.. Fu OK  OK  OK UNNEEDED, same version exists in internal repository
903/1649MEAL 1.12.0Carlos Ruiz-Arenas OK  OK  WARNINGS UNNEEDED, same version exists in internal repository
904/1649MeasurementError.cor 1.54.0Beiying Ding OK  OK  OK UNNEEDED, same version exists in internal repository
905/1649MEDIPS 1.34.0Lukas Chavez OK  OK  OK UNNEEDED, same version exists in internal repository
906/1649MEDME 1.42.0Mattia Pelizzola OK  OK  WARNINGS UNNEEDED, same version exists in internal repository
907/1649MEIGOR 1.16.0Jose Egea OK  OK  WARNINGS UNNEEDED, same version exists in internal repository
908/1649MergeMaid 2.54.0Xiaogang Zhong OK  OK  WARNINGS UNNEEDED, same version exists in internal repository
909/1649Mergeomics 1.10.0Zeyneb Kurt OK  OK  OK UNNEEDED, same version exists in internal repository
910/1649MeSHDbi 1.18.0Koki Tsuyuzaki OK  OK  OK UNNEEDED, same version exists in internal repository
911/1649meshes 1.8.0Guangchuang Yu OK  OK  WARNINGS UNNEEDED, same version exists in internal repository
912/1649meshr 1.18.0Koki Tsuyuzaki OK  OK  OK UNNEEDED, same version exists in internal repository
913/1649messina 1.18.0Mark Pinese OK  OK  OK UNNEEDED, same version exists in internal repository
914/1649metaArray 1.60.0Hyungwon Choi OK  OK  OK UNNEEDED, same version exists in internal repository
915/1649Metab 1.16.1Raphael Aggio OK  OK  OK UNNEEDED, same version exists in internal repository
916/1649metabomxtr 1.16.1Michael Nodzenski OK  OK  OK UNNEEDED, same version exists in internal repository
917/1649MetaboSignal 1.12.0Andrea Rodriguez-Martinez OK  OK  OK UNNEEDED, same version exists in internal repository
918/1649metaCCA 1.10.0Anna Cichonska OK  OK  OK UNNEEDED, same version exists in internal repository
919/1649MetaCyto 1.4.1Zicheng Hu OK  OK  OK UNNEEDED, same version exists in internal repository
920/1649metagene 2.14.0Charles Joly Beauparlant OK  OK  ERROR 
921/1649metagenomeFeatures 2.2.3Nathan D. Olson OK  OK  OK UNNEEDED, same version exists in internal repository
922/1649metagenomeSeq 1.24.1Joseph N. Paulson OK  OK  OK UNNEEDED, same version exists in internal repository
923/1649metahdep 1.40.0John R. Stevens OK  OK  WARNINGS UNNEEDED, same version exists in internal repository
924/1649metaMS 1.18.1Ron Wehrens OK  OK  WARNINGS UNNEEDED, same version exists in internal repository
925/1649MetaNeighbor 1.2.1Manthan Shah OK  OK  OK UNNEEDED, same version exists in internal repository
926/1649metaSeq 1.22.1Koki Tsuyuzaki OK  OK  OK UNNEEDED, same version exists in internal repository
927/1649metaseqR 1.22.1Panagiotis Moulos OK  OK  OK UNNEEDED, same version exists in internal repository
928/1649metavizr 1.6.2Hector Corrada Bravo OK  OK  OK UNNEEDED, same version exists in internal repository
929/1649MetCirc 1.12.1Thomas Naake OK  OK  OK UNNEEDED, same version exists in internal repository
930/1649methimpute 1.4.1Aaron Taudt OK  OK  OK UNNEEDED, same version exists in internal repository
931/1649methInheritSim 1.4.1Pascal Belleau OK  OK  OK UNNEEDED, same version exists in internal repository
932/1649MethPed 1.10.1Helena Carén OK  OK  OK UNNEEDED, same version exists in internal repository
933/1649MethTargetedNGS 1.14.0Muhammad Ahmer Jamil OK  OK  OK UNNEEDED, same version exists in internal repository
934/1649methVisual 1.34.0Arie Zackay OK  OK  WARNINGS UNNEEDED, same version exists in internal repository
935/1649methyAnalysis 1.24.0Pan Du , Lei Huang , Gang Feng OK  OK  WARNINGS UNNEEDED, same version exists in internal repository
936/1649MethylAid 1.16.0M. van Iterson OK  OK  OK UNNEEDED, same version exists in internal repository
937/1649methylGSA 1.0.4Xu Ren OK  OK  OK UNNEEDED, same version exists in internal repository
938/1649methylInheritance 1.6.1Astrid Deschenes OK  OK  OK UNNEEDED, same version exists in internal repository
939/1649methylKit 1.8.1Altuna Akalin , Alexander Gosdschan OK  OK  OK UNNEEDED, same version exists in internal repository
940/1649MethylMix 2.12.0Olivier Gevaert OK  OK  OK UNNEEDED, same version exists in internal repository
941/1649methylMnM 1.20.0Yan Zhou OK  OK  OK UNNEEDED, same version exists in internal repository
942/1649methylPipe 1.16.0Kamal Kishore OK  OK  WARNINGS UNNEEDED, same version exists in internal repository
943/1649MethylSeekR 1.22.0Lukas Burger OK  OK  OK UNNEEDED, same version exists in internal repository
944/1649methylumi 2.28.0Sean Davis OK  OK  WARNINGS UNNEEDED, same version exists in internal repository
945/1649methyvim 1.4.0Nima Hejazi OK  OK  OK UNNEEDED, same version exists in internal repository
946/1649MetID 1.0.0Zhenzhi Li OK  OK  OK UNNEEDED, same version exists in internal repository
947/1649MetNet 1.0.1Thomas Naake OK  OK  OK UNNEEDED, same version exists in internal repository
948/1649mfa 1.4.1Kieran Campbell OK  OK  OK UNNEEDED, same version exists in internal repository
949/1649Mfuzz 2.42.0Matthias Futschik OK  OK  OK UNNEEDED, same version exists in internal repository
950/1649MGFM 1.16.0Khadija El Amrani OK  OK  OK UNNEEDED, same version exists in internal repository
951/1649MGFR 1.8.1Khadija El Amrani OK  OK  OK UNNEEDED, same version exists in internal repository
952/1649mgsa 1.30.0Sebastian Bauer OK  OK  OK UNNEEDED, same version exists in internal repository
953/1649MiChip 1.36.0Jonathon Blake OK  OK  OK UNNEEDED, same version exists in internal repository
954/1649microbiome 1.4.2Leo Lahti OK  OK  OK UNNEEDED, same version exists in internal repository
955/1649microRNA 1.40.0"James F. Reid" OK  OK  OK UNNEEDED, same version exists in internal repository
956/1649MIGSA 1.6.0Juan C. Rodriguez OK  OK  OK UNNEEDED, same version exists in internal repository
957/1649mimager 1.6.0Aaron Wolen OK  OK  OK UNNEEDED, same version exists in internal repository
958/1649MIMOSA 1.20.1Greg Finak OK  OK  WARNINGS UNNEEDED, same version exists in internal repository
959/1649MineICA 1.22.0Anne Biton OK  OK  OK UNNEEDED, same version exists in internal repository
960/1649minet 3.40.0Patrick E. Meyer OK  OK  OK UNNEEDED, same version exists in internal repository
961/1649minfi 1.28.4Kasper Daniel Hansen OK  OK  OK UNNEEDED, same version exists in internal repository
962/1649MinimumDistance 1.26.0Robert B Scharpf OK  OK  WARNINGS UNNEEDED, same version exists in internal repository
963/1649MiPP 1.54.0Sukwoo Kim OK  OK  OK UNNEEDED, same version exists in internal repository
964/1649MIRA 1.4.1John Lawson OK  OK  OK UNNEEDED, same version exists in internal repository
965/1649MiRaGE 1.24.1Y-h. Taguchi OK  OK  OK UNNEEDED, same version exists in internal repository
966/1649miRBaseConverter 1.6.0Taosheng Xu OK  OK  OK UNNEEDED, same version exists in internal repository
967/1649miRcomp 1.12.0Matthew N. McCall OK  OK  WARNINGS UNNEEDED, same version exists in internal repository
968/1649mirIntegrator 1.12.0Diana Diaz OK  OK  OK UNNEEDED, same version exists in internal repository
969/1649miRLAB 1.12.0Thuc Duy Le OK  OK  ERROR 
970/1649miRmine 1.4.0Dusan Randjelovic OK  OK  OK UNNEEDED, same version exists in internal repository
971/1649miRNAmeConverter 1.10.0Stefan J. Haunsberger OK  OK  WARNINGS UNNEEDED, same version exists in internal repository
972/1649miRNApath 1.42.0James M. Ward OK  OK  OK UNNEEDED, same version exists in internal repository
973/1649miRNAtap 1.16.0Maciej Pajak OK  OK  OK UNNEEDED, same version exists in internal repository
974/1649miRSM 1.0.0Junpeng Zhang OK  OK  OK UNNEEDED, same version exists in internal repository
975/1649miRsponge 1.8.2Junpeng Zhang OK  OK  OK UNNEEDED, same version exists in internal repository
976/1649Mirsynergy 1.18.0Yue Li OK  OK  OK UNNEEDED, same version exists in internal repository
977/1649missMethyl 1.16.0Belinda Phipson OK  OK  OK UNNEEDED, same version exists in internal repository
978/1649missRows 1.2.0Gonzalez Ignacio OK  OK  OK UNNEEDED, same version exists in internal repository
979/1649mitoODE 1.20.1Gregoire Pau OK  OK  OK UNNEEDED, same version exists in internal repository
980/1649mixOmics 6.6.2Kim-Anh Le Cao OK  OK  OK UNNEEDED, same version exists in internal repository
981/1649MLInterfaces 1.62.1V. Carey OK  OK  OK UNNEEDED, same version exists in internal repository
982/1649mlm4omics 1.0.1Irene SL Zeng ERROR  ERROR  skipped 
983/1649MLP 1.30.0Tobias Verbeke OK  OK  OK UNNEEDED, same version exists in internal repository
984/1649MLSeq 2.0.1Gokmen Zararsiz OK  OK  OK UNNEEDED, same version exists in internal repository
985/1649MMDiff2 1.10.0Gabriele Schweikert OK  OK  OK UNNEEDED, same version exists in internal repository
986/1649MmPalateMiRNA 1.32.0Guy Brock OK  OK  OK UNNEEDED, same version exists in internal repository
987/1649MODA 1.8.0Dong Li OK  OK  OK UNNEEDED, same version exists in internal repository
988/1649mogsa 1.16.0Chen Meng OK  OK  OK UNNEEDED, same version exists in internal repository
989/1649monocle 2.10.1Cole Trapnell OK  OK  OK UNNEEDED, same version exists in internal repository
990/1649MoonlightR 1.8.0Antonio Colaprico OK  OK  OK UNNEEDED, same version exists in internal repository
991/1649MoPS 1.16.0Philipp Eser OK  OK  OK UNNEEDED, same version exists in internal repository
992/1649mosaics 2.20.0Dongjun Chung OK  OK  OK UNNEEDED, same version exists in internal repository
993/1649motifbreakR 1.12.0Simon Gert Coetzee OK  OK  OK UNNEEDED, same version exists in internal repository
994/1649motifcounter 1.6.0Wolfgang Kopp OK  OK  OK UNNEEDED, same version exists in internal repository
995/1649MotifDb 1.24.1Paul Shannon OK  OK  OK UNNEEDED, same version exists in internal repository
996/1649motifmatchr 1.4.0Alicia Schep OK  OK  OK UNNEEDED, same version exists in internal repository
997/1649motifRG 1.26.0Zizhen Yao OK  OK  OK UNNEEDED, same version exists in internal repository
998/1649motifStack 1.26.0Jianhong Ou OK  OK  OK UNNEEDED, same version exists in internal repository
999/1649MotIV 1.38.0Eloi Mercier , Raphael Gottardo OK  OK  WARNINGS UNNEEDED, same version exists in internal repository
1000/1649MPFE 1.18.0Conrad Burden OK  OK  OK UNNEEDED, same version exists in internal repository
1001/1649mpra 1.4.1Leslie Myint OK  OK  OK UNNEEDED, same version exists in internal repository
1002/1649MPRAnalyze 1.0.1Tal Ashuach OK  OK  OK UNNEEDED, same version exists in internal repository
1003/1649mQTL.NMR 1.16.0Lyamine Hedjazi ERROR  ERROR  skipped 
1004/1649msa 1.14.0Ulrich Bodenhofer OK  OK  OK UNNEEDED, same version exists in internal repository
1005/1649msgbsR 1.6.1Benjamin Mayne OK  OK  WARNINGS UNNEEDED, same version exists in internal repository
1006/1649MSGFgui 1.16.1Thomas Lin Pedersen OK  OK  OK UNNEEDED, same version exists in internal repository
1007/1649MSGFplus 1.16.1Thomas Lin Pedersen OK  OK  OK UNNEEDED, same version exists in internal repository
1008/1649msmsEDA 1.20.1Josep Gregori OK  OK  OK UNNEEDED, same version exists in internal repository
1009/1649msmsTests 1.20.1Josep Gregori i Font OK  OK  OK UNNEEDED, same version exists in internal repository
1010/1649MSnbase 2.8.3Laurent Gatto OK  OK  OK UNNEEDED, same version exists in internal repository
1011/1649MSnID 1.16.1Vlad Petyuk OK  OK  OK UNNEEDED, same version exists in internal repository
1012/1649msPurity 1.8.1Thomas N. Lawson OK  OK  OK UNNEEDED, same version exists in internal repository
1013/1649MSstats 3.14.1Meena Choi OK  OK  OK UNNEEDED, same version exists in internal repository
1014/1649MSstatsQC 2.0.1Eralp Dogu OK  OK  OK UNNEEDED, same version exists in internal repository
1015/1649MSstatsQCgui 1.2.1Eralp Dogu OK  OK  OK UNNEEDED, same version exists in internal repository
1016/1649MSstatsTMT 1.1.2Ting Huang OK  OK  OK UNNEEDED, same version exists in internal repository
1017/1649MTseeker 1.0.6Tim Triche OK  OK  WARNINGS UNNEEDED, same version exists in internal repository
1018/1649Mulcom 1.32.0Claudio Isella OK  OK  OK UNNEEDED, same version exists in internal repository
1019/1649MultiAssayExperiment 1.8.3Marcel Ramos OK  OK  OK UNNEEDED, same version exists in internal repository
1020/1649multiClust 1.12.0Nathan Lawlor OK  OK  OK UNNEEDED, same version exists in internal repository
1021/1649MultiDataSet 1.10.0Carlos Ruiz-Arenas OK  OK  OK UNNEEDED, same version exists in internal repository
1022/1649multiHiCcompare 1.0.0John Stansfield OK  OK  OK UNNEEDED, same version exists in internal repository
1023/1649MultiMed 2.4.0Simina M. Boca OK  OK  OK UNNEEDED, same version exists in internal repository
1024/1649multiMiR 1.4.0Matt Mulvahill OK  OK  OK UNNEEDED, same version exists in internal repository
1025/1649multiOmicsViz 1.6.0Jing Wang OK  OK  OK UNNEEDED, same version exists in internal repository
1026/1649multiscan 1.42.0Mizanur Khondoker OK  OK  OK UNNEEDED, same version exists in internal repository
1027/1649multtest 2.38.0Katherine S. Pollard OK  OK  WARNINGS UNNEEDED, same version exists in internal repository
1028/1649muscle 3.24.0Alex T. Kalinka OK  OK  OK UNNEEDED, same version exists in internal repository
1029/1649MutationalPatterns 1.8.0Roel Janssen OK  OK  OK UNNEEDED, same version exists in internal repository
1030/1649MVCClass 1.56.0Elizabeth Whalen OK  OK  OK UNNEEDED, same version exists in internal repository
1031/1649MWASTools 1.6.0Andrea Rodriguez-Martinez , Rafael Ayala OK  OK  OK UNNEEDED, same version exists in internal repository
1032/1649mygene 1.18.0Adam Mark, Cyrus Afrasiabi, Chunlei Wu OK  OK  OK UNNEEDED, same version exists in internal repository
1033/1649myvariant 1.12.0Adam Mark, Chunlei Wu OK  OK  OK UNNEEDED, same version exists in internal repository
1034/1649mzID 1.20.1Thomas Lin Pedersen OK  OK  OK UNNEEDED, same version exists in internal repository
1035/1649mzR 2.16.2Steffen Neumann OK  OK  WARNINGS UNNEEDED, same version exists in internal repository
N
ABCDEFGHIJKLMNOPQRSTUVWXYZ
PackageMaintainerINSTALLBUILDCHECKBUILD BIN
1036/1649NADfinder 1.6.1Jianhong Ou OK  OK  OK UNNEEDED, same version exists in internal repository
1037/1649NanoStringDiff 1.12.0tingting zhai ,hong wang OK  OK  WARNINGS UNNEEDED, same version exists in internal repository
1038/1649NanoStringQCPro 1.14.0Robert Ziman OK  OK  OK UNNEEDED, same version exists in internal repository
1039/1649NarrowPeaks 1.26.0Pedro Madrigal OK  OK  OK UNNEEDED, same version exists in internal repository
1040/1649NBSplice 1.0.6Gabriela Merino OK  OK  OK UNNEEDED, same version exists in internal repository
1041/1649ncdfFlow 2.28.1Mike Jiang OK  OK  OK UNNEEDED, same version exists in internal repository
1042/1649NCIgraph 1.30.0Laurent Jacob OK  OK  OK UNNEEDED, same version exists in internal repository
1043/1649ndexr 1.4.1Florian Auer OK  OK  OK UNNEEDED, same version exists in internal repository
1044/1649NeighborNet 1.0.0Sahar Ansari OK  OK  OK UNNEEDED, same version exists in internal repository
1045/1649nem 2.56.0Holger Froehlich OK  OK  WARNINGS UNNEEDED, same version exists in internal repository
1046/1649netbenchmark 1.14.0Pau Bellot OK  OK  WARNINGS UNNEEDED, same version exists in internal repository
1047/1649netbiov 1.16.0Shailesh tripathi OK  OK  OK UNNEEDED, same version exists in internal repository
1048/1649nethet 1.14.0Nicolas Staedler OK  OK  OK UNNEEDED, same version exists in internal repository
1049/1649NetPathMiner 1.18.0Ahmed Mohamed OK  OK  OK UNNEEDED, same version exists in internal repository
1050/1649netprioR 1.8.1Fabian Schmich OK  OK  OK UNNEEDED, same version exists in internal repository
1051/1649netReg 1.6.0Simon Dirmeier OK  OK  OK UNNEEDED, same version exists in internal repository
1052/1649netresponse 1.42.0Leo Lahti OK  OK  WARNINGS UNNEEDED, same version exists in internal repository
1053/1649NetSAM 1.22.0Bing Zhang OK  OK  OK UNNEEDED, same version exists in internal repository
1054/1649netSmooth 1.2.0Jonathan Ronen OK  OK  OK UNNEEDED, same version exists in internal repository
1055/1649networkBMA 2.22.0Ka Yee Yeung OK  OK  WARNINGS UNNEEDED, same version exists in internal repository
1056/1649NGScopy 1.16.1Xiaobei Zhao ERROR  ERROR  skipped 
1057/1649nnNorm 2.46.0Adi Laurentiu Tarca OK  OK  OK UNNEEDED, same version exists in internal repository
1058/1649NOISeq 2.26.1Sonia Tarazona OK  OK  OK UNNEEDED, same version exists in internal repository
1059/1649nondetects 2.12.0Valeriia Sherina OK  OK  OK UNNEEDED, same version exists in internal repository
1060/1649normalize450K 1.10.0Jonathan Alexander Heiss OK  OK  OK UNNEEDED, same version exists in internal repository
1061/1649NormalyzerDE 1.0.0Jakob Willforss OK  OK  OK UNNEEDED, same version exists in internal repository
1062/1649NormqPCR 1.28.0James Perkins OK  OK  OK UNNEEDED, same version exists in internal repository
1063/1649normr 1.8.0Johannes Helmuth OK  OK  OK UNNEEDED, same version exists in internal repository
1064/1649npGSEA 1.18.0Jessica Larson OK  OK  OK UNNEEDED, same version exists in internal repository
1065/1649NTW 1.32.0Yuanhua Liu OK  OK  WARNINGS UNNEEDED, same version exists in internal repository
1066/1649nucleoSim 1.10.0Astrid Deschenes OK  OK  OK UNNEEDED, same version exists in internal repository
1067/1649nucleR 2.14.0Ricard Illa OK  OK  OK UNNEEDED, same version exists in internal repository
1068/1649nuCpos 1.0.1Hiroaki Kato OK  OK  OK UNNEEDED, same version exists in internal repository
1069/1649nudge 1.48.0N. Dean OK  ERROR  skipped 
1070/1649NuPoP 1.32.0Ji-Ping Wang OK  OK  OK UNNEEDED, same version exists in internal repository
O
ABCDEFGHIJKLMNOPQRSTUVWXYZ
PackageMaintainerINSTALLBUILDCHECKBUILD BIN
1071/1649occugene 1.42.0Oliver Will OK  OK  OK UNNEEDED, same version exists in internal repository
1072/1649OCplus 1.56.0Alexander Ploner OK  OK  OK UNNEEDED, same version exists in internal repository
1073/1649odseq 1.10.0José Jiménez OK  OK  OK UNNEEDED, same version exists in internal repository
1074/1649OGSA 1.12.0Michael F. Ochs OK  OK  OK UNNEEDED, same version exists in internal repository
1075/1649oligo 1.46.0Benilton Carvalho OK  OK  WARNINGS UNNEEDED, same version exists in internal repository
1076/1649oligoClasses 1.44.0Benilton Carvalho and Robert Scharpf OK  OK  WARNINGS UNNEEDED, same version exists in internal repository
1077/1649OLIN 1.60.0Matthias Futschik OK  OK  OK UNNEEDED, same version exists in internal repository
1078/1649OLINgui 1.56.0Matthias Futschik OK  OK  OK UNNEEDED, same version exists in internal repository
1079/1649OmaDB 1.2.2Klara Kaleb , Adrian Altenhoff OK  OK  OK UNNEEDED, same version exists in internal repository
1080/1649omicade4 1.22.0Chen Meng OK  OK  OK UNNEEDED, same version exists in internal repository
1081/1649OmicCircos 1.20.0Ying Hu OK  OK  OK UNNEEDED, same version exists in internal repository
1082/1649omicplotR 1.2.1Daniel Giguere OK  OK  OK UNNEEDED, same version exists in internal repository
1083/1649omicRexposome 1.4.1Carles Hernandez-Ferrer OK  OK  OK UNNEEDED, same version exists in internal repository
1084/1649OmicsMarkeR 1.14.0Charles E. Determan Jr. OK  OK  OK UNNEEDED, same version exists in internal repository
1085/1649OMICsPCA 1.0.1Subhadeep Das OK  OK  OK UNNEEDED, same version exists in internal repository
1086/1649omicsPrint 1.2.1Davy Cats OK  OK  OK UNNEEDED, same version exists in internal repository
1087/1649Onassis 1.4.5Eugenia Galeota OK  OK  OK UNNEEDED, same version exists in internal repository
1088/1649oncomix 1.4.0Daniel Pique OK  OK  OK UNNEEDED, same version exists in internal repository
1089/1649OncoScore 1.10.0Luca De Sano OK  OK  OK UNNEEDED, same version exists in internal repository
1090/1649OncoSimulR 2.12.0Ramon Diaz-Uriarte OK  OK  OK UNNEEDED, same version exists in internal repository
1091/1649oneSENSE 1.4.1Yong Kee Tan OK  OK  WARNINGS UNNEEDED, same version exists in internal repository
1092/1649onlineFDR 1.0.0David Robertson OK  OK  OK UNNEEDED, same version exists in internal repository
1093/1649ontoProc 1.4.0VJ Carey OK  OK  OK UNNEEDED, same version exists in internal repository
1094/1649openCyto 1.20.2Mike Jiang OK  OK  OK UNNEEDED, same version exists in internal repository
1095/1649openPrimeR 1.4.1Matthias Döring OK  OK  OK UNNEEDED, same version exists in internal repository
1096/1649openPrimeRui 1.4.1Matthias Döring OK  OK  OK UNNEEDED, same version exists in internal repository