Back to Multiple platform build/check report for BioC 3.8
A[B]CDEFGHIJKLMNOPQRSTUVWXYZ

BUILD report for Biostrings on merida1

This page was generated on 2019-04-16 11:54:05 -0400 (Tue, 16 Apr 2019).

Package 159/1649HostnameOS / ArchINSTALLBUILDCHECKBUILD BIN
Biostrings 2.50.2
H. Pag├Ęs
Snapshot Date: 2019-04-15 17:01:12 -0400 (Mon, 15 Apr 2019)
URL: https://git.bioconductor.org/packages/Biostrings
Branch: RELEASE_3_8
Last Commit: 025e734
Last Changed Date: 2019-01-03 09:57:07 -0400 (Thu, 03 Jan 2019)
malbec1 Linux (Ubuntu 16.04.6 LTS) / x86_64  OK  OK  WARNINGS UNNEEDED, same version exists in internal repository
merida1 OS X 10.11.6 El Capitan / x86_64  OK [ OK ] WARNINGS  OK UNNEEDED, same version exists in internal repository

Summary

Package: Biostrings
Version: 2.50.2
Command: /Library/Frameworks/R.framework/Versions/Current/Resources/bin/R CMD build --keep-empty-dirs --no-resave-data Biostrings
StartedAt: 2019-04-15 18:54:49 -0400 (Mon, 15 Apr 2019)
EndedAt: 2019-04-15 18:56:53 -0400 (Mon, 15 Apr 2019)
EllapsedTime: 124.1 seconds
RetCode: 0
Status:  OK 
PackageFile: Biostrings_2.50.2.tar.gz
PackageFileSize: 12.11 MiB

Command output

##############################################################################
##############################################################################
###
### Running command:
###
###   /Library/Frameworks/R.framework/Versions/Current/Resources/bin/R CMD build --keep-empty-dirs --no-resave-data Biostrings
###
##############################################################################
##############################################################################


* checking for file ‘Biostrings/DESCRIPTION’ ... OK
* preparing ‘Biostrings’:
* checking DESCRIPTION meta-information ... OK
* cleaning src
* installing the package to build vignettes
* creating vignettes ... OK
* cleaning src
* checking for LF line-endings in source and make files and shell scripts
* checking for empty or unneeded directories
* looking to see if a ‘data/datalist’ file should be added
* building ‘Biostrings_2.50.2.tar.gz’