Back to Multiple platform build/check report for BioC 3.8
A[B]CDEFGHIJKLMNOPQRSTUVWXYZ

BUILD BIN report for BSgenome on merida1

This page was generated on 2019-04-16 11:54:28 -0400 (Tue, 16 Apr 2019).

Package 180/1649HostnameOS / ArchINSTALLBUILDCHECKBUILD BIN
BSgenome 1.50.0
H. Pag├Ęs
Snapshot Date: 2019-04-15 17:01:12 -0400 (Mon, 15 Apr 2019)
URL: https://git.bioconductor.org/packages/BSgenome
Branch: RELEASE_3_8
Last Commit: 4391075
Last Changed Date: 2018-10-30 11:41:43 -0400 (Tue, 30 Oct 2018)
malbec1 Linux (Ubuntu 16.04.6 LTS) / x86_64  OK  OK  WARNINGS UNNEEDED, same version exists in internal repository
merida1 OS X 10.11.6 El Capitan / x86_64  OK  OK  WARNINGS [ OK ]UNNEEDED, same version exists in internal repository

Summary

Package: BSgenome
Version: 1.50.0
Command: rm -rf BSgenome.buildbin-libdir && mkdir BSgenome.buildbin-libdir && /Users/biocbuild/BBS/utils/build-universal.sh BSgenome_1.50.0.tar.gz /Library/Frameworks/R.framework/Versions/Current/Resources/bin/R BSgenome.buildbin-libdir
StartedAt: 2019-04-16 03:46:41 -0400 (Tue, 16 Apr 2019)
EndedAt: 2019-04-16 03:47:26 -0400 (Tue, 16 Apr 2019)
EllapsedTime: 44.5 seconds
RetCode: 0
Status:  OK 
PackageFile: BSgenome_1.50.0.tgz
PackageFileSize: 6.985 MiB

Command output

##############################################################################
##############################################################################
###
### Running command:
###
###   rm -rf BSgenome.buildbin-libdir && mkdir BSgenome.buildbin-libdir && /Users/biocbuild/BBS/utils/build-universal.sh BSgenome_1.50.0.tar.gz /Library/Frameworks/R.framework/Versions/Current/Resources/bin/R BSgenome.buildbin-libdir
###
##############################################################################
##############################################################################


>>>>>>> 
>>>>>>> INSTALLATION WITH 'R CMD INSTALL --preclean --no-multiarch --library=BSgenome.buildbin-libdir BSgenome_1.50.0.tar.gz'
>>>>>>> 

* installing *source* package ‘BSgenome’ ...
** R
** inst
** byte-compile and prepare package for lazy loading
** help
*** installing help indices
** building package indices
** installing vignettes
** testing if installed package can be loaded
* DONE (BSgenome)