Multiple platform build/check report for BioC 3.9

This page was generated on 2018-12-10 11:49:30 -0500 (Mon, 10 Dec 2018).

git log

Snapshot Date: 2018-12-09 16:46:29 -0500 (Sun, 09 Dec 2018)

HostnameOSArch (*)Platform label (**)R versionInstalled pkgs
malbec2Linux (Ubuntu 18.04.1 LTS)x86_64x86_64-linux-gnuR Under development (unstable) (2018-11-17 r75624) -- "Unsuffered Consequences" 3391
tokay2Windows Server 2012 R2 Standardx64mingw32 / x86_64-w64-mingw32R Under development (unstable) (2018-11-18 r75627) -- "Unsuffered Consequences" 3225
merida2OS X 10.11.6 El Capitanx86_64x86_64-apple-darwin15.6.0R Under development (unstable) (2018-11-27 r75683) -- "Unsuffered Consequences" 3134
Click on any hostname to see more info about the system (e.g. compilers)      (*) as reported by 'uname -p', except on Windows and Mac OS X      (**) as reported by 'gcc -v'

Package status is indicated by one of the following glyphs
 TIMEOUT  INSTALL, BUILD, CHECK or BUILD BIN of package took more than 40 minutes Use the check boxes to show only packages with the selected status types.
 ERROR  Bad DESCRIPTION file or INSTALL, BUILD or BUILD BIN of package failed, or CHECK produced errors
 WARNINGS  CHECK of package produced warnings
 OK  INSTALL, BUILD, CHECK or BUILD BIN of package was OK
 skipped  CHECK or BUILD BIN of package was skipped because the BUILD step failed
 NA  BUILD, CHECK or BUILD BIN result is not available because of an anomaly in the Build System
Click on any glyph in the report below to access the detailed results.
Package propagation status is indicated by one of the following LEDs
YES YES: Package was propagated because it didn't previously exist or version was bumped
NO NO: Package was not propagated because of a problem (impossible dependencies, or version lower than what is already propagated)
UNNEEDED UNNEEDED: Package was not propagated because it is already in the repository with this version. A version bump is required in order to propagate it

A crossed-out package name indicates the package is deprecated


SUMMARYOS / ArchINSTALLBUILDCHECKBUILD BIN
malbec2 Linux (Ubuntu 18.04.1 LTS) / x86_64 
01816210
0501589
2132311343
tokay2 Windows Server 2012 R2 Standard / x64 
0816010
3421564
3283681165
001564
merida2 OS X 10.11.6 El Capitan / x86_64 
07715550
11031528
0312381259
011527
A
ABCDEFGHIJKLMNOPQRSTUVWXYZ
Package 1/1641HostnameOS / ArchINSTALLBUILDCHECKBUILD BIN
a4 1.31.0
Tobias Verbeke
Last Commit: a53c11e
Last Changed Date: 2018-10-30 11:54:29 -0500
malbec2 Linux (Ubuntu 18.04.1 LTS) / x86_64  OK  OK  OK UNNEEDED, same version exists in internal repository
tokay2 Windows Server 2012 R2 Standard / x64  OK  OK  OK  OK UNNEEDED, same version exists in internal repository
merida2 OS X 10.11.6 El Capitan / x86_64  OK  OK  OK  OK UNNEEDED, same version exists in internal repository
Package 2/1641HostnameOS / ArchINSTALLBUILDCHECKBUILD BIN
a4Base 1.31.0
Tobias Verbeke
Last Commit: 9b4dfb7
Last Changed Date: 2018-10-30 11:54:29 -0500
malbec2 Linux (Ubuntu 18.04.1 LTS) / x86_64  OK  OK  OK UNNEEDED, same version exists in internal repository
tokay2 Windows Server 2012 R2 Standard / x64  OK  OK  ERROR  OK 
merida2 OS X 10.11.6 El Capitan / x86_64  OK  OK  OK  OK UNNEEDED, same version exists in internal repository
Package 3/1641HostnameOS / ArchINSTALLBUILDCHECKBUILD BIN
a4Classif 1.31.0
Tobias Verbeke
Last Commit: b920bc2
Last Changed Date: 2018-10-30 11:54:29 -0500
malbec2 Linux (Ubuntu 18.04.1 LTS) / x86_64  OK  OK  OK UNNEEDED, same version exists in internal repository
tokay2 Windows Server 2012 R2 Standard / x64  OK  OK  OK  OK UNNEEDED, same version exists in internal repository
merida2 OS X 10.11.6 El Capitan / x86_64  OK  OK  OK  OK UNNEEDED, same version exists in internal repository
Package 4/1641HostnameOS / ArchINSTALLBUILDCHECKBUILD BIN
a4Core 1.31.0
Tobias Verbeke
Last Commit: 8d8edf9
Last Changed Date: 2018-10-30 11:54:29 -0500
malbec2 Linux (Ubuntu 18.04.1 LTS) / x86_64  OK  OK  OK UNNEEDED, same version exists in internal repository
tokay2 Windows Server 2012 R2 Standard / x64  OK  OK  OK  OK UNNEEDED, same version exists in internal repository
merida2 OS X 10.11.6 El Capitan / x86_64  OK  OK  OK  OK UNNEEDED, same version exists in internal repository
Package 5/1641HostnameOS / ArchINSTALLBUILDCHECKBUILD BIN
a4Preproc 1.31.0
Tobias Verbeke
Last Commit: 8c9ed09
Last Changed Date: 2018-10-30 11:54:29 -0500
malbec2 Linux (Ubuntu 18.04.1 LTS) / x86_64  OK  OK  OK UNNEEDED, same version exists in internal repository
tokay2 Windows Server 2012 R2 Standard / x64  OK  OK  OK  OK UNNEEDED, same version exists in internal repository
merida2 OS X 10.11.6 El Capitan / x86_64  OK  OK  OK  OK UNNEEDED, same version exists in internal repository
Package 6/1641HostnameOS / ArchINSTALLBUILDCHECKBUILD BIN
a4Reporting 1.31.0
Tobias Verbeke , Willem Ligtenberg
Last Commit: 304c72d
Last Changed Date: 2018-10-30 11:54:29 -0500
malbec2 Linux (Ubuntu 18.04.1 LTS) / x86_64  OK  OK  OK UNNEEDED, same version exists in internal repository
tokay2 Windows Server 2012 R2 Standard / x64  OK  OK  OK  OK UNNEEDED, same version exists in internal repository
merida2 OS X 10.11.6 El Capitan / x86_64  OK  OK  OK  OK UNNEEDED, same version exists in internal repository
Package 7/1641HostnameOS / ArchINSTALLBUILDCHECKBUILD BIN
ABAEnrichment 1.13.0
Steffi Grote
Last Commit: 177cca8
Last Changed Date: 2018-10-30 11:54:34 -0500
malbec2 Linux (Ubuntu 18.04.1 LTS) / x86_64  OK  OK  OK UNNEEDED, same version exists in internal repository
tokay2 Windows Server 2012 R2 Standard / x64  OK  OK  OK  OK UNNEEDED, same version exists in internal repository
merida2 OS X 10.11.6 El Capitan / x86_64  OK  OK  OK  OK UNNEEDED, same version exists in internal repository
Package 8/1641HostnameOS / ArchINSTALLBUILDCHECKBUILD BIN
ABarray 1.51.0
Yongming Andrew Sun
Last Commit: 7db2785
Last Changed Date: 2018-10-30 11:54:27 -0500
malbec2 Linux (Ubuntu 18.04.1 LTS) / x86_64  OK  OK  OK UNNEEDED, same version exists in internal repository
tokay2 Windows Server 2012 R2 Standard / x64  OK  OK  OK  OK UNNEEDED, same version exists in internal repository
merida2 OS X 10.11.6 El Capitan / x86_64  OK  OK  OK  OK UNNEEDED, same version exists in internal repository
Package 9/1641HostnameOS / ArchINSTALLBUILDCHECKBUILD BIN
abseqR 1.1.0
JiaHong Fong
Last Commit: 9ffba60
Last Changed Date: 2018-10-30 11:54:40 -0500
malbec2 Linux (Ubuntu 18.04.1 LTS) / x86_64  OK  OK  OK UNNEEDED, same version exists in internal repository
tokay2 Windows Server 2012 R2 Standard / x64  OK  OK  OK  OK UNNEEDED, same version exists in internal repository
merida2 OS X 10.11.6 El Capitan / x86_64  OK  OK  OK  OK UNNEEDED, same version exists in internal repository
Package 10/1641HostnameOS / ArchINSTALLBUILDCHECKBUILD BIN
ABSSeq 1.37.0
Wentao Yang
Last Commit: 1781e4e
Last Changed Date: 2018-10-30 11:54:32 -0500
malbec2 Linux (Ubuntu 18.04.1 LTS) / x86_64  OK  OK  OK UNNEEDED, same version exists in internal repository
tokay2 Windows Server 2012 R2 Standard / x64  OK  OK  OK  OK UNNEEDED, same version exists in internal repository
merida2 OS X 10.11.6 El Capitan / x86_64  OK  OK  OK  OK UNNEEDED, same version exists in internal repository
Package 11/1641HostnameOS / ArchINSTALLBUILDCHECKBUILD BIN
acde 1.13.0
Juan Pablo Acosta
Last Commit: 63fe302
Last Changed Date: 2018-10-30 11:54:34 -0500
malbec2 Linux (Ubuntu 18.04.1 LTS) / x86_64  OK  OK  OK UNNEEDED, same version exists in internal repository
tokay2 Windows Server 2012 R2 Standard / x64  OK  OK  OK  OK UNNEEDED, same version exists in internal repository
merida2 OS X 10.11.6 El Capitan / x86_64  OK  OK  OK  OK UNNEEDED, same version exists in internal repository
Package 12/1641HostnameOS / ArchINSTALLBUILDCHECKBUILD BIN
ACE 1.1.1
Jos B Poell
Last Commit: fc7d88f
Last Changed Date: 2018-11-13 08:09:21 -0500
malbec2 Linux (Ubuntu 18.04.1 LTS) / x86_64  OK  OK  OK UNNEEDED, same version exists in internal repository
tokay2 Windows Server 2012 R2 Standard / x64  OK  OK  OK  OK UNNEEDED, same version exists in internal repository
merida2 OS X 10.11.6 El Capitan / x86_64  OK  OK  OK  OK UNNEEDED, same version exists in internal repository
Package 13/1641HostnameOS / ArchINSTALLBUILDCHECKBUILD BIN
aCGH 1.61.0
Peter Dimitrov
Last Commit: b218a55
Last Changed Date: 2018-10-30 11:54:26 -0500
malbec2 Linux (Ubuntu 18.04.1 LTS) / x86_64  OK  OK  OK UNNEEDED, same version exists in internal repository
tokay2 Windows Server 2012 R2 Standard / x64  OK  OK  OK  OK UNNEEDED, same version exists in internal repository
merida2 OS X 10.11.6 El Capitan / x86_64  OK  OK  OK  OK UNNEEDED, same version exists in internal repository
Package 14/1641HostnameOS / ArchINSTALLBUILDCHECKBUILD BIN
ACME 2.39.0
Sean Davis
Last Commit: 67dae98
Last Changed Date: 2018-10-30 11:54:27 -0500
malbec2 Linux (Ubuntu 18.04.1 LTS) / x86_64  OK  OK  WARNINGS UNNEEDED, same version exists in internal repository
tokay2 Windows Server 2012 R2 Standard / x64  OK  OK  WARNINGS  OK UNNEEDED, same version exists in internal repository
merida2 OS X 10.11.6 El Capitan / x86_64  OK  OK  OK  OK UNNEEDED, same version exists in internal repository
Package 15/1641HostnameOS / ArchINSTALLBUILDCHECKBUILD BIN
ADaCGH2 2.23.0
Ramon Diaz-Uriarte
Last Commit: cba986a
Last Changed Date: 2018-10-30 11:54:29 -0500
malbec2 Linux (Ubuntu 18.04.1 LTS) / x86_64  OK  OK  OK UNNEEDED, same version exists in internal repository
tokay2 Windows Server 2012 R2 Standard / x64  OK  OK  OK  OK UNNEEDED, same version exists in internal repository
merida2 OS X 10.11.6 El Capitan / x86_64  OK  ERROR  skipped  skipped 
Package 16/1641HostnameOS / ArchINSTALLBUILDCHECKBUILD BIN
ADAM 0.99.66
Jose Luiz Rybarczyk Filho
Last Commit: d87ff49
Last Changed Date: 2018-11-15 17:46:12 -0500
malbec2 Linux (Ubuntu 18.04.1 LTS) / x86_64  OK  OK  OK UNNEEDED, same version exists in internal repository
tokay2 Windows Server 2012 R2 Standard / x64  OK  OK  OK  OK UNNEEDED, same version exists in internal repository
merida2 OS X 10.11.6 El Capitan / x86_64  OK  OK  OK  OK UNNEEDED, same version exists in internal repository
Package 17/1641HostnameOS / ArchINSTALLBUILDCHECKBUILD BIN
adaptest 1.3.0
Weixin Cai
Last Commit: 156e9d8
Last Changed Date: 2018-10-30 11:54:39 -0500
malbec2 Linux (Ubuntu 18.04.1 LTS) / x86_64  OK  OK  OK UNNEEDED, same version exists in internal repository
tokay2 Windows Server 2012 R2 Standard / x64  OK  OK  OK  OK UNNEEDED, same version exists in internal repository
merida2 OS X 10.11.6 El Capitan / x86_64  OK  OK  OK  OK UNNEEDED, same version exists in internal repository
Package 18/1641HostnameOS / ArchINSTALLBUILDCHECKBUILD BIN
adSplit 1.53.0
Claudio Lottaz
Last Commit: bbc5ba0
Last Changed Date: 2018-10-30 11:54:27 -0500
malbec2 Linux (Ubuntu 18.04.1 LTS) / x86_64  OK  OK  WARNINGS UNNEEDED, same version exists in internal repository
tokay2 Windows Server 2012 R2 Standard / x64  OK  OK  OK  OK UNNEEDED, same version exists in internal repository
merida2 OS X 10.11.6 El Capitan / x86_64  OK  OK  WARNINGS  OK UNNEEDED, same version exists in internal repository
Package 19/1641HostnameOS / ArchINSTALLBUILDCHECKBUILD BIN
AffiXcan 1.1.2
Alessandro Lussana
Last Commit: 3705793
Last Changed Date: 2018-12-06 08:55:32 -0500
malbec2 Linux (Ubuntu 18.04.1 LTS) / x86_64  OK  OK  OK UNNEEDED, same version exists in internal repository
tokay2 Windows Server 2012 R2 Standard / x64  OK  OK  OK  OK UNNEEDED, same version exists in internal repository
merida2 OS X 10.11.6 El Capitan / x86_64  OK  OK  OK  OK UNNEEDED, same version exists in internal repository
Package 20/1641HostnameOS / ArchINSTALLBUILDCHECKBUILD BIN
affxparser 1.55.0
Kasper Daniel Hansen
Last Commit: 92798dc
Last Changed Date: 2018-10-30 11:54:26 -0500
malbec2 Linux (Ubuntu 18.04.1 LTS) / x86_64  OK  OK  WARNINGS UNNEEDED, same version exists in internal repository
tokay2 Windows Server 2012 R2 Standard / x64  OK  OK  OK  OK UNNEEDED, same version exists in internal repository
merida2 OS X 10.11.6 El Capitan / x86_64  OK  OK  WARNINGS  OK UNNEEDED, same version exists in internal repository
Package 21/1641HostnameOS / ArchINSTALLBUILDCHECKBUILD BIN
affy 1.61.0
Rafael A. Irizarry
Last Commit: 5923c43
Last Changed Date: 2018-10-30 11:54:26 -0500
malbec2 Linux (Ubuntu 18.04.1 LTS) / x86_64  OK  OK  WARNINGS UNNEEDED, same version exists in internal repository
tokay2 Windows Server 2012 R2 Standard / x64  OK  OK  WARNINGS  OK UNNEEDED, same version exists in internal repository
merida2 OS X 10.11.6 El Capitan / x86_64  OK  OK  WARNINGS  OK UNNEEDED, same version exists in internal repository
Package 22/1641HostnameOS / ArchINSTALLBUILDCHECKBUILD BIN
affycomp 1.59.0
Rafael A. Irizarry
Last Commit: 3bad82b
Last Changed Date: 2018-10-30 11:54:26 -0500
malbec2 Linux (Ubuntu 18.04.1 LTS) / x86_64  OK  OK  OK UNNEEDED, same version exists in internal repository
tokay2 Windows Server 2012 R2 Standard / x64  OK  OK  WARNINGS  OK UNNEEDED, same version exists in internal repository
merida2 OS X 10.11.6 El Capitan / x86_64  OK  OK  OK  OK UNNEEDED, same version exists in internal repository
Package 23/1641HostnameOS / ArchINSTALLBUILDCHECKBUILD BIN
AffyCompatible 1.43.0
Martin Morgan
Last Commit: ca4aee9
Last Changed Date: 2018-10-30 11:54:27 -0500
malbec2 Linux (Ubuntu 18.04.1 LTS) / x86_64  OK  OK  OK UNNEEDED, same version exists in internal repository
tokay2 Windows Server 2012 R2 Standard / x64  OK  OK  OK  OK UNNEEDED, same version exists in internal repository
merida2 OS X 10.11.6 El Capitan / x86_64  OK  OK  OK  OK UNNEEDED, same version exists in internal repository
Package 24/1641HostnameOS / ArchINSTALLBUILDCHECKBUILD BIN
affyContam 1.41.0
V. Carey
Last Commit: 7d89d24
Last Changed Date: 2018-10-30 11:54:28 -0500
malbec2 Linux (Ubuntu 18.04.1 LTS) / x86_64  OK  OK  OK UNNEEDED, same version exists in internal repository
tokay2 Windows Server 2012 R2 Standard / x64  OK  OK  OK  OK UNNEEDED, same version exists in internal repository
merida2 OS X 10.11.6 El Capitan / x86_64  OK  OK  OK  OK UNNEEDED, same version exists in internal repository
Package 25/1641HostnameOS / ArchINSTALLBUILDCHECKBUILD BIN
affycoretools 1.55.0
James W. MacDonald
Last Commit: 9f5be01
Last Changed Date: 2018-10-30 11:54:26 -0500
malbec2 Linux (Ubuntu 18.04.1 LTS) / x86_64  OK  OK  OK UNNEEDED, same version exists in internal repository
tokay2 Windows Server 2012 R2 Standard / x64  OK  OK  WARNINGS  OK UNNEEDED, same version exists in internal repository
merida2 OS X 10.11.6 El Capitan / x86_64  OK  OK  OK  OK UNNEEDED, same version exists in internal repository
Package 26/1641HostnameOS / ArchINSTALLBUILDCHECKBUILD BIN
AffyExpress 1.49.0
Xuejun Arthur Li
Last Commit: 4b33ef4
Last Changed Date: 2018-10-30 11:54:27 -0500
malbec2 Linux (Ubuntu 18.04.1 LTS) / x86_64  OK  OK  OK UNNEEDED, same version exists in internal repository
tokay2 Windows Server 2012 R2 Standard / x64  OK  OK  OK  OK UNNEEDED, same version exists in internal repository
merida2 OS X 10.11.6 El Capitan / x86_64  OK  OK  OK  OK UNNEEDED, same version exists in internal repository
Package 27/1641HostnameOS / ArchINSTALLBUILDCHECKBUILD BIN
affyILM 1.35.0
Myriam Kroll and Fabrice Berger
Last Commit: 081281b
Last Changed Date: 2018-10-30 11:54:28 -0500
malbec2 Linux (Ubuntu 18.04.1 LTS) / x86_64  OK  OK  OK UNNEEDED, same version exists in internal repository
tokay2 Windows Server 2012 R2 Standard / x64  OK  OK  OK  OK UNNEEDED, same version exists in internal repository
merida2 OS X 10.11.6 El Capitan / x86_64  OK  OK  OK  OK UNNEEDED, same version exists in internal repository
Package 28/1641HostnameOS / ArchINSTALLBUILDCHECKBUILD BIN
affyio 1.53.0
Ben Bolstad
Last Commit: 546d10f
Last Changed Date: 2018-10-30 11:54:26 -0500
malbec2 Linux (Ubuntu 18.04.1 LTS) / x86_64  OK  OK  OK UNNEEDED, same version exists in internal repository
tokay2 Windows Server 2012 R2 Standard / x64  OK  OK  OK  OK UNNEEDED, same version exists in internal repository
merida2 OS X 10.11.6 El Capitan / x86_64  OK  OK  OK  OK UNNEEDED, same version exists in internal repository
Package 29/1641HostnameOS / ArchINSTALLBUILDCHECKBUILD BIN
affylmGUI 1.57.0
Gordon Smyth
Last Commit: 96d69da
Last Changed Date: 2018-10-30 11:54:26 -0500
malbec2 Linux (Ubuntu 18.04.1 LTS) / x86_64  OK  OK  OK UNNEEDED, same version exists in internal repository
tokay2 Windows Server 2012 R2 Standard / x64  OK  OK  OK  OK UNNEEDED, same version exists in internal repository
merida2 OS X 10.11.6 El Capitan / x86_64  OK  OK  OK  OK UNNEEDED, same version exists in internal repository
Package 30/1641HostnameOS / ArchINSTALLBUILDCHECKBUILD BIN
affyPara 1.43.0
Markus Schmidberger
Last Commit: 9af1c98
Last Changed Date: 2018-10-30 11:54:27 -0500
malbec2 Linux (Ubuntu 18.04.1 LTS) / x86_64  OK  OK  OK UNNEEDED, same version exists in internal repository
tokay2 Windows Server 2012 R2 Standard / x64  OK  OK  OK  OK UNNEEDED, same version exists in internal repository
merida2 OS X 10.11.6 El Capitan / x86_64  OK  OK  OK  OK UNNEEDED, same version exists in internal repository
Package 31/1641HostnameOS / ArchINSTALLBUILDCHECKBUILD BIN
affypdnn 1.57.0
Laurent Gautier
Last Commit: 24f5dd6
Last Changed Date: 2018-10-30 11:54:26 -0500
malbec2 Linux (Ubuntu 18.04.1 LTS) / x86_64  OK  OK  OK UNNEEDED, same version exists in internal repository
tokay2 Windows Server 2012 R2 Standard / x64  OK  OK  OK  OK UNNEEDED, same version exists in internal repository
merida2 OS X 10.11.6 El Capitan / x86_64  OK  OK  OK  OK UNNEEDED, same version exists in internal repository
Package 32/1641HostnameOS / ArchINSTALLBUILDCHECKBUILD BIN
affyPLM 1.59.0
Ben Bolstad
Last Commit: f13e03a
Last Changed Date: 2018-10-30 11:54:26 -0500
malbec2 Linux (Ubuntu 18.04.1 LTS) / x86_64  OK  OK  OK UNNEEDED, same version exists in internal repository
tokay2 Windows Server 2012 R2 Standard / x64  OK  OK  OK  OK UNNEEDED, same version exists in internal repository
merida2 OS X 10.11.6 El Capitan / x86_64  OK  OK  OK  OK UNNEEDED, same version exists in internal repository
Package 33/1641HostnameOS / ArchINSTALLBUILDCHECKBUILD BIN
affyQCReport 1.61.0
Craig Parman
Last Commit: 9f28819
Last Changed Date: 2018-10-30 11:54:26 -0500
malbec2 Linux (Ubuntu 18.04.1 LTS) / x86_64  OK  OK  OK UNNEEDED, same version exists in internal repository
tokay2 Windows Server 2012 R2 Standard / x64  OK  OK  OK  OK UNNEEDED, same version exists in internal repository
merida2 OS X 10.11.6 El Capitan / x86_64  OK  OK  OK  OK UNNEEDED, same version exists in internal repository
Package 34/1641HostnameOS / ArchINSTALLBUILDCHECKBUILD BIN
AffyRNADegradation 1.29.0
Mario Fasold
Last Commit: f8d54d9
Last Changed Date: 2018-10-30 11:54:30 -0500
malbec2 Linux (Ubuntu 18.04.1 LTS) / x86_64  OK  OK  OK UNNEEDED, same version exists in internal repository
tokay2 Windows Server 2012 R2 Standard / x64  OK  OK  OK  OK UNNEEDED, same version exists in internal repository
merida2 OS X 10.11.6 El Capitan / x86_64  OK  OK  OK  OK UNNEEDED, same version exists in internal repository
Package 35/1641HostnameOS / ArchINSTALLBUILDCHECKBUILD BIN
AGDEX 1.31.0
Cuilan lani Gao
Last Commit: b2ba2e6
Last Changed Date: 2018-10-30 11:54:29 -0500
malbec2 Linux (Ubuntu 18.04.1 LTS) / x86_64  OK  OK  OK UNNEEDED, same version exists in internal repository
tokay2 Windows Server 2012 R2 Standard / x64  OK  OK  WARNINGS  OK UNNEEDED, same version exists in internal repository
merida2 OS X 10.11.6 El Capitan / x86_64  OK  OK  OK  OK UNNEEDED, same version exists in internal repository
Package 36/1641HostnameOS / ArchINSTALLBUILDCHECKBUILD BIN
agilp 3.15.0
Benny Chain
Last Commit: 78de031
Last Changed Date: 2018-10-30 11:54:30 -0500
malbec2 Linux (Ubuntu 18.04.1 LTS) / x86_64  OK  OK  OK UNNEEDED, same version exists in internal repository
tokay2 Windows Server 2012 R2 Standard / x64  OK  OK  OK  OK UNNEEDED, same version exists in internal repository
merida2 OS X 10.11.6 El Capitan / x86_64  OK  OK  OK  OK UNNEEDED, same version exists in internal repository
Package 37/1641HostnameOS / ArchINSTALLBUILDCHECKBUILD BIN
AgiMicroRna 2.33.0
Pedro Lopez-Romero
Last Commit: d2f2aaa
Last Changed Date: 2018-10-30 11:54:28 -0500
malbec2 Linux (Ubuntu 18.04.1 LTS) / x86_64  OK  OK  OK UNNEEDED, same version exists in internal repository
tokay2 Windows Server 2012 R2 Standard / x64  OK  OK  OK  OK UNNEEDED, same version exists in internal repository
merida2 OS X 10.11.6 El Capitan / x86_64  OK  OK  OK  OK UNNEEDED, same version exists in internal repository
Package 38/1641HostnameOS / ArchINSTALLBUILDCHECKBUILD BIN
AIMS 1.15.0
Eric R Paquet
Last Commit: 96fd868
Last Changed Date: 2018-10-30 11:54:33 -0500
malbec2 Linux (Ubuntu 18.04.1 LTS) / x86_64  OK  OK  OK UNNEEDED, same version exists in internal repository
tokay2 Windows Server 2012 R2 Standard / x64  OK  OK  OK  OK UNNEEDED, same version exists in internal repository
merida2 OS X 10.11.6 El Capitan / x86_64  OK  OK  OK  OK UNNEEDED, same version exists in internal repository
Package 39/1641HostnameOS / ArchINSTALLBUILDCHECKBUILD BIN
ALDEx2 1.15.2
Greg Gloor
Last Commit: cb86a2f
Last Changed Date: 2018-11-29 12:08:31 -0500
malbec2 Linux (Ubuntu 18.04.1 LTS) / x86_64  OK  OK  OK UNNEEDED, same version exists in internal repository
tokay2 Windows Server 2012 R2 Standard / x64  OK  OK  OK  OK UNNEEDED, same version exists in internal repository
merida2 OS X 10.11.6 El Capitan / x86_64  OK  OK  OK  OK UNNEEDED, same version exists in internal repository
Package 40/1641HostnameOS / ArchINSTALLBUILDCHECKBUILD BIN
AllelicImbalance 1.21.0
Jesper R Gadin
Last Commit: 9b5cb59
Last Changed Date: 2018-10-30 11:54:31 -0500
malbec2 Linux (Ubuntu 18.04.1 LTS) / x86_64  OK  OK  OK UNNEEDED, same version exists in internal repository
tokay2 Windows Server 2012 R2 Standard / x64  OK  OK  OK  OK UNNEEDED, same version exists in internal repository
merida2 OS X 10.11.6 El Capitan / x86_64  OK  OK  OK  OK UNNEEDED, same version exists in internal repository
Package 41/1641HostnameOS / ArchINSTALLBUILDCHECKBUILD BIN
alpine 1.9.0
Michael Love
Last Commit: bb480ba
Last Changed Date: 2018-10-30 11:54:36 -0500
malbec2 Linux (Ubuntu 18.04.1 LTS) / x86_64  OK  OK  OK UNNEEDED, same version exists in internal repository
tokay2 Windows Server 2012 R2 Standard / x64  OK  OK  OK  OK UNNEEDED, same version exists in internal repository
merida2 OS X 10.11.6 El Capitan / x86_64  OK  OK  OK  OK UNNEEDED, same version exists in internal repository
Package 42/1641HostnameOS / ArchINSTALLBUILDCHECKBUILD BIN
alsace 1.19.0
Ron Wehrens
Last Commit: 3273f76
Last Changed Date: 2018-11-13 03:55:00 -0500
malbec2 Linux (Ubuntu 18.04.1 LTS) / x86_64  OK  OK  OK UNNEEDED, same version exists in internal repository
tokay2 Windows Server 2012 R2 Standard / x64  OK  OK  OK  OK UNNEEDED, same version exists in internal repository
merida2 OS X 10.11.6 El Capitan / x86_64  OK  OK  OK  OK UNNEEDED, same version exists in internal repository
Package 43/1641HostnameOS / ArchINSTALLBUILDCHECKBUILD BIN
altcdfenvs 2.45.0
Laurent Gautier
Last Commit: ecbce17
Last Changed Date: 2018-10-30 11:54:26 -0500
malbec2 Linux (Ubuntu 18.04.1 LTS) / x86_64  OK  OK  OK UNNEEDED, same version exists in internal repository
tokay2 Windows Server 2012 R2 Standard / x64  OK  OK  OK  OK UNNEEDED, same version exists in internal repository
merida2 OS X 10.11.6 El Capitan / x86_64  OK  OK  OK  OK UNNEEDED, same version exists in internal repository
Package 44/1641HostnameOS / ArchINSTALLBUILDCHECKBUILD BIN
AMOUNTAIN 1.9.0
Dong Li
Last Commit: 6373b61
Last Changed Date: 2018-10-30 11:54:36 -0500
malbec2 Linux (Ubuntu 18.04.1 LTS) / x86_64  OK  OK  OK UNNEEDED, same version exists in internal repository
tokay2 Windows Server 2012 R2 Standard / x64  OK  OK  OK  OK UNNEEDED, same version exists in internal repository
merida2 OS X 10.11.6 El Capitan / x86_64  OK  OK  OK  OK UNNEEDED, same version exists in internal repository
Package 45/1641HostnameOS / ArchINSTALLBUILDCHECKBUILD BIN
amplican 1.5.0
Eivind Valen
Last Commit: ea10b99
Last Changed Date: 2018-10-30 11:54:38 -0500
malbec2 Linux (Ubuntu 18.04.1 LTS) / x86_64  OK  OK  OK UNNEEDED, same version exists in internal repository
tokay2 Windows Server 2012 R2 Standard / x64  OK  OK  OK  OK UNNEEDED, same version exists in internal repository
merida2 OS X 10.11.6 El Capitan / x86_64  ERROR  ERROR  skipped  skipped 
Package 46/1641HostnameOS / ArchINSTALLBUILDCHECKBUILD BIN
AnalysisPageServer 1.17.0
Brad Friedman
Last Commit: 1877999
Last Changed Date: 2018-10-30 11:54:33 -0500
malbec2 Linux (Ubuntu 18.04.1 LTS) / x86_64  OK  OK  OK UNNEEDED, same version exists in internal repository
tokay2 Windows Server 2012 R2 Standard / x64  OK  OK  WARNINGS  OK UNNEEDED, same version exists in internal repository
merida2 OS X 10.11.6 El Capitan / x86_64  OK  OK  OK  OK UNNEEDED, same version exists in internal repository
Package 47/1641HostnameOS / ArchINSTALLBUILDCHECKBUILD BIN
anamiR 1.11.0
Ti-Tai Wang
Last Commit: bd88b14
Last Changed Date: 2018-10-30 11:54:36 -0500
malbec2 Linux (Ubuntu 18.04.1 LTS) / x86_64  OK  OK  OK UNNEEDED, same version exists in internal repository
tokay2 Windows Server 2012 R2 Standard / x64  OK  OK  OK  OK UNNEEDED, same version exists in internal repository
merida2 OS X 10.11.6 El Capitan / x86_64  OK  OK  OK  OK UNNEEDED, same version exists in internal repository
Package 48/1641HostnameOS / ArchINSTALLBUILDCHECKBUILD BIN
Anaquin 2.7.0
Ted Wong
Last Commit: 5837bdc
Last Changed Date: 2018-10-30 11:54:36 -0500
malbec2 Linux (Ubuntu 18.04.1 LTS) / x86_64  OK  OK  OK UNNEEDED, same version exists in internal repository
tokay2 Windows Server 2012 R2 Standard / x64  OK  OK  OK  OK UNNEEDED, same version exists in internal repository
merida2 OS X 10.11.6 El Capitan / x86_64  OK  OK  OK  OK UNNEEDED, same version exists in internal repository
Package 49/1641HostnameOS / ArchINSTALLBUILDCHECKBUILD BIN
AneuFinder 1.11.1
Aaron Taudt
Last Commit: e7af064
Last Changed Date: 2018-11-17 03:13:10 -0500
malbec2 Linux (Ubuntu 18.04.1 LTS) / x86_64  OK  OK  OK UNNEEDED, same version exists in internal repository
tokay2 Windows Server 2012 R2 Standard / x64  OK  OK  OK  OK UNNEEDED, same version exists in internal repository
merida2 OS X 10.11.6 El Capitan / x86_64  OK  OK  OK  OK UNNEEDED, same version exists in internal repository
Package 50/1641HostnameOS / ArchINSTALLBUILDCHECKBUILD BIN
ANF 1.5.0
Tianle Ma
Last Commit: 5bac4c9
Last Changed Date: 2018-10-30 11:54:38 -0500
malbec2 Linux (Ubuntu 18.04.1 LTS) / x86_64  OK  OK  OK UNNEEDED, same version exists in internal repository
tokay2 Windows Server 2012 R2 Standard / x64  OK  OK  OK  OK UNNEEDED, same version exists in internal repository
merida2 OS X 10.11.6 El Capitan / x86_64  OK  OK  OK  OK UNNEEDED, same version exists in internal repository
Package 51/1641HostnameOS / ArchINSTALLBUILDCHECKBUILD BIN
annaffy 1.55.0
Colin A. Smith
Last Commit: 16c28cd
Last Changed Date: 2018-10-30 11:54:26 -0500
malbec2 Linux (Ubuntu 18.04.1 LTS) / x86_64  OK  OK  OK UNNEEDED, same version exists in internal repository
tokay2 Windows Server 2012 R2 Standard / x64  OK  OK  OK  OK UNNEEDED, same version exists in internal repository
merida2 OS X 10.11.6 El Capitan / x86_64  OK  OK  OK  OK UNNEEDED, same version exists in internal repository
Package 52/1641HostnameOS / ArchINSTALLBUILDCHECKBUILD BIN
annmap 1.25.0
Chris Wirth
Last Commit: cfdf55a
Last Changed Date: 2018-10-30 11:54:30 -0500
malbec2 Linux (Ubuntu 18.04.1 LTS) / x86_64  OK  OK  WARNINGS UNNEEDED, same version exists in internal repository
tokay2 Windows Server 2012 R2 Standard / x64 ...NOT SUPPORTED...
merida2 OS X 10.11.6 El Capitan / x86_64  OK  OK  WARNINGS  OK UNNEEDED, same version exists in internal repository
Package 53/1641HostnameOS / ArchINSTALLBUILDCHECKBUILD BIN
annotate 1.61.0
Bioconductor Package Maintainer
Last Commit: e4b9714
Last Changed Date: 2018-10-30 11:54:26 -0500
malbec2 Linux (Ubuntu 18.04.1 LTS) / x86_64  OK  OK  OK UNNEEDED, same version exists in internal repository
tokay2 Windows Server 2012 R2 Standard / x64  OK  OK  OK  OK UNNEEDED, same version exists in internal repository
merida2 OS X 10.11.6 El Capitan / x86_64  OK  OK  OK  OK UNNEEDED, same version exists in internal repository
Package 54/1641HostnameOS / ArchINSTALLBUILDCHECKBUILD BIN
AnnotationDbi 1.45.0
Bioconductor Package Maintainer
Last Commit: 6d37e41
Last Changed Date: 2018-10-30 11:54:27 -0500
malbec2 Linux (Ubuntu 18.04.1 LTS) / x86_64  OK  OK  OK UNNEEDED, same version exists in internal repository
tokay2 Windows Server 2012 R2 Standard / x64  OK  OK  OK  OK UNNEEDED, same version exists in internal repository
merida2 OS X 10.11.6 El Capitan / x86_64  OK  OK  OK  OK UNNEEDED, same version exists in internal repository
Package 55/1641HostnameOS / ArchINSTALLBUILDCHECKBUILD BIN
AnnotationFilter 1.7.0
Bioconductor Package Maintainer
Last Commit: e11a05a
Last Changed Date: 2018-10-30 11:54:37 -0500
malbec2 Linux (Ubuntu 18.04.1 LTS) / x86_64  OK  OK  OK UNNEEDED, same version exists in internal repository
tokay2 Windows Server 2012 R2 Standard / x64  OK  OK  OK  OK UNNEEDED, same version exists in internal repository
merida2 OS X 10.11.6 El Capitan / x86_64  OK  OK  OK  OK UNNEEDED, same version exists in internal repository
Package 56/1641HostnameOS / ArchINSTALLBUILDCHECKBUILD BIN
AnnotationForge 1.25.0
Bioconductor Package Maintainer
Last Commit: 5b53a75
Last Changed Date: 2018-10-30 11:54:30 -0500
malbec2 Linux (Ubuntu 18.04.1 LTS) / x86_64  OK  OK  OK UNNEEDED, same version exists in internal repository
tokay2 Windows Server 2012 R2 Standard / x64  OK  OK  OK  OK UNNEEDED, same version exists in internal repository
merida2 OS X 10.11.6 El Capitan / x86_64  OK  OK  OK  OK UNNEEDED, same version exists in internal repository
Package 57/1641HostnameOS / ArchINSTALLBUILDCHECKBUILD BIN
AnnotationFuncs 1.33.0
Stefan McKinnon Edwards
Last Commit: 8764481
Last Changed Date: 2018-10-30 11:54:29 -0500
malbec2 Linux (Ubuntu 18.04.1 LTS) / x86_64  OK  OK  OK UNNEEDED, same version exists in internal repository
tokay2 Windows Server 2012 R2 Standard / x64  OK  OK  OK  OK UNNEEDED, same version exists in internal repository
merida2 OS X 10.11.6 El Capitan / x86_64  OK  OK  OK  OK UNNEEDED, same version exists in internal repository
Package 58/1641HostnameOS / ArchINSTALLBUILDCHECKBUILD BIN
AnnotationHub 2.15.3
Bioconductor Package Maintainer
Last Commit: bc0167f
Last Changed Date: 2018-12-04 07:35:10 -0500
malbec2 Linux (Ubuntu 18.04.1 LTS) / x86_64  OK  OK  WARNINGS UNNEEDED, same version exists in internal repository
tokay2 Windows Server 2012 R2 Standard / x64  OK  OK  WARNINGS  OK UNNEEDED, same version exists in internal repository
merida2 OS X 10.11.6 El Capitan / x86_64  OK  OK  WARNINGS  OK UNNEEDED, same version exists in internal repository
Package 59/1641HostnameOS / ArchINSTALLBUILDCHECKBUILD BIN
AnnotationHubData 1.13.2
Bioconductor Package Maintainer
Last Commit: b307bc8
Last Changed Date: 2018-12-03 09:38:49 -0500
malbec2 Linux (Ubuntu 18.04.1 LTS) / x86_64  OK  OK  OK UNNEEDED, same version exists in internal repository
tokay2 Windows Server 2012 R2 Standard / x64  OK  OK  OK  OK UNNEEDED, same version exists in internal repository
merida2 OS X 10.11.6 El Capitan / x86_64  OK  OK  OK  OK UNNEEDED, same version exists in internal repository
Package 60/1641HostnameOS / ArchINSTALLBUILDCHECKBUILD BIN
annotationTools 1.57.0
Alexandre Kuhn
Last Commit: c171781
Last Changed Date: 2018-10-30 11:54:27 -0500
malbec2 Linux (Ubuntu 18.04.1 LTS) / x86_64  OK  OK  OK UNNEEDED, same version exists in internal repository
tokay2 Windows Server 2012 R2 Standard / x64  OK  OK  OK  OK UNNEEDED, same version exists in internal repository
merida2 OS X 10.11.6 El Capitan / x86_64  OK  OK  OK  OK UNNEEDED, same version exists in internal repository
Package 61/1641HostnameOS / ArchINSTALLBUILDCHECKBUILD BIN
annotatr 1.9.0
Raymond G. Cavalcante
Last Commit: b666cb2
Last Changed Date: 2018-10-30 11:54:36 -0500
malbec2 Linux (Ubuntu 18.04.1 LTS) / x86_64  OK  OK  OK UNNEEDED, same version exists in internal repository
tokay2 Windows Server 2012 R2 Standard / x64  OK  OK  OK  OK UNNEEDED, same version exists in internal repository
merida2 OS X 10.11.6 El Capitan / x86_64  OK  OK  OK  OK UNNEEDED, same version exists in internal repository
Package 62/1641HostnameOS / ArchINSTALLBUILDCHECKBUILD BIN
anota 1.31.0
Ola Larsson
Last Commit: 93225e0
Last Changed Date: 2018-10-30 11:54:29 -0500
malbec2 Linux (Ubuntu 18.04.1 LTS) / x86_64  OK  OK  OK UNNEEDED, same version exists in internal repository
tokay2 Windows Server 2012 R2 Standard / x64  OK  OK  OK  OK UNNEEDED, same version exists in internal repository
merida2 OS X 10.11.6 El Capitan / x86_64  OK  OK  OK  OK UNNEEDED, same version exists in internal repository
Package 63/1641HostnameOS / ArchINSTALLBUILDCHECKBUILD BIN
anota2seq 1.5.0
Christian Oertlin , Julie Lorent
Last Commit: d042987
Last Changed Date: 2018-10-30 11:54:38 -0500
malbec2 Linux (Ubuntu 18.04.1 LTS) / x86_64  OK  OK  OK UNNEEDED, same version exists in internal repository
tokay2 Windows Server 2012 R2 Standard / x64  OK  OK  OK  OK UNNEEDED, same version exists in internal repository
merida2 OS X 10.11.6 El Capitan / x86_64  OK  OK  OK  OK UNNEEDED, same version exists in internal repository
Package 64/1641HostnameOS / ArchINSTALLBUILDCHECKBUILD BIN
antiProfiles 1.23.0
Hector Corrada Bravo
Last Commit: 195d477
Last Changed Date: 2018-10-30 11:54:31 -0500
malbec2 Linux (Ubuntu 18.04.1 LTS) / x86_64  OK  OK  OK UNNEEDED, same version exists in internal repository
tokay2 Windows Server 2012 R2 Standard / x64  OK  OK  OK  OK UNNEEDED, same version exists in internal repository
merida2 OS X 10.11.6 El Capitan / x86_64  OK  OK  OK  OK UNNEEDED, same version exists in internal repository
Package 65/1641HostnameOS / ArchINSTALLBUILDCHECKBUILD BIN
apComplex 2.49.0
Denise Scholtens
Last Commit: 2844969
Last Changed Date: 2018-10-30 11:54:26 -0500
malbec2 Linux (Ubuntu 18.04.1 LTS) / x86_64  OK  OK  OK UNNEEDED, same version exists in internal repository
tokay2 Windows Server 2012 R2 Standard / x64  OK  OK  OK  OK UNNEEDED, same version exists in internal repository
merida2 OS X 10.11.6 El Capitan / x86_64  OK  OK  OK  OK UNNEEDED, same version exists in internal repository
Package 66/1641HostnameOS / ArchINSTALLBUILDCHECKBUILD BIN
apeglm 1.5.1
Anqi Zhu
Last Commit: 487d578
Last Changed Date: 2018-11-05 09:21:15 -0500
malbec2 Linux (Ubuntu 18.04.1 LTS) / x86_64  OK  OK  OK UNNEEDED, same version exists in internal repository
tokay2 Windows Server 2012 R2 Standard / x64  OK  OK  OK  OK UNNEEDED, same version exists in internal repository
merida2 OS X 10.11.6 El Capitan / x86_64  OK  OK  OK  OK UNNEEDED, same version exists in internal repository
Package 67/1641HostnameOS / ArchINSTALLBUILDCHECKBUILD BIN
appreci8R 1.1.0
Sarah Sandmann
Last Commit: 240c997
Last Changed Date: 2018-10-30 11:54:39 -0500
malbec2 Linux (Ubuntu 18.04.1 LTS) / x86_64  OK  ERROR  skipped 
tokay2 Windows Server 2012 R2 Standard / x64  OK  OK  OK  OK UNNEEDED, same version exists in internal repository
merida2 OS X 10.11.6 El Capitan / x86_64  OK  OK  OK  OK UNNEEDED, same version exists in internal repository
Package 68/1641HostnameOS / ArchINSTALLBUILDCHECKBUILD BIN
aroma.light 3.13.0
Henrik Bengtsson
Last Commit: 6689cc8
Last Changed Date: 2018-10-30 11:54:27 -0500
malbec2 Linux (Ubuntu 18.04.1 LTS) / x86_64  OK  OK  OK UNNEEDED, same version exists in internal repository
tokay2 Windows Server 2012 R2 Standard / x64  OK  OK  OK  OK UNNEEDED, same version exists in internal repository
merida2 OS X 10.11.6 El Capitan / x86_64  OK  OK  OK  OK UNNEEDED, same version exists in internal repository
Package 69/1641HostnameOS / ArchINSTALLBUILDCHECKBUILD BIN
ArrayExpress 1.43.0
Suhaib Mohammed
Last Commit: 09e0a49
Last Changed Date: 2018-10-30 11:54:28 -0500
malbec2 Linux (Ubuntu 18.04.1 LTS) / x86_64  OK  OK  OK UNNEEDED, same version exists in internal repository
tokay2 Windows Server 2012 R2 Standard / x64  OK  OK  OK  OK UNNEEDED, same version exists in internal repository
merida2 OS X 10.11.6 El Capitan / x86_64  OK  OK  OK  OK UNNEEDED, same version exists in internal repository
Package 70/1641HostnameOS / ArchINSTALLBUILDCHECKBUILD BIN
ArrayExpressHTS 1.33.0
Angela Goncalves , Andrew Tikhonov
Last Commit: 28887d0
Last Changed Date: 2018-10-30 11:54:29 -0500
malbec2 Linux (Ubuntu 18.04.1 LTS) / x86_64  OK  OK  OK UNNEEDED, same version exists in internal repository
tokay2 Windows Server 2012 R2 Standard / x64 ...NOT SUPPORTED...
merida2 OS X 10.11.6 El Capitan / x86_64  ERROR  ERROR  skipped  skipped 
Package 71/1641HostnameOS / ArchINSTALLBUILDCHECKBUILD BIN
arrayMvout 1.41.0
V. Carey
Last Commit: a1e5a96
Last Changed Date: 2018-10-30 11:54:28 -0500
malbec2 Linux (Ubuntu 18.04.1 LTS) / x86_64  OK  OK  OK UNNEEDED, same version exists in internal repository
tokay2 Windows Server 2012 R2 Standard / x64  OK  OK  OK  OK UNNEEDED, same version exists in internal repository
merida2 OS X 10.11.6 El Capitan / x86_64  OK  OK  OK  OK UNNEEDED, same version exists in internal repository
Package 72/1641HostnameOS / ArchINSTALLBUILDCHECKBUILD BIN
arrayQuality 1.61.0
Agnes Paquet
Last Commit: 488928a
Last Changed Date: 2018-10-30 11:54:26 -0500
malbec2 Linux (Ubuntu 18.04.1 LTS) / x86_64  OK  OK  WARNINGS UNNEEDED, same version exists in internal repository
tokay2 Windows Server 2012 R2 Standard / x64  OK  OK  WARNINGS  OK UNNEEDED, same version exists in internal repository
merida2 OS X 10.11.6 El Capitan / x86_64  OK  OK  WARNINGS  OK UNNEEDED, same version exists in internal repository
Package 73/1641HostnameOS / ArchINSTALLBUILDCHECKBUILD BIN
arrayQualityMetrics 3.39.0
Mike Smith
Last Commit: f9dbc77
Last Changed Date: 2018-10-30 11:54:27 -0500
malbec2 Linux (Ubuntu 18.04.1 LTS) / x86_64  OK  OK  OK UNNEEDED, same version exists in internal repository
tokay2 Windows Server 2012 R2 Standard / x64  OK  OK  OK  OK UNNEEDED, same version exists in internal repository
merida2 OS X 10.11.6 El Capitan / x86_64  ERROR  ERROR  skipped  skipped 
Package 74/1641HostnameOS / ArchINSTALLBUILDCHECKBUILD BIN
ArrayTools 1.43.0
Arthur Li
Last Commit: 92a31ab
Last Changed Date: 2018-10-30 11:54:28 -0500
malbec2 Linux (Ubuntu 18.04.1 LTS) / x86_64  OK  OK  OK UNNEEDED, same version exists in internal repository
tokay2 Windows Server 2012 R2 Standard / x64  OK  OK  OK  OK UNNEEDED, same version exists in internal repository
merida2 OS X 10.11.6 El Capitan / x86_64  OK  OK  OK  OK UNNEEDED, same version exists in internal repository
Package 75/1641HostnameOS / ArchINSTALLBUILDCHECKBUILD BIN
ArrayTV 1.21.0
Eitan Halper-Stromberg
Last Commit: 859fcb7
Last Changed Date: 2018-10-30 11:54:31 -0500
malbec2 Linux (Ubuntu 18.04.1 LTS) / x86_64  OK  OK  OK UNNEEDED, same version exists in internal repository
tokay2 Windows Server 2012 R2 Standard / x64  OK  OK  OK  OK UNNEEDED, same version exists in internal repository
merida2 OS X 10.11.6 El Capitan / x86_64  OK  OK  OK  OK UNNEEDED, same version exists in internal repository
Package 76/1641HostnameOS / ArchINSTALLBUILDCHECKBUILD BIN
ARRmNormalization 1.23.0
Jean-Philippe Fortin
Last Commit: 939790e
Last Changed Date: 2018-10-30 11:54:31 -0500
malbec2 Linux (Ubuntu 18.04.1 LTS) / x86_64  OK  OK  OK UNNEEDED, same version exists in internal repository
tokay2 Windows Server 2012 R2 Standard / x64  OK  OK  OK  OK UNNEEDED, same version exists in internal repository
merida2 OS X 10.11.6 El Capitan / x86_64  OK  OK  OK  OK UNNEEDED, same version exists in internal repository
Package 77/1641HostnameOS / ArchINSTALLBUILDCHECKBUILD BIN
artMS 1.1.1
David Jimenez-Morales
Last Commit: b0876f0
Last Changed Date: 2018-11-04 12:09:28 -0500
malbec2 Linux (Ubuntu 18.04.1 LTS) / x86_64  OK  OK  OK UNNEEDED, same version exists in internal repository
tokay2 Windows Server 2012 R2 Standard / x64  OK  OK  OK  OK UNNEEDED, same version exists in internal repository
merida2 OS X 10.11.6 El Capitan / x86_64  OK  OK  OK  OK UNNEEDED, same version exists in internal repository
Package 78/1641HostnameOS / ArchINSTALLBUILDCHECKBUILD BIN
ASAFE 1.9.0
Qian Zhang
Last Commit: b2bd117
Last Changed Date: 2018-10-30 11:54:36 -0500
malbec2 Linux (Ubuntu 18.04.1 LTS) / x86_64  OK  OK  OK UNNEEDED, same version exists in internal repository
tokay2 Windows Server 2012 R2 Standard / x64  OK  OK  OK  OK UNNEEDED, same version exists in internal repository
merida2 OS X 10.11.6 El Capitan / x86_64  OK  OK  OK  OK UNNEEDED, same version exists in internal repository
Package 79/1641HostnameOS / ArchINSTALLBUILDCHECKBUILD BIN
ASEB 1.27.0
Likun Wang
Last Commit: fbc98b9
Last Changed Date: 2018-10-30 11:54:30 -0500
malbec2 Linux (Ubuntu 18.04.1 LTS) / x86_64  OK  OK  OK UNNEEDED, same version exists in internal repository
tokay2 Windows Server 2012 R2 Standard / x64  OK  OK  OK  OK UNNEEDED, same version exists in internal repository
merida2 OS X 10.11.6 El Capitan / x86_64  OK  OK  OK  OK UNNEEDED, same version exists in internal repository
Package 80/1641HostnameOS / ArchINSTALLBUILDCHECKBUILD BIN
ASGSCA 1.17.0
Hela Romdhani
Last Commit: d0492d2
Last Changed Date: 2018-10-30 11:54:33 -0500
malbec2 Linux (Ubuntu 18.04.1 LTS) / x86_64  OK  OK  OK UNNEEDED, same version exists in internal repository
tokay2 Windows Server 2012 R2 Standard / x64  OK  OK  OK  OK UNNEEDED, same version exists in internal repository
merida2 OS X 10.11.6 El Capitan / x86_64  OK  OK  OK  OK UNNEEDED, same version exists in internal repository
Package 81/1641HostnameOS / ArchINSTALLBUILDCHECKBUILD BIN
ASICS 1.3.0
Gaëlle Lefort
Last Commit: 8515da3
Last Changed Date: 2018-10-30 11:54:39 -0500
malbec2 Linux (Ubuntu 18.04.1 LTS) / x86_64  OK  OK  OK UNNEEDED, same version exists in internal repository
tokay2 Windows Server 2012 R2 Standard / x64  OK  OK  OK  OK UNNEEDED, same version exists in internal repository
merida2 OS X 10.11.6 El Capitan / x86_64  OK  OK  OK  OK UNNEEDED, same version exists in internal repository
Package 82/1641HostnameOS / ArchINSTALLBUILDCHECKBUILD BIN
ASpli 1.9.0
Estefania Mancini
Last Commit: cf47754
Last Changed Date: 2018-10-30 11:54:36 -0500
malbec2 Linux (Ubuntu 18.04.1 LTS) / x86_64  OK  OK  OK UNNEEDED, same version exists in internal repository
tokay2 Windows Server 2012 R2 Standard / x64  OK  OK  OK  OK UNNEEDED, same version exists in internal repository
merida2 OS X 10.11.6 El Capitan / x86_64  OK  OK  OK  OK UNNEEDED, same version exists in internal repository
Package 83/1641HostnameOS / ArchINSTALLBUILDCHECKBUILD BIN
AssessORF 1.1.3
Deepank Korandla
Last Commit: adad507
Last Changed Date: 2018-11-20 17:01:51 -0500
malbec2 Linux (Ubuntu 18.04.1 LTS) / x86_64  OK  OK  OK UNNEEDED, same version exists in internal repository
tokay2 Windows Server 2012 R2 Standard / x64  OK  OK  OK  OK UNNEEDED, same version exists in internal repository
merida2 OS X 10.11.6 El Capitan / x86_64  OK  OK  OK  OK UNNEEDED, same version exists in internal repository
Package 84/1641HostnameOS / ArchINSTALLBUILDCHECKBUILD BIN
ASSET 2.1.0
Samsiddhi Bhattacharjee
Last Commit: 36d17d7
Last Changed Date: 2018-10-30 11:54:31 -0500
malbec2 Linux (Ubuntu 18.04.1 LTS) / x86_64  OK  OK  WARNINGS UNNEEDED, same version exists in internal repository
tokay2 Windows Server 2012 R2 Standard / x64  OK  OK  WARNINGS  OK UNNEEDED, same version exists in internal repository
merida2 OS X 10.11.6 El Capitan / x86_64  OK  OK  WARNINGS  OK UNNEEDED, same version exists in internal repository
Package 85/1641HostnameOS / ArchINSTALLBUILDCHECKBUILD BIN
ASSIGN 1.19.0
Ying Shen , W. Evan Johnson
Last Commit: 6fd3c77
Last Changed Date: 2018-11-01 10:20:16 -0500
malbec2 Linux (Ubuntu 18.04.1 LTS) / x86_64  OK  OK  OK UNNEEDED, same version exists in internal repository
tokay2 Windows Server 2012 R2 Standard / x64  OK  OK  OK  OK UNNEEDED, same version exists in internal repository
merida2 OS X 10.11.6 El Capitan / x86_64  OK  OK  OK  OK UNNEEDED, same version exists in internal repository
Package 86/1641HostnameOS / ArchINSTALLBUILDCHECKBUILD BIN
ATACseqQC 1.7.2
Jianhong Ou
Last Commit: b375db6
Last Changed Date: 2018-11-30 09:44:10 -0500
malbec2 Linux (Ubuntu 18.04.1 LTS) / x86_64  OK  OK  OK UNNEEDED, same version exists in internal repository
tokay2 Windows Server 2012 R2 Standard / x64  OK  OK  OK  OK UNNEEDED, same version exists in internal repository
merida2 OS X 10.11.6 El Capitan / x86_64  OK  OK  OK  OK UNNEEDED, same version exists in internal repository
Package 87/1641HostnameOS / ArchINSTALLBUILDCHECKBUILD BIN
attract 1.35.0
Samuel Zimmerman
Last Commit: 19d63f1
Last Changed Date: 2018-10-30 11:54:28 -0500
malbec2 Linux (Ubuntu 18.04.1 LTS) / x86_64  OK  OK  OK UNNEEDED, same version exists in internal repository
tokay2 Windows Server 2012 R2 Standard / x64  OK  OK  OK  OK UNNEEDED, same version exists in internal repository
merida2 OS X 10.11.6 El Capitan / x86_64  OK  OK  OK  OK UNNEEDED, same version exists in internal repository
Package 88/1641HostnameOS / ArchINSTALLBUILDCHECKBUILD BIN
AUCell 1.5.2
Sara Aibar
Last Commit: b04a29a
Last Changed Date: 2018-11-23 14:58:15 -0500
malbec2 Linux (Ubuntu 18.04.1 LTS) / x86_64  OK  OK  WARNINGS UNNEEDED, same version exists in internal repository
tokay2 Windows Server 2012 R2 Standard / x64  OK  OK  WARNINGS  OK UNNEEDED, same version exists in internal repository
merida2 OS X 10.11.6 El Capitan / x86_64  OK  OK  WARNINGS  OK UNNEEDED, same version exists in internal repository
B
ABCDEFGHIJKLMNOPQRSTUVWXYZ
Package 89/1641HostnameOS / ArchINSTALLBUILDCHECKBUILD BIN
BaalChIP 1.9.0
Ines de Santiago
Last Commit: cff078c
Last Changed Date: 2018-10-30 11:54:36 -0500
malbec2 Linux (Ubuntu 18.04.1 LTS) / x86_64  OK  OK  WARNINGS UNNEEDED, same version exists in internal repository
tokay2 Windows Server 2012 R2 Standard / x64  OK  OK  WARNINGS  OK UNNEEDED, same version exists in internal repository
merida2 OS X 10.11.6 El Capitan / x86_64  OK  OK  WARNINGS  OK UNNEEDED, same version exists in internal repository
Package 90/1641HostnameOS / ArchINSTALLBUILDCHECKBUILD BIN
BAC 1.43.0
Raphael Gottardo
Last Commit: 4861ad8
Last Changed Date: 2018-10-30 11:54:27 -0500
malbec2 Linux (Ubuntu 18.04.1 LTS) / x86_64  OK  OK  OK UNNEEDED, same version exists in internal repository
tokay2 Windows Server 2012 R2 Standard / x64  OK  OK  OK  OK UNNEEDED, same version exists in internal repository
merida2 OS X 10.11.6 El Capitan / x86_64  OK  OK  OK  OK UNNEEDED, same version exists in internal repository
Package 91/1641HostnameOS / ArchINSTALLBUILDCHECKBUILD BIN
bacon 1.11.0
Maarten van Iterson
Last Commit: b88d5b9
Last Changed Date: 2018-10-30 11:54:35 -0500
malbec2 Linux (Ubuntu 18.04.1 LTS) / x86_64  OK  OK  OK UNNEEDED, same version exists in internal repository
tokay2 Windows Server 2012 R2 Standard / x64  OK  OK  OK  OK UNNEEDED, same version exists in internal repository
merida2 OS X 10.11.6 El Capitan / x86_64  OK  OK  OK  OK UNNEEDED, same version exists in internal repository
Package 92/1641HostnameOS / ArchINSTALLBUILDCHECKBUILD BIN
BADER 1.21.0
Andreas Neudecker
Last Commit: 124e1f0
Last Changed Date: 2018-10-30 11:54:31 -0500
malbec2 Linux (Ubuntu 18.04.1 LTS) / x86_64  OK  OK  OK UNNEEDED, same version exists in internal repository
tokay2 Windows Server 2012 R2 Standard / x64  OK  OK  OK  OK UNNEEDED, same version exists in internal repository
merida2 OS X 10.11.6 El Capitan / x86_64  OK  OK  OK  OK UNNEEDED, same version exists in internal repository
Package 93/1641HostnameOS / ArchINSTALLBUILDCHECKBUILD BIN
BadRegionFinder 1.11.0
Sarah Sandmann
Last Commit: adc3539
Last Changed Date: 2018-10-30 11:54:35 -0500
malbec2 Linux (Ubuntu 18.04.1 LTS) / x86_64  OK  OK  OK UNNEEDED, same version exists in internal repository
tokay2 Windows Server 2012 R2 Standard / x64  OK  OK  OK  OK UNNEEDED, same version exists in internal repository
merida2 OS X 10.11.6 El Capitan / x86_64  OK  OK  OK  OK UNNEEDED, same version exists in internal repository
Package 94/1641HostnameOS / ArchINSTALLBUILDCHECKBUILD BIN
BAGS 2.23.0
Alejandro Quiroz-Zarate
Last Commit: 94b371b
Last Changed Date: 2018-10-30 11:54:30 -0500
malbec2 Linux (Ubuntu 18.04.1 LTS) / x86_64  OK  OK  OK UNNEEDED, same version exists in internal repository
tokay2 Windows Server 2012 R2 Standard / x64  OK  OK  OK  OK UNNEEDED, same version exists in internal repository
merida2 OS X 10.11.6 El Capitan / x86_64  OK  OK  OK  OK UNNEEDED, same version exists in internal repository
Package 95/1641HostnameOS / ArchINSTALLBUILDCHECKBUILD BIN
ballgown 2.15.0
Jack Fu
Last Commit: 23c22b1
Last Changed Date: 2018-10-30 11:54:33 -0500
malbec2 Linux (Ubuntu 18.04.1 LTS) / x86_64  OK  OK  OK UNNEEDED, same version exists in internal repository
tokay2 Windows Server 2012 R2 Standard / x64  OK  OK  OK  OK UNNEEDED, same version exists in internal repository
merida2 OS X 10.11.6 El Capitan / x86_64  OK  OK  OK  OK UNNEEDED, same version exists in internal repository
Package 96/1641HostnameOS / ArchINSTALLBUILDCHECKBUILD BIN
bamsignals 1.15.0
Alessandro Mammana
Last Commit: 5ad00fa
Last Changed Date: 2018-10-30 11:54:34 -0500
malbec2 Linux (Ubuntu 18.04.1 LTS) / x86_64  OK  OK  OK UNNEEDED, same version exists in internal repository
tokay2 Windows Server 2012 R2 Standard / x64  OK  OK  OK  OK UNNEEDED, same version exists in internal repository
merida2 OS X 10.11.6 El Capitan / x86_64  OK  OK  OK  OK UNNEEDED, same version exists in internal repository
Package 97/1641HostnameOS / ArchINSTALLBUILDCHECKBUILD BIN
banocc 1.7.0
George Weingart
Last Commit: 5bb5721
Last Changed Date: 2018-10-30 11:54:37 -0500
malbec2 Linux (Ubuntu 18.04.1 LTS) / x86_64  OK  OK  OK UNNEEDED, same version exists in internal repository
tokay2 Windows Server 2012 R2 Standard / x64  OK  ERROR  skipped  skipped 
merida2 OS X 10.11.6 El Capitan / x86_64  OK  OK  OK  OK UNNEEDED, same version exists in internal repository
Package 98/1641HostnameOS / ArchINSTALLBUILDCHECKBUILD BIN
basecallQC 1.7.0
Thomas Carroll
Last Commit: 33f4312
Last Changed Date: 2018-10-30 11:54:37 -0500
malbec2 Linux (Ubuntu 18.04.1 LTS) / x86_64  OK  OK  OK UNNEEDED, same version exists in internal repository
tokay2 Windows Server 2012 R2 Standard / x64  OK  OK  OK  OK UNNEEDED, same version exists in internal repository
merida2 OS X 10.11.6 El Capitan / x86_64  OK  OK  OK  OK UNNEEDED, same version exists in internal repository
Package 99/1641HostnameOS / ArchINSTALLBUILDCHECKBUILD BIN
BaseSpaceR 1.27.0
Jared O'Connell
Last Commit: 79ec240
Last Changed Date: 2018-10-30 11:54:31 -0500
malbec2 Linux (Ubuntu 18.04.1 LTS) / x86_64  OK  OK  OK UNNEEDED, same version exists in internal repository
tokay2 Windows Server 2012 R2 Standard / x64  OK  OK  OK  OK UNNEEDED, same version exists in internal repository
merida2 OS X 10.11.6 El Capitan / x86_64  OK  OK  OK  OK UNNEEDED, same version exists in internal repository
Package 100/1641HostnameOS / ArchINSTALLBUILDCHECKBUILD BIN
Basic4Cseq 1.19.0
Carolin Walter
Last Commit: bfc7a7a
Last Changed Date: 2018-10-30 11:54:32 -0500
malbec2 Linux (Ubuntu 18.04.1 LTS) / x86_64  OK  OK  OK UNNEEDED, same version exists in internal repository
tokay2 Windows Server 2012 R2 Standard / x64  OK  OK  OK  OK UNNEEDED, same version exists in internal repository
merida2 OS X 10.11.6 El Capitan / x86_64  OK  OK  OK  OK UNNEEDED, same version exists in internal repository
Package 101/1641HostnameOS / ArchINSTALLBUILDCHECKBUILD BIN
BASiCS 1.5.3
Catalina A. Vallejos , Nils Eling
Last Commit: 235a8ac
Last Changed Date: 2018-12-06 03:58:42 -0500
malbec2 Linux (Ubuntu 18.04.1 LTS) / x86_64  OK  OK  OK UNNEEDED, same version exists in internal repository
tokay2 Windows Server 2012 R2 Standard / x64  OK  OK  OK  OK UNNEEDED, same version exists in internal repository
merida2 OS X 10.11.6 El Capitan / x86_64  OK  OK  OK  OK UNNEEDED, same version exists in internal repository
Package 102/1641HostnameOS / ArchINSTALLBUILDCHECKBUILD BIN
BasicSTARRseq 1.11.0
Annika Buerger
Last Commit: 09fa134
Last Changed Date: 2018-10-30 11:54:35 -0500
malbec2 Linux (Ubuntu 18.04.1 LTS) / x86_64  OK  OK  OK UNNEEDED, same version exists in internal repository
tokay2 Windows Server 2012 R2 Standard / x64  OK  OK  OK  OK UNNEEDED, same version exists in internal repository
merida2 OS X 10.11.6 El Capitan / x86_64  OK  OK  OK  OK UNNEEDED, same version exists in internal repository
Package 103/1641HostnameOS / ArchINSTALLBUILDCHECKBUILD BIN
BatchQC 1.11.1
Solaiappan Manimaran
Last Commit: b3a4bee
Last Changed Date: 2018-12-01 19:34:07 -0500
malbec2 Linux (Ubuntu 18.04.1 LTS) / x86_64  OK  OK  OK UNNEEDED, same version exists in internal repository
tokay2 Windows Server 2012 R2 Standard / x64  OK  OK  OK  OK UNNEEDED, same version exists in internal repository
merida2 OS X 10.11.6 El Capitan / x86_64  OK  OK  OK  OK UNNEEDED, same version exists in internal repository
Package 104/1641HostnameOS / ArchINSTALLBUILDCHECKBUILD BIN
BayesKnockdown 1.9.0
William Chad Young
Last Commit: 7e617e8
Last Changed Date: 2018-10-30 11:54:36 -0500
malbec2 Linux (Ubuntu 18.04.1 LTS) / x86_64  OK  OK  OK UNNEEDED, same version exists in internal repository
tokay2 Windows Server 2012 R2 Standard / x64  OK  OK  OK  OK UNNEEDED, same version exists in internal repository
merida2 OS X 10.11.6 El Capitan / x86_64  OK  OK  OK  OK UNNEEDED, same version exists in internal repository
Package 105/1641HostnameOS / ArchINSTALLBUILDCHECKBUILD BIN
BayesPeak 1.35.0
Jonathan Cairns
Last Commit: 0112b88
Last Changed Date: 2018-10-30 11:54:28 -0500
malbec2 Linux (Ubuntu 18.04.1 LTS) / x86_64  OK  OK  OK UNNEEDED, same version exists in internal repository
tokay2 Windows Server 2012 R2 Standard / x64  OK  OK  WARNINGS  OK UNNEEDED, same version exists in internal repository
merida2 OS X 10.11.6 El Capitan / x86_64  OK  OK  OK  OK UNNEEDED, same version exists in internal repository
Package 106/1641HostnameOS / ArchINSTALLBUILDCHECKBUILD BIN
bayNorm 1.1.4
Wenhao Tang
Last Commit: c334131
Last Changed Date: 2018-11-21 08:12:50 -0500
malbec2 Linux (Ubuntu 18.04.1 LTS) / x86_64  OK  OK  OK UNNEEDED, same version exists in internal repository
tokay2 Windows Server 2012 R2 Standard / x64  OK  OK  OK  OK UNNEEDED, same version exists in internal repository
merida2 OS X 10.11.6 El Capitan / x86_64  OK  OK  OK  OK UNNEEDED, same version exists in internal repository
Package 107/1641HostnameOS / ArchINSTALLBUILDCHECKBUILD BIN
baySeq 2.17.0
Thomas J. Hardcastle
Last Commit: ed9bc6d
Last Changed Date: 2018-10-30 11:54:28 -0500
malbec2 Linux (Ubuntu 18.04.1 LTS) / x86_64  OK  OK  OK UNNEEDED, same version exists in internal repository
tokay2 Windows Server 2012 R2 Standard / x64  OK  OK  OK  OK UNNEEDED, same version exists in internal repository
merida2 OS X 10.11.6 El Capitan / x86_64  OK  OK  OK  OK UNNEEDED, same version exists in internal repository
Package 108/1641HostnameOS / ArchINSTALLBUILDCHECKBUILD BIN
BBCAnalyzer 1.13.0
Sarah Sandmann
Last Commit: 7a3b101
Last Changed Date: 2018-10-30 11:54:34 -0500
malbec2 Linux (Ubuntu 18.04.1 LTS) / x86_64  OK  OK  OK UNNEEDED, same version exists in internal repository
tokay2 Windows Server 2012 R2 Standard / x64  OK  OK  WARNINGS  OK UNNEEDED, same version exists in internal repository
merida2 OS X 10.11.6 El Capitan / x86_64  OK  OK  OK  OK UNNEEDED, same version exists in internal repository
Package 109/1641HostnameOS / ArchINSTALLBUILDCHECKBUILD BIN
BCRANK 1.45.0
Adam Ameur
Last Commit: f440e9e
Last Changed Date: 2018-10-30 11:54:27 -0500
malbec2 Linux (Ubuntu 18.04.1 LTS) / x86_64  OK  OK  OK UNNEEDED, same version exists in internal repository
tokay2 Windows Server 2012 R2 Standard / x64  OK  OK  OK  OK UNNEEDED, same version exists in internal repository
merida2 OS X 10.11.6 El Capitan / x86_64  OK  OK  OK  OK UNNEEDED, same version exists in internal repository
Package 110/1641HostnameOS / ArchINSTALLBUILDCHECKBUILD BIN
bcSeq 1.5.0
Jiaxing Lin
Last Commit: b870cd7
Last Changed Date: 2018-10-30 11:54:38 -0500
malbec2 Linux (Ubuntu 18.04.1 LTS) / x86_64  OK  OK  OK UNNEEDED, same version exists in internal repository
tokay2 Windows Server 2012 R2 Standard / x64  OK  OK  OK  OK UNNEEDED, same version exists in internal repository
merida2 OS X 10.11.6 El Capitan / x86_64  OK  OK  OK  OK UNNEEDED, same version exists in internal repository
Package 111/1641HostnameOS / ArchINSTALLBUILDCHECKBUILD BIN
BDMMAcorrect 1.1.0
ZHENWEI DAI
Last Commit: 3dc8278
Last Changed Date: 2018-10-30 11:54:40 -0500
malbec2 Linux (Ubuntu 18.04.1 LTS) / x86_64  OK  OK  OK UNNEEDED, same version exists in internal repository
tokay2 Windows Server 2012 R2 Standard / x64  OK  OK  OK  OK UNNEEDED, same version exists in internal repository
merida2 OS X 10.11.6 El Capitan / x86_64  OK  OK  OK  OK UNNEEDED, same version exists in internal repository
Package 112/1641HostnameOS / ArchINSTALLBUILDCHECKBUILD BIN
beachmat 1.5.0
Aaron Lun
Last Commit: 3803204
Last Changed Date: 2018-10-30 11:54:37 -0500
malbec2 Linux (Ubuntu 18.04.1 LTS) / x86_64  OK  OK  OK UNNEEDED, same version exists in internal repository
tokay2 Windows Server 2012 R2 Standard / x64  OK  OK  OK  OK UNNEEDED, same version exists in internal repository
merida2 OS X 10.11.6 El Capitan / x86_64  OK  OK  OK  OK UNNEEDED, same version exists in internal repository
Package 113/1641HostnameOS / ArchINSTALLBUILDCHECKBUILD BIN
beadarray 2.33.0
Mark Dunning
Last Commit: e17491c
Last Changed Date: 2018-10-30 11:54:27 -0500
malbec2 Linux (Ubuntu 18.04.1 LTS) / x86_64  OK  OK  OK UNNEEDED, same version exists in internal repository
tokay2 Windows Server 2012 R2 Standard / x64  OK  OK  OK  OK UNNEEDED, same version exists in internal repository
merida2 OS X 10.11.6 El Capitan / x86_64  OK  OK  OK  OK UNNEEDED, same version exists in internal repository
Package 114/1641HostnameOS / ArchINSTALLBUILDCHECKBUILD BIN
beadarraySNP 1.49.0
Jan Oosting
Last Commit: d45cc40
Last Changed Date: 2018-10-30 11:54:27 -0500
malbec2 Linux (Ubuntu 18.04.1 LTS) / x86_64  OK  OK  OK UNNEEDED, same version exists in internal repository
tokay2 Windows Server 2012 R2 Standard / x64  OK  OK  OK  OK UNNEEDED, same version exists in internal repository
merida2 OS X 10.11.6 El Capitan / x86_64  OK  OK  OK  OK UNNEEDED, same version exists in internal repository
Package 115/1641HostnameOS / ArchINSTALLBUILDCHECKBUILD BIN
BeadDataPackR 1.35.0
Mike Smith
Last Commit: b7056f2
Last Changed Date: 2018-10-30 11:54:28 -0500
malbec2 Linux (Ubuntu 18.04.1 LTS) / x86_64  OK  OK  OK UNNEEDED, same version exists in internal repository
tokay2 Windows Server 2012 R2 Standard / x64  OK  OK  OK  OK UNNEEDED, same version exists in internal repository
merida2 OS X 10.11.6 El Capitan / x86_64  OK  OK  OK  OK UNNEEDED, same version exists in internal repository
Package 116/1641HostnameOS / ArchINSTALLBUILDCHECKBUILD BIN
BEARscc 1.3.0
Benjamin Schuster-Boeckler
Last Commit: 7500153
Last Changed Date: 2018-10-30 11:54:38 -0500
malbec2 Linux (Ubuntu 18.04.1 LTS) / x86_64  OK  OK  OK UNNEEDED, same version exists in internal repository
tokay2 Windows Server 2012 R2 Standard / x64  OK  OK  OK  OK UNNEEDED, same version exists in internal repository
merida2 OS X 10.11.6 El Capitan / x86_64  OK  OK  OK  OK UNNEEDED, same version exists in internal repository
Package 117/1641HostnameOS / ArchINSTALLBUILDCHECKBUILD BIN
BEAT 1.21.0
Kemal Akman
Last Commit: 213e2eb
Last Changed Date: 2018-10-30 11:54:32 -0500
malbec2 Linux (Ubuntu 18.04.1 LTS) / x86_64  OK  OK  OK UNNEEDED, same version exists in internal repository
tokay2 Windows Server 2012 R2 Standard / x64  OK  OK  OK  OK UNNEEDED, same version exists in internal repository
merida2 OS X 10.11.6 El Capitan / x86_64  OK  OK  OK  OK UNNEEDED, same version exists in internal repository
Package 118/1641HostnameOS / ArchINSTALLBUILDCHECKBUILD BIN
BEclear 1.15.1
David Rasp
Last Commit: f433ae7
Last Changed Date: 2018-12-07 06:39:13 -0500
malbec2 Linux (Ubuntu 18.04.1 LTS) / x86_64  OK  OK  WARNINGS UNNEEDED, same version exists in internal repository
tokay2 Windows Server 2012 R2 Standard / x64  OK  OK  WARNINGS  OK UNNEEDED, same version exists in internal repository
merida2 OS X 10.11.6 El Capitan / x86_64  OK  OK  WARNINGS  OK UNNEEDED, same version exists in internal repository
Package 119/1641HostnameOS / ArchINSTALLBUILDCHECKBUILD BIN
bgafun 1.45.0
Iain Wallace
Last Commit: c6bcffd
Last Changed Date: 2018-10-30 11:54:27 -0500
malbec2 Linux (Ubuntu 18.04.1 LTS) / x86_64  OK  OK  OK UNNEEDED, same version exists in internal repository
tokay2 Windows Server 2012 R2 Standard / x64  OK  OK  OK  OK UNNEEDED, same version exists in internal repository
merida2 OS X 10.11.6 El Capitan / x86_64  OK  OK  OK  OK UNNEEDED, same version exists in internal repository
Package 120/1641HostnameOS / ArchINSTALLBUILDCHECKBUILD BIN
BgeeDB 2.9.0
Julien Wollbrett , Julien Roux , Andrea Komljenovic , Frederic Bastian
Last Commit: ba68c04
Last Changed Date: 2018-10-30 11:54:36 -0500
malbec2 Linux (Ubuntu 18.04.1 LTS) / x86_64  OK  ERROR  skipped 
tokay2 Windows Server 2012 R2 Standard / x64  OK  ERROR  skipped  skipped 
merida2 OS X 10.11.6 El Capitan / x86_64  OK  OK  OK  OK UNNEEDED, same version exists in internal repository
Package 121/1641HostnameOS / ArchINSTALLBUILDCHECKBUILD BIN
BGmix 1.43.0
Alex Lewin
Last Commit: e4824c6
Last Changed Date: 2018-10-30 11:54:27 -0500
malbec2 Linux (Ubuntu 18.04.1 LTS) / x86_64  OK  OK  WARNINGS UNNEEDED, same version exists in internal repository
tokay2 Windows Server 2012 R2 Standard / x64 ...NOT SUPPORTED...
merida2 OS X 10.11.6 El Capitan / x86_64  OK  OK  OK  OK UNNEEDED, same version exists in internal repository
Package 122/1641HostnameOS / ArchINSTALLBUILDCHECKBUILD BIN
bgx 1.49.2
Ernest Turro
Last Commit: 5f516cd
Last Changed Date: 2018-11-09 11:36:16 -0500
malbec2 Linux (Ubuntu 18.04.1 LTS) / x86_64  ERROR  ERROR  skipped 
tokay2 Windows Server 2012 R2 Standard / x64  OK  OK  OK  OK UNNEEDED, same version exists in internal repository
merida2 OS X 10.11.6 El Capitan / x86_64  OK  OK  OK  OK UNNEEDED, same version exists in internal repository
Package 123/1641HostnameOS / ArchINSTALLBUILDCHECKBUILD BIN
BHC 1.35.0
Rich Savage
Last Commit: 72f0953
Last Changed Date: 2018-10-30 11:54:29 -0500
malbec2 Linux (Ubuntu 18.04.1 LTS) / x86_64  OK  OK  OK UNNEEDED, same version exists in internal repository
tokay2 Windows Server 2012 R2 Standard / x64  OK  OK  OK  OK UNNEEDED, same version exists in internal repository
merida2 OS X 10.11.6 El Capitan / x86_64  OK  OK  OK  OK UNNEEDED, same version exists in internal repository
Package 124/1641HostnameOS / ArchINSTALLBUILDCHECKBUILD BIN
BicARE 1.41.0
Pierre Gestraud
Last Commit: c5f3669
Last Changed Date: 2018-10-30 11:54:28 -0500
malbec2 Linux (Ubuntu 18.04.1 LTS) / x86_64  OK  OK  OK UNNEEDED, same version exists in internal repository
tokay2 Windows Server 2012 R2 Standard / x64  OK  OK  OK  OK UNNEEDED, same version exists in internal repository
merida2 OS X 10.11.6 El Capitan / x86_64  OK  OK  OK  OK UNNEEDED, same version exists in internal repository
Package 125/1641HostnameOS / ArchINSTALLBUILDCHECKBUILD BIN
BiFET 1.3.0
Ahrim Youn
Last Commit: 9f621c6
Last Changed Date: 2018-10-30 11:54:38 -0500
malbec2 Linux (Ubuntu 18.04.1 LTS) / x86_64  OK  OK  OK UNNEEDED, same version exists in internal repository
tokay2 Windows Server 2012 R2 Standard / x64  OK  OK  OK  OK UNNEEDED, same version exists in internal repository
merida2 OS X 10.11.6 El Capitan / x86_64  OK  OK  OK  OK UNNEEDED, same version exists in internal repository
Package 126/1641HostnameOS / ArchINSTALLBUILDCHECKBUILD BIN
BiGGR 1.19.0
Anand K. Gavai
Last Commit: fcab01b
Last Changed Date: 2018-10-30 11:54:31 -0500
malbec2 Linux (Ubuntu 18.04.1 LTS) / x86_64  OK  OK  OK UNNEEDED, same version exists in internal repository
tokay2 Windows Server 2012 R2 Standard / x64  OK  OK  OK  OK UNNEEDED, same version exists in internal repository
merida2 OS X 10.11.6 El Capitan / x86_64  OK  OK  OK  OK UNNEEDED, same version exists in internal repository
Package 127/1641HostnameOS / ArchINSTALLBUILDCHECKBUILD BIN
bigmelon 1.9.0
Tyler J. Gorrie-Stone
Last Commit: 8a24a4c
Last Changed Date: 2018-10-30 11:54:36 -0500
malbec2 Linux (Ubuntu 18.04.1 LTS) / x86_64  OK  OK  OK UNNEEDED, same version exists in internal repository
tokay2 Windows Server 2012 R2 Standard / x64  OK  OK  WARNINGS  OK UNNEEDED, same version exists in internal repository
merida2 OS X 10.11.6 El Capitan / x86_64  OK  OK  OK  OK UNNEEDED, same version exists in internal repository
Package 128/1641HostnameOS / ArchINSTALLBUILDCHECKBUILD BIN
bigmemoryExtras 1.31.0
Peter M. Haverty
Last Commit: 9fb8d58
Last Changed Date: 2018-10-30 11:54:30 -0500
malbec2 Linux (Ubuntu 18.04.1 LTS) / x86_64  OK  OK  WARNINGS UNNEEDED, same version exists in internal repository
tokay2 Windows Server 2012 R2 Standard / x64 ...NOT SUPPORTED...
merida2 OS X 10.11.6 El Capitan / x86_64  OK  OK  WARNINGS  OK UNNEEDED, same version exists in internal repository
Package 129/1641HostnameOS / ArchINSTALLBUILDCHECKBUILD BIN
bioassayR 1.21.0
Tyler Backman
Last Commit: bfd6133
Last Changed Date: 2018-10-30 11:54:31 -0500
malbec2 Linux (Ubuntu 18.04.1 LTS) / x86_64  OK  OK  OK UNNEEDED, same version exists in internal repository
tokay2 Windows Server 2012 R2 Standard / x64  OK  OK  OK  OK UNNEEDED, same version exists in internal repository
merida2 OS X 10.11.6 El Capitan / x86_64  ERROR  ERROR  skipped  skipped 
Package 130/1641HostnameOS / ArchINSTALLBUILDCHECKBUILD BIN
Biobase 2.43.0
Bioconductor Package Maintainer
Last Commit: 5e5a9dd
Last Changed Date: 2018-10-30 11:54:26 -0500
malbec2 Linux (Ubuntu 18.04.1 LTS) / x86_64  OK  OK  OK UNNEEDED, same version exists in internal repository
tokay2 Windows Server 2012 R2 Standard / x64  OK  OK  OK  OK UNNEEDED, same version exists in internal repository
merida2 OS X 10.11.6 El Capitan / x86_64  OK  OK  OK  OK UNNEEDED, same version exists in internal repository
Package 131/1641HostnameOS / ArchINSTALLBUILDCHECKBUILD BIN
biobroom 1.15.0
John D. Storey and Andrew J. Bass
Last Commit: 6316471
Last Changed Date: 2018-10-30 11:54:35 -0500
malbec2 Linux (Ubuntu 18.04.1 LTS) / x86_64  OK  OK  OK UNNEEDED, same version exists in internal repository
tokay2 Windows Server 2012 R2 Standard / x64  OK  OK  WARNINGS  OK UNNEEDED, same version exists in internal repository
merida2 OS X 10.11.6 El Capitan / x86_64  OK  OK  OK  OK UNNEEDED, same version exists in internal repository
Package 132/1641HostnameOS / ArchINSTALLBUILDCHECKBUILD BIN
bioCancer 1.11.0
Karim Mezhoud
Last Commit: 120eee4
Last Changed Date: 2018-10-30 11:54:36 -0500
malbec2 Linux (Ubuntu 18.04.1 LTS) / x86_64  OK  OK  OK UNNEEDED, same version exists in internal repository
tokay2 Windows Server 2012 R2 Standard / x64  OK  OK  OK  OK UNNEEDED, same version exists in internal repository
merida2 OS X 10.11.6 El Capitan / x86_64  ERROR  ERROR  skipped  skipped 
Package 133/1641HostnameOS / ArchINSTALLBUILDCHECKBUILD BIN
BiocCaseStudies 1.45.0
Bioconductor Package Maintainer
Last Commit: 01725ac
Last Changed Date: 2018-10-30 11:54:27 -0500
malbec2 Linux (Ubuntu 18.04.1 LTS) / x86_64  OK  OK  OK UNNEEDED, same version exists in internal repository
tokay2 Windows Server 2012 R2 Standard / x64  OK  OK  OK  OK UNNEEDED, same version exists in internal repository
merida2 OS X 10.11.6 El Capitan / x86_64  OK  OK  OK  OK UNNEEDED, same version exists in internal repository
Package 134/1641HostnameOS / ArchINSTALLBUILDCHECKBUILD BIN
BiocCheck 1.19.18
Bioconductor Package Maintainer
Last Commit: fd3faf3
Last Changed Date: 2018-11-29 13:41:57 -0500
malbec2 Linux (Ubuntu 18.04.1 LTS) / x86_64  OK  OK  OK UNNEEDED, same version exists in internal repository
tokay2 Windows Server 2012 R2 Standard / x64  OK  OK  OK  OK UNNEEDED, same version exists in internal repository
merida2 OS X 10.11.6 El Capitan / x86_64  OK  OK  OK  OK UNNEEDED, same version exists in internal repository
Package 135/1641HostnameOS / ArchINSTALLBUILDCHECKBUILD BIN
BiocFileCache 1.7.0
Lori Shepherd
Last Commit: fbec077
Last Changed Date: 2018-10-30 11:54:37 -0500
malbec2 Linux (Ubuntu 18.04.1 LTS) / x86_64  OK  OK  OK UNNEEDED, same version exists in internal repository
tokay2 Windows Server 2012 R2 Standard / x64  OK  OK  OK  OK UNNEEDED, same version exists in internal repository
merida2 OS X 10.11.6 El Capitan / x86_64  OK  OK  OK  OK UNNEEDED, same version exists in internal repository
Package 136/1641HostnameOS / ArchINSTALLBUILDCHECKBUILD BIN
BiocGenerics 0.29.1
Bioconductor Package Maintainer
Last Commit: e03b914
Last Changed Date: 2018-11-01 16:12:01 -0500
malbec2 Linux (Ubuntu 18.04.1 LTS) / x86_64  OK  OK  WARNINGS UNNEEDED, same version exists in internal repository
tokay2 Windows Server 2012 R2 Standard / x64  OK  OK  WARNINGS  OK UNNEEDED, same version exists in internal repository
merida2 OS X 10.11.6 El Capitan / x86_64  OK  OK  WARNINGS  OK UNNEEDED, same version exists in internal repository
Package 137/1641HostnameOS / ArchINSTALLBUILDCHECKBUILD BIN
biocGraph 1.45.0
Florian Hahne
Last Commit: a026016
Last Changed Date: 2018-10-30 11:54:27 -0500
malbec2 Linux (Ubuntu 18.04.1 LTS) / x86_64  OK  OK  OK UNNEEDED, same version exists in internal repository
tokay2 Windows Server 2012 R2 Standard / x64  OK  OK  OK  OK UNNEEDED, same version exists in internal repository
merida2 OS X 10.11.6 El Capitan / x86_64  OK  OK  OK  OK UNNEEDED, same version exists in internal repository
Package 138/1641HostnameOS / ArchINSTALLBUILDCHECKBUILD BIN
BiocNeighbors 1.1.5
Aaron Lun
Last Commit: 502b9ab
Last Changed Date: 2018-12-08 23:27:57 -0500
malbec2 Linux (Ubuntu 18.04.1 LTS) / x86_64  OK  OK  OK YES, new version is higher than in internal repository
tokay2 Windows Server 2012 R2 Standard / x64  OK  OK  ERROR  OK 
merida2 OS X 10.11.6 El Capitan / x86_64  OK  OK  OK  OK YES, new version is higher than in internal repository
Package 139/1641HostnameOS / ArchINSTALLBUILDCHECKBUILD BIN
BiocOncoTK 1.3.1
VJ Carey
Last Commit: 32fc530
Last Changed Date: 2018-12-02 07:18:06 -0500
malbec2 Linux (Ubuntu 18.04.1 LTS) / x86_64  OK  OK  OK UNNEEDED, same version exists in internal repository
tokay2 Windows Server 2012 R2 Standard / x64  OK  OK  OK  OK UNNEEDED, same version exists in internal repository
merida2 OS X 10.11.6 El Capitan / x86_64  OK  OK  OK  OK UNNEEDED, same version exists in internal repository
Package 140/1641HostnameOS / ArchINSTALLBUILDCHECKBUILD BIN
BioCor 1.7.0
Lluís Revilla Sancho
Last Commit: f00448e
Last Changed Date: 2018-10-30 11:54:37 -0500
malbec2 Linux (Ubuntu 18.04.1 LTS) / x86_64  OK  OK  OK UNNEEDED, same version exists in internal repository
tokay2 Windows Server 2012 R2 Standard / x64  OK  OK  OK  OK UNNEEDED, same version exists in internal repository
merida2 OS X 10.11.6 El Capitan / x86_64  OK  OK  OK  OK UNNEEDED, same version exists in internal repository
Package 141/1641HostnameOS / ArchINSTALLBUILDCHECKBUILD BIN
BiocParallel 1.17.3
Bioconductor Package Maintainer
Last Commit: dd88761
Last Changed Date: 2018-11-28 12:16:36 -0500
malbec2 Linux (Ubuntu 18.04.1 LTS) / x86_64  OK  OK  TIMEOUT 
tokay2 Windows Server 2012 R2 Standard / x64  OK  OK  OK  OK UNNEEDED, same version exists in internal repository
merida2 OS X 10.11.6 El Capitan / x86_64  OK  OK  OK  OK UNNEEDED, same version exists in internal repository
Package 142/1641HostnameOS / ArchINSTALLBUILDCHECKBUILD BIN
BiocPkgTools 1.1.3
Sean Davis
Last Commit: bc04951
Last Changed Date: 2018-11-30 10:16:38 -0500
malbec2 Linux (Ubuntu 18.04.1 LTS) / x86_64  OK  OK  OK UNNEEDED, same version exists in internal repository
tokay2 Windows Server 2012 R2 Standard / x64  OK  OK  OK  OK UNNEEDED, same version exists in internal repository
merida2 OS X 10.11.6 El Capitan / x86_64  OK  OK  ERROR  OK 
Package 143/1641HostnameOS / ArchINSTALLBUILDCHECKBUILD BIN
BiocSklearn 1.5.0
VJ Carey
Last Commit: a26f5d3
Last Changed Date: 2018-10-30 11:54:38 -0500
malbec2 Linux (Ubuntu 18.04.1 LTS) / x86_64  OK  OK  OK UNNEEDED, same version exists in internal repository
tokay2 Windows Server 2012 R2 Standard / x64  OK  OK  OK  OK UNNEEDED, same version exists in internal repository
merida2 OS X 10.11.6 El Capitan / x86_64  OK  OK  OK  OK UNNEEDED, same version exists in internal repository
Package 144/1641HostnameOS / ArchINSTALLBUILDCHECKBUILD BIN
BiocStyle 2.11.0
Bioconductor Package Maintainer
Last Commit: d733c43
Last Changed Date: 2018-10-30 11:54:31 -0500
malbec2 Linux (Ubuntu 18.04.1 LTS) / x86_64  OK  OK  OK UNNEEDED, same version exists in internal repository
tokay2 Windows Server 2012 R2 Standard / x64  OK  OK  OK  OK UNNEEDED, same version exists in internal repository
merida2 OS X 10.11.6 El Capitan / x86_64  OK  OK  OK  OK UNNEEDED, same version exists in internal repository
Package 145/1641HostnameOS / ArchINSTALLBUILDCHECKBUILD BIN
BiocVersion 3.9.0
Bioconductor Package Maintainer
Last Commit: 1adac61
Last Changed Date: 2018-10-30 13:48:21 -0500
malbec2 Linux (Ubuntu 18.04.1 LTS) / x86_64  OK  OK  WARNINGS UNNEEDED, same version exists in internal repository
tokay2 Windows Server 2012 R2 Standard / x64  OK  OK  WARNINGS  OK UNNEEDED, same version exists in internal repository
merida2 OS X 10.11.6 El Capitan / x86_64  OK  OK  WARNINGS  OK UNNEEDED, same version exists in internal repository
Package 146/1641HostnameOS / ArchINSTALLBUILDCHECKBUILD BIN
biocViews 1.51.13
Bioconductor Package Maintainer
Last Commit: a7ebc7f
Last Changed Date: 2018-12-05 12:23:01 -0500
malbec2 Linux (Ubuntu 18.04.1 LTS) / x86_64  OK  OK  WARNINGS UNNEEDED, same version exists in internal repository
tokay2 Windows Server 2012 R2 Standard / x64  OK  OK  WARNINGS  OK UNNEEDED, same version exists in internal repository
merida2 OS X 10.11.6 El Capitan / x86_64  OK  OK  WARNINGS  OK UNNEEDED, same version exists in internal repository
Package 147/1641HostnameOS / ArchINSTALLBUILDCHECKBUILD BIN
BiocWorkflowTools 1.9.3
Mike Smith
Last Commit: 15c2206
Last Changed Date: 2018-11-19 14:12:50 -0500
malbec2 Linux (Ubuntu 18.04.1 LTS) / x86_64  OK  OK  OK UNNEEDED, same version exists in internal repository
tokay2 Windows Server 2012 R2 Standard / x64  OK  OK  OK  OK UNNEEDED, same version exists in internal repository
merida2 OS X 10.11.6 El Capitan / x86_64  OK  OK  OK  OK UNNEEDED, same version exists in internal repository
Package 148/1641HostnameOS / ArchINSTALLBUILDCHECKBUILD BIN
bioDist 1.55.0
Bioconductor Package Maintainer
Last Commit: f8d2f01
Last Changed Date: 2018-10-30 11:54:26 -0500
malbec2 Linux (Ubuntu 18.04.1 LTS) / x86_64  OK  OK  OK UNNEEDED, same version exists in internal repository
tokay2 Windows Server 2012 R2 Standard / x64  OK  OK  OK  OK UNNEEDED, same version exists in internal repository
merida2 OS X 10.11.6 El Capitan / x86_64  OK  OK  OK  OK UNNEEDED, same version exists in internal repository
Package 149/1641HostnameOS / ArchINSTALLBUILDCHECKBUILD BIN
biomaRt 2.39.2
Mike Smith
Last Commit: 4b2f4b1
Last Changed Date: 2018-11-07 10:14:45 -0500
malbec2 Linux (Ubuntu 18.04.1 LTS) / x86_64  OK  OK  OK UNNEEDED, same version exists in internal repository
tokay2 Windows Server 2012 R2 Standard / x64  OK  OK  OK  OK UNNEEDED, same version exists in internal repository
merida2 OS X 10.11.6 El Capitan / x86_64  OK  OK  OK  OK UNNEEDED, same version exists in internal repository
Package 150/1641HostnameOS / ArchINSTALLBUILDCHECKBUILD BIN
biomformat 1.11.0
Paul J. McMurdie
Last Commit: f0ce84c
Last Changed Date: 2018-10-30 11:54:35 -0500
malbec2 Linux (Ubuntu 18.04.1 LTS) / x86_64  OK  OK  OK UNNEEDED, same version exists in internal repository
tokay2 Windows Server 2012 R2 Standard / x64  OK  OK  WARNINGS  OK UNNEEDED, same version exists in internal repository
merida2 OS X 10.11.6 El Capitan / x86_64  OK  OK  OK  OK UNNEEDED, same version exists in internal repository
Package 151/1641HostnameOS / ArchINSTALLBUILDCHECKBUILD BIN
BioMVCClass 1.51.0
Elizabeth Whalen
Last Commit: f55b930
Last Changed Date: 2018-10-30 11:54:27 -0500
malbec2 Linux (Ubuntu 18.04.1 LTS) / x86_64  OK  OK  OK UNNEEDED, same version exists in internal repository
tokay2 Windows Server 2012 R2 Standard / x64  OK  OK  OK  OK UNNEEDED, same version exists in internal repository
merida2 OS X 10.11.6 El Capitan / x86_64  OK  OK  OK  OK UNNEEDED, same version exists in internal repository
Package 152/1641HostnameOS / ArchINSTALLBUILDCHECKBUILD BIN
biomvRCNS 1.23.0
Yang Du
Last Commit: 77742bc
Last Changed Date: 2018-10-30 11:54:31 -0500
malbec2 Linux (Ubuntu 18.04.1 LTS) / x86_64  OK  OK  OK UNNEEDED, same version exists in internal repository
tokay2 Windows Server 2012 R2 Standard / x64  OK  OK  OK  OK UNNEEDED, same version exists in internal repository
merida2 OS X 10.11.6 El Capitan / x86_64  OK  OK  OK  OK UNNEEDED, same version exists in internal repository
Package 153/1641HostnameOS / ArchINSTALLBUILDCHECKBUILD BIN
BioNet 1.43.0
Marcus Dittrich
Last Commit: 8ab9902
Last Changed Date: 2018-10-30 11:54:29 -0500
malbec2 Linux (Ubuntu 18.04.1 LTS) / x86_64  OK  OK  OK UNNEEDED, same version exists in internal repository
tokay2 Windows Server 2012 R2 Standard / x64  OK  OK  OK  OK UNNEEDED, same version exists in internal repository
merida2 OS X 10.11.6 El Capitan / x86_64  OK  OK  OK  OK UNNEEDED, same version exists in internal repository
Package 154/1641HostnameOS / ArchINSTALLBUILDCHECKBUILD BIN
BioNetStat 1.3.0
Vinicius Jardim
Last Commit: 28947e3
Last Changed Date: 2018-10-30 11:54:39 -0500
malbec2 Linux (Ubuntu 18.04.1 LTS) / x86_64  OK  OK  OK UNNEEDED, same version exists in internal repository
tokay2 Windows Server 2012 R2 Standard / x64  OK  OK  OK  OK UNNEEDED, same version exists in internal repository
merida2 OS X 10.11.6 El Capitan / x86_64  OK  OK  OK  OK UNNEEDED, same version exists in internal repository
Package 155/1641HostnameOS / ArchINSTALLBUILDCHECKBUILD BIN
BioQC 1.11.0
Jitao David Zhang
Last Commit: db884ca
Last Changed Date: 2018-10-30 11:54:35 -0500
malbec2 Linux (Ubuntu 18.04.1 LTS) / x86_64  OK  OK  OK UNNEEDED, same version exists in internal repository
tokay2 Windows Server 2012 R2 Standard / x64  OK  OK  OK  OK UNNEEDED, same version exists in internal repository
merida2 OS X 10.11.6 El Capitan / x86_64  OK  OK  OK  OK UNNEEDED, same version exists in internal repository
Package 156/1641HostnameOS / ArchINSTALLBUILDCHECKBUILD BIN
BioSeqClass 1.41.0
Li Hong
Last Commit: 9267813
Last Changed Date: 2018-10-30 11:54:28 -0500
malbec2 Linux (Ubuntu 18.04.1 LTS) / x86_64  OK  OK  OK UNNEEDED, same version exists in internal repository
tokay2 Windows Server 2012 R2 Standard / x64  OK  OK  OK  OK UNNEEDED, same version exists in internal repository
merida2 OS X 10.11.6 El Capitan / x86_64  OK  OK  OK  OK UNNEEDED, same version exists in internal repository
Package 157/1641HostnameOS / ArchINSTALLBUILDCHECKBUILD BIN
biosigner 1.11.0
Philippe Rinaudo , Etienne Thevenot
Last Commit: 73b0fd0
Last Changed Date: 2018-10-30 11:54:35 -0500
malbec2 Linux (Ubuntu 18.04.1 LTS) / x86_64  OK  OK  OK UNNEEDED, same version exists in internal repository
tokay2 Windows Server 2012 R2 Standard / x64  OK  OK  OK  OK UNNEEDED, same version exists in internal repository
merida2 OS X 10.11.6 El Capitan / x86_64  OK  OK  OK  OK UNNEEDED, same version exists in internal repository
Package 158/1641HostnameOS / ArchINSTALLBUILDCHECKBUILD BIN
Biostrings 2.51.1
H. Pagès
Last Commit: dcd915c
Last Changed Date: 2018-11-06 11:52:01 -0500
malbec2 Linux (Ubuntu 18.04.1 LTS) / x86_64  OK  OK  WARNINGS UNNEEDED, same version exists in internal repository
tokay2 Windows Server 2012 R2 Standard / x64  OK  OK  WARNINGS  OK UNNEEDED, same version exists in internal repository
merida2 OS X 10.11.6 El Capitan / x86_64  OK  OK  WARNINGS  OK UNNEEDED, same version exists in internal repository
Package 159/1641HostnameOS / ArchINSTALLBUILDCHECKBUILD BIN
biosvd 2.19.0
Anneleen Daemen , Matthew Brauer
Last Commit: c95a865
Last Changed Date: 2018-10-30 11:54:32 -0500
malbec2 Linux (Ubuntu 18.04.1 LTS) / x86_64  OK  OK  OK UNNEEDED, same version exists in internal repository
tokay2 Windows Server 2012 R2 Standard / x64  OK  OK  OK  OK UNNEEDED, same version exists in internal repository
merida2 OS X 10.11.6 El Capitan / x86_64  OK  OK  OK  OK UNNEEDED, same version exists in internal repository
Package 160/1641HostnameOS / ArchINSTALLBUILDCHECKBUILD BIN
biotmle 1.7.2
Nima Hejazi
Last Commit: 791842e
Last Changed Date: 2018-11-29 17:08:23 -0500
malbec2 Linux (Ubuntu 18.04.1 LTS) / x86_64  OK  OK  OK UNNEEDED, same version exists in internal repository
tokay2 Windows Server 2012 R2 Standard / x64  OK  OK  OK  OK UNNEEDED, same version exists in internal repository
merida2 OS X 10.11.6 El Capitan / x86_64  OK  OK  OK  OK UNNEEDED, same version exists in internal repository
Package 161/1641HostnameOS / ArchINSTALLBUILDCHECKBUILD BIN
biovizBase 1.31.0
Michael Lawrence
Last Commit: 473ff18
Last Changed Date: 2018-10-30 11:54:29 -0500
malbec2 Linux (Ubuntu 18.04.1 LTS) / x86_64  OK  OK  WARNINGS UNNEEDED, same version exists in internal repository
tokay2 Windows Server 2012 R2 Standard / x64  OK  OK  WARNINGS  OK UNNEEDED, same version exists in internal repository
merida2 OS X 10.11.6 El Capitan / x86_64  OK  OK  WARNINGS  OK UNNEEDED, same version exists in internal repository
Package 162/1641HostnameOS / ArchINSTALLBUILDCHECKBUILD BIN
BiRewire 3.15.0
Andrea Gobbi
Last Commit: 5705c02
Last Changed Date: 2018-10-30 11:54:31 -0500
malbec2 Linux (Ubuntu 18.04.1 LTS) / x86_64  OK  OK  WARNINGS UNNEEDED, same version exists in internal repository
tokay2 Windows Server 2012 R2 Standard / x64  OK  OK  WARNINGS  OK UNNEEDED, same version exists in internal repository
merida2 OS X 10.11.6 El Capitan / x86_64  OK  OK  OK  OK UNNEEDED, same version exists in internal repository
Package 163/1641HostnameOS / ArchINSTALLBUILDCHECKBUILD BIN
birta 1.27.0
Benedikt Zacher
Last Commit: c8bf16b
Last Changed Date: 2018-10-30 11:54:30 -0500
malbec2 Linux (Ubuntu 18.04.1 LTS) / x86_64  OK  OK  OK UNNEEDED, same version exists in internal repository
tokay2 Windows Server 2012 R2 Standard / x64  OK  OK  WARNINGS  OK UNNEEDED, same version exists in internal repository
merida2 OS X 10.11.6 El Capitan / x86_64  OK  OK  OK  OK UNNEEDED, same version exists in internal repository
Package 164/1641HostnameOS / ArchINSTALLBUILDCHECKBUILD BIN
birte 1.19.0
Holger Froehlich
Last Commit: 9a0459a
Last Changed Date: 2018-10-30 11:54:34 -0500
malbec2 Linux (Ubuntu 18.04.1 LTS) / x86_64  OK  ERROR  skipped 
tokay2 Windows Server 2012 R2 Standard / x64  OK  OK  WARNINGS  OK UNNEEDED, same version exists in internal repository
merida2 OS X 10.11.6 El Capitan / x86_64  OK  ERROR  skipped  skipped 
Package 165/1641HostnameOS / ArchINSTALLBUILDCHECKBUILD BIN
BiSeq 1.23.0
Katja Hebestreit
Last Commit: 0c59006
Last Changed Date: 2018-10-30 11:54:31 -0500
malbec2 Linux (Ubuntu 18.04.1 LTS) / x86_64  OK  OK  OK UNNEEDED, same version exists in internal repository
tokay2 Windows Server 2012 R2 Standard / x64  OK  OK  OK  OK UNNEEDED, same version exists in internal repository
merida2 OS X 10.11.6 El Capitan / x86_64  OK  OK  OK  OK UNNEEDED, same version exists in internal repository
Package 166/1641HostnameOS / ArchINSTALLBUILDCHECKBUILD BIN
BitSeq 1.27.0
Antti Honkela , Panagiotis Papastamoulis
Last Commit: 7ad434b
Last Changed Date: 2018-10-30 11:54:30 -0500
malbec2 Linux (Ubuntu 18.04.1 LTS) / x86_64  OK  OK  WARNINGS UNNEEDED, same version exists in internal repository
tokay2 Windows Server 2012 R2 Standard / x64  OK  OK  WARNINGS  OK UNNEEDED, same version exists in internal repository
merida2 OS X 10.11.6 El Capitan / x86_64  OK  OK  WARNINGS  OK UNNEEDED, same version exists in internal repository
Package 167/1641HostnameOS / ArchINSTALLBUILDCHECKBUILD BIN
blima 1.17.0
Vojtěch Kulvait
Last Commit: f0ce5fc
Last Changed Date: 2018-10-30 11:54:32 -0500
malbec2 Linux (Ubuntu 18.04.1 LTS) / x86_64  OK  OK  WARNINGS UNNEEDED, same version exists in internal repository
tokay2 Windows Server 2012 R2 Standard / x64  OK  OK  WARNINGS  OK UNNEEDED, same version exists in internal repository
merida2 OS X 10.11.6 El Capitan / x86_64  OK  OK  WARNINGS  OK UNNEEDED, same version exists in internal repository
Package 168/1641HostnameOS / ArchINSTALLBUILDCHECKBUILD BIN
BLMA 1.7.0
Tin Nguyen
Last Commit: d52e1cb
Last Changed Date: 2018-10-30 11:54:37 -0500
malbec2 Linux (Ubuntu 18.04.1 LTS) / x86_64  OK  OK  OK UNNEEDED, same version exists in internal repository
tokay2 Windows Server 2012 R2 Standard / x64  OK  OK  OK  OK UNNEEDED, same version exists in internal repository
merida2 OS X 10.11.6 El Capitan / x86_64  OK  OK  OK  OK UNNEEDED, same version exists in internal repository
Package 169/1641HostnameOS / ArchINSTALLBUILDCHECKBUILD BIN
bnbc 1.5.0
Kipper Fletez-Brant
Last Commit: 2b16e9e
Last Changed Date: 2018-10-30 11:54:38 -0500
malbec2 Linux (Ubuntu 18.04.1 LTS) / x86_64  OK  OK  OK UNNEEDED, same version exists in internal repository
tokay2 Windows Server 2012 R2 Standard / x64  OK  OK  OK  OK UNNEEDED, same version exists in internal repository
merida2 OS X 10.11.6 El Capitan / x86_64  OK  OK  OK  OK UNNEEDED, same version exists in internal repository
Package 170/1641HostnameOS / ArchINSTALLBUILDCHECKBUILD BIN
BPRMeth 1.9.0
Chantriolnt-Andreas Kapourani
Last Commit: e09e92b
Last Changed Date: 2018-10-30 11:54:37 -0500
malbec2 Linux (Ubuntu 18.04.1 LTS) / x86_64  OK  OK  OK UNNEEDED, same version exists in internal repository
tokay2 Windows Server 2012 R2 Standard / x64  OK  OK  OK  OK UNNEEDED, same version exists in internal repository
merida2 OS X 10.11.6 El Capitan / x86_64  OK  OK  OK  OK UNNEEDED, same version exists in internal repository
Package 171/1641HostnameOS / ArchINSTALLBUILDCHECKBUILD BIN
BRAIN 1.29.0
Piotr Dittwald
Last Commit: be61d17
Last Changed Date: 2018-10-30 11:54:30 -0500
malbec2 Linux (Ubuntu 18.04.1 LTS) / x86_64  OK  OK  WARNINGS UNNEEDED, same version exists in internal repository
tokay2 Windows Server 2012 R2 Standard / x64  OK  OK  WARNINGS  OK UNNEEDED, same version exists in internal repository
merida2 OS X 10.11.6 El Capitan / x86_64  OK  OK  WARNINGS  OK UNNEEDED, same version exists in internal repository
Package 172/1641HostnameOS / ArchINSTALLBUILDCHECKBUILD BIN
brainImageR 1.1.0
Sara B Linker
Last Commit: 6bf20b6
Last Changed Date: 2018-10-30 11:54:39 -0500
malbec2 Linux (Ubuntu 18.04.1 LTS) / x86_64  OK  OK  OK UNNEEDED, same version exists in internal repository
tokay2 Windows Server 2012 R2 Standard / x64  OK  OK  OK  OK UNNEEDED, same version exists in internal repository
merida2 OS X 10.11.6 El Capitan / x86_64  OK  OK  OK  OK UNNEEDED, same version exists in internal repository
Package 173/1641HostnameOS / ArchINSTALLBUILDCHECKBUILD BIN
BrainStars 1.27.0
Itoshi NIKAIDO
Last Commit: 240c3cc
Last Changed Date: 2018-10-30 11:54:30 -0500
malbec2 Linux (Ubuntu 18.04.1 LTS) / x86_64  OK  OK  OK UNNEEDED, same version exists in internal repository
tokay2 Windows Server 2012 R2 Standard / x64  OK  OK  OK  OK UNNEEDED, same version exists in internal repository
merida2 OS X 10.11.6 El Capitan / x86_64  OK  OK  OK  OK UNNEEDED, same version exists in internal repository
Package 174/1641HostnameOS / ArchINSTALLBUILDCHECKBUILD BIN
branchpointer 1.9.0
Beth Signal
Last Commit: 63d1418
Last Changed Date: 2018-10-30 11:54:37 -0500
malbec2 Linux (Ubuntu 18.04.1 LTS) / x86_64  OK  OK  OK UNNEEDED, same version exists in internal repository
tokay2 Windows Server 2012 R2 Standard / x64  OK  OK  OK  OK UNNEEDED, same version exists in internal repository
merida2 OS X 10.11.6 El Capitan / x86_64  OK  OK  OK  OK UNNEEDED, same version exists in internal repository
Package 175/1641HostnameOS / ArchINSTALLBUILDCHECKBUILD BIN
breakpointR 1.1.0
David Porubsky
Last Commit: 0705da1
Last Changed Date: 2018-10-30 11:54:40 -0500
malbec2 Linux (Ubuntu 18.04.1 LTS) / x86_64  OK  OK  OK UNNEEDED, same version exists in internal repository
tokay2 Windows Server 2012 R2 Standard / x64  OK  OK  OK  OK UNNEEDED, same version exists in internal repository
merida2 OS X 10.11.6 El Capitan / x86_64  OK  OK  OK  OK UNNEEDED, same version exists in internal repository
Package 176/1641HostnameOS / ArchINSTALLBUILDCHECKBUILD BIN
bridge 1.47.0
Raphael Gottardo
Last Commit: 6254483
Last Changed Date: 2018-10-30 11:54:26 -0500
malbec2 Linux (Ubuntu 18.04.1 LTS) / x86_64  OK  OK  WARNINGS UNNEEDED, same version exists in internal repository
tokay2 Windows Server 2012 R2 Standard / x64  OK  OK  WARNINGS  OK UNNEEDED, same version exists in internal repository
merida2 OS X 10.11.6 El Capitan / x86_64  OK  OK  OK  OK UNNEEDED, same version exists in internal repository
Package 177/1641HostnameOS / ArchINSTALLBUILDCHECKBUILD BIN
BridgeDbR 1.17.0
Egon Willighagen
Last Commit: b45c6c4
Last Changed Date: 2018-10-30 11:54:33 -0500
malbec2 Linux (Ubuntu 18.04.1 LTS) / x86_64  OK  OK  ERROR 
tokay2 Windows Server 2012 R2 Standard / x64  OK  OK  ERROR  OK 
merida2 OS X 10.11.6 El Capitan / x86_64  ERROR  ERROR  skipped  skipped 
Package 178/1641HostnameOS / ArchINSTALLBUILDCHECKBUILD BIN
BrowserViz 2.5.0
Paul Shannon
Last Commit: b05fd0a
Last Changed Date: 2018-10-30 11:54:34 -0500
malbec2 Linux (Ubuntu 18.04.1 LTS) / x86_64  OK  OK  OK UNNEEDED, same version exists in internal repository
tokay2 Windows Server 2012 R2 Standard / x64  OK  OK  OK  OK UNNEEDED, same version exists in internal repository
merida2 OS X 10.11.6 El Capitan / x86_64  OK  OK  OK  OK UNNEEDED, same version exists in internal repository
Package 179/1641HostnameOS / ArchINSTALLBUILDCHECKBUILD BIN
BSgenome 1.51.0
H. Pagès
Last Commit: ab035b9
Last Changed Date: 2018-10-30 11:54:27 -0500
malbec2 Linux (Ubuntu 18.04.1 LTS) / x86_64  OK  OK  WARNINGS UNNEEDED, same version exists in internal repository
tokay2 Windows Server 2012 R2 Standard / x64  OK  OK  WARNINGS  OK UNNEEDED, same version exists in internal repository
merida2 OS X 10.11.6 El Capitan / x86_64  OK  OK  WARNINGS  OK UNNEEDED, same version exists in internal repository
Package 180/1641HostnameOS / ArchINSTALLBUILDCHECKBUILD BIN
bsseq 1.19.0
Kasper Daniel Hansen
Last Commit: 5ee292a
Last Changed Date: 2018-10-30 11:54:30 -0500
malbec2 Linux (Ubuntu 18.04.1 LTS) / x86_64  OK  OK  TIMEOUT 
tokay2 Windows Server 2012 R2 Standard / x64  OK  OK  WARNINGS  OK UNNEEDED, same version exists in internal repository
merida2 OS X 10.11.6 El Capitan / x86_64  OK  OK  OK  OK UNNEEDED, same version exists in internal repository
Package 181/1641HostnameOS / ArchINSTALLBUILDCHECKBUILD BIN
BubbleTree 2.13.2
Todd Creasy , Wei Zhu
Last Commit: 67689d5
Last Changed Date: 2018-11-20 11:09:33 -0500
malbec2 Linux (Ubuntu 18.04.1 LTS) / x86_64  OK  OK  OK UNNEEDED, same version exists in internal repository
tokay2 Windows Server 2012 R2 Standard / x64  OK  OK  OK  OK UNNEEDED, same version exists in internal repository
merida2 OS X 10.11.6 El Capitan / x86_64  OK  OK  OK  OK UNNEEDED, same version exists in internal repository
Package 182/1641HostnameOS / ArchINSTALLBUILDCHECKBUILD BIN
BufferedMatrix 1.47.0
Ben Bolstad
Last Commit: eca2e36
Last Changed Date: 2018-10-30 11:54:27 -0500
malbec2 Linux (Ubuntu 18.04.1 LTS) / x86_64  OK  OK  OK UNNEEDED, same version exists in internal repository
tokay2 Windows Server 2012 R2 Standard / x64  OK  OK  OK  OK UNNEEDED, same version exists in internal repository
merida2 OS X 10.11.6 El Capitan / x86_64  OK  OK  OK  OK UNNEEDED, same version exists in internal repository
Package 183/1641HostnameOS / ArchINSTALLBUILDCHECKBUILD BIN
BufferedMatrixMethods 1.47.0
Ben Bolstad
Last Commit: 2798185
Last Changed Date: 2018-10-30 11:54:27 -0500
malbec2 Linux (Ubuntu 18.04.1 LTS) / x86_64  OK  OK  OK UNNEEDED, same version exists in internal repository
tokay2 Windows Server 2012 R2 Standard / x64  OK  OK  OK  OK UNNEEDED, same version exists in internal repository
merida2 OS X 10.11.6 El Capitan / x86_64  OK  OK  OK  OK UNNEEDED, same version exists in internal repository
Package 184/1641HostnameOS / ArchINSTALLBUILDCHECKBUILD BIN
BUMHMM 1.7.0
Alina Selega
Last Commit: 55d0a5c
Last Changed Date: 2018-10-30 11:54:37 -0500
malbec2 Linux (Ubuntu 18.04.1 LTS) / x86_64  OK  OK  OK UNNEEDED, same version exists in internal repository
tokay2 Windows Server 2012 R2 Standard / x64  OK  OK  WARNINGS  OK UNNEEDED, same version exists in internal repository
merida2 OS X 10.11.6 El Capitan / x86_64  OK  OK  OK  OK UNNEEDED, same version exists in internal repository
Package 185/1641HostnameOS / ArchINSTALLBUILDCHECKBUILD BIN
bumphunter 1.25.3
Rafael A. Irizarry
Last Commit: 8e27122
Last Changed Date: 2018-11-30 13:47:23 -0500
malbec2 Linux (Ubuntu 18.04.1 LTS) / x86_64  OK  OK  OK UNNEEDED, same version exists in internal repository
tokay2 Windows Server 2012 R2 Standard / x64  OK  OK  WARNINGS  OK UNNEEDED, same version exists in internal repository
merida2 OS X 10.11.6 El Capitan / x86_64  OK  OK  OK  OK UNNEEDED, same version exists in internal repository
Package 186/1641HostnameOS / ArchINSTALLBUILDCHECKBUILD BIN
BUS 1.39.0
Yuanhua Liu
Last Commit: ff56127
Last Changed Date: 2018-10-30 11:54:28 -0500
malbec2 Linux (Ubuntu 18.04.1 LTS) / x86_64  OK  OK  OK UNNEEDED, same version exists in internal repository
tokay2 Windows Server 2012 R2 Standard / x64  OK  OK  OK  OK UNNEEDED, same version exists in internal repository
merida2 OS X 10.11.6 El Capitan / x86_64  OK  OK  OK  OK UNNEEDED, same version exists in internal repository
Package 187/1641HostnameOS / ArchINSTALLBUILDCHECKBUILD BIN
BUScorrect 1.1.0
Xiangyu Luo
Last Commit: b417e88
Last Changed Date: 2018-10-30 11:54:39 -0500
malbec2 Linux (Ubuntu 18.04.1 LTS) / x86_64  OK  OK  OK UNNEEDED, same version exists in internal repository
tokay2 Windows Server 2012 R2 Standard / x64  OK  OK  OK  OK UNNEEDED, same version exists in internal repository
merida2 OS X 10.11.6 El Capitan / x86_64  OK  OK  OK  OK UNNEEDED, same version exists in internal repository
C
ABCDEFGHIJKLMNOPQRSTUVWXYZ
Package 188/1641HostnameOS / ArchINSTALLBUILDCHECKBUILD BIN
CAFE 1.19.0
Sander Bollen
Last Commit: 6fde661
Last Changed Date: 2018-10-30 11:54:32 -0500
malbec2 Linux (Ubuntu 18.04.1 LTS) / x86_64  OK  OK  WARNINGS UNNEEDED, same version exists in internal repository
tokay2 Windows Server 2012 R2 Standard / x64  OK  OK  WARNINGS  OK UNNEEDED, same version exists in internal repository
merida2 OS X 10.11.6 El Capitan / x86_64  OK  OK  WARNINGS  OK UNNEEDED, same version exists in internal repository
Package 189/1641HostnameOS / ArchINSTALLBUILDCHECKBUILD BIN
CAGEfightR 1.3.0
Malte Thodberg
Last Commit: b61e21a
Last Changed Date: 2018-10-30 11:54:39 -0500
malbec2 Linux (Ubuntu 18.04.1 LTS) / x86_64  OK  OK  OK UNNEEDED, same version exists in internal repository
tokay2 Windows Server 2012 R2 Standard / x64  OK  OK  OK  OK UNNEEDED, same version exists in internal repository
merida2 OS X 10.11.6 El Capitan / x86_64  OK  OK  OK  OK UNNEEDED, same version exists in internal repository
Package 190/1641HostnameOS / ArchINSTALLBUILDCHECKBUILD BIN
CAGEr 1.25.0
Vanja Haberle , Charles Plessy
Last Commit: c607a7f
Last Changed Date: 2018-10-30 11:54:31 -0500
malbec2 Linux (Ubuntu 18.04.1 LTS) / x86_64  OK  ERROR  skipped 
tokay2 Windows Server 2012 R2 Standard / x64  OK  ERROR  skipped  skipped 
merida2 OS X 10.11.6 El Capitan / x86_64  OK  ERROR  skipped  skipped 
Package 191/1641HostnameOS / ArchINSTALLBUILDCHECKBUILD BIN
CALIB 1.49.0
Hui Zhao
Last Commit: 5a7a01c
Last Changed Date: 2018-10-30 11:54:27 -0500
malbec2 Linux (Ubuntu 18.04.1 LTS) / x86_64  OK  OK  WARNINGS UNNEEDED, same version exists in internal repository
tokay2 Windows Server 2012 R2 Standard / x64  OK  OK  OK  OK UNNEEDED, same version exists in internal repository
merida2 OS X 10.11.6 El Capitan / x86_64  OK  OK  WARNINGS  OK UNNEEDED, same version exists in internal repository
Package 192/1641HostnameOS / ArchINSTALLBUILDCHECKBUILD BIN
CAMERA 1.39.0
Steffen Neumann
Last Commit: f9704fb
Last Changed Date: 2018-10-30 11:54:28 -0500
malbec2 Linux (Ubuntu 18.04.1 LTS) / x86_64  OK  OK  OK UNNEEDED, same version exists in internal repository
tokay2 Windows Server 2012 R2 Standard / x64  OK  OK  OK  OK UNNEEDED, same version exists in internal repository
merida2 OS X 10.11.6 El Capitan / x86_64  OK  OK  OK  OK UNNEEDED, same version exists in internal repository
Package 193/1641HostnameOS / ArchINSTALLBUILDCHECKBUILD BIN
CAMTHC 1.1.0
Lulu Chen
Last Commit: eb56a4a
Last Changed Date: 2018-10-30 11:54:39 -0500
malbec2 Linux (Ubuntu 18.04.1 LTS) / x86_64  OK  OK  OK UNNEEDED, same version exists in internal repository
tokay2 Windows Server 2012 R2 Standard / x64  OK  OK  OK  OK UNNEEDED, same version exists in internal repository
merida2 OS X 10.11.6 El Capitan / x86_64  ERROR  ERROR  skipped  skipped 
Package 194/1641HostnameOS / ArchINSTALLBUILDCHECKBUILD BIN
canceR 1.17.0
Karim Mezhoud
Last Commit: 352519d
Last Changed Date: 2018-10-30 11:54:34 -0500
malbec2 Linux (Ubuntu 18.04.1 LTS) / x86_64  OK  OK  OK UNNEEDED, same version exists in internal repository
tokay2 Windows Server 2012 R2 Standard / x64  OK  OK  OK  OK UNNEEDED, same version exists in internal repository
merida2 OS X 10.11.6 El Capitan / x86_64  OK  OK  OK  OK UNNEEDED, same version exists in internal repository
Package 195/1641HostnameOS / ArchINSTALLBUILDCHECKBUILD BIN
cancerclass 1.27.0
Daniel Kosztyla
Last Commit: 33e0f34
Last Changed Date: 2018-10-30 11:54:30 -0500
malbec2 Linux (Ubuntu 18.04.1 LTS) / x86_64  OK  OK  OK UNNEEDED, same version exists in internal repository
tokay2 Windows Server 2012 R2 Standard / x64  OK  OK  OK  OK UNNEEDED, same version exists in internal repository
merida2 OS X 10.11.6 El Capitan / x86_64  OK  OK  WARNINGS  OK UNNEEDED, same version exists in internal repository
Package 196/1641HostnameOS / ArchINSTALLBUILDCHECKBUILD BIN
CancerInSilico 2.3.0
Thomas D. Sherman
Last Commit: 77f1e82
Last Changed Date: 2018-10-30 11:54:36 -0500
malbec2 Linux (Ubuntu 18.04.1 LTS) / x86_64  OK  OK  WARNINGS UNNEEDED, same version exists in internal repository
tokay2 Windows Server 2012 R2 Standard / x64  OK  OK  WARNINGS  OK UNNEEDED, same version exists in internal repository
merida2 OS X 10.11.6 El Capitan / x86_64  OK  OK  WARNINGS  OK UNNEEDED, same version exists in internal repository
Package 197/1641HostnameOS / ArchINSTALLBUILDCHECKBUILD BIN
CancerMutationAnalysis 1.25.0
Simina M. Boca
Last Commit: 75ea9c0
Last Changed Date: 2018-10-30 11:54:30 -0500
malbec2 Linux (Ubuntu 18.04.1 LTS) / x86_64  OK  OK  OK UNNEEDED, same version exists in internal repository
tokay2 Windows Server 2012 R2 Standard / x64  OK  OK  OK  OK UNNEEDED, same version exists in internal repository
merida2 OS X 10.11.6 El Capitan / x86_64  OK  OK  OK  OK UNNEEDED, same version exists in internal repository
Package 198/1641HostnameOS / ArchINSTALLBUILDCHECKBUILD BIN
CancerSubtypes 1.9.0
Taosheng Xu
Last Commit: 0e61488
Last Changed Date: 2018-10-30 11:54:36 -0500
malbec2 Linux (Ubuntu 18.04.1 LTS) / x86_64  OK  OK  OK UNNEEDED, same version exists in internal repository
tokay2 Windows Server 2012 R2 Standard / x64  OK  OK  OK  OK UNNEEDED, same version exists in internal repository
merida2 OS X 10.11.6 El Capitan / x86_64  OK  OK  OK  OK UNNEEDED, same version exists in internal repository
Package 199/1641HostnameOS / ArchINSTALLBUILDCHECKBUILD BIN
CAnD 1.15.0
Caitlin McHugh
Last Commit: 3e09bdc
Last Changed Date: 2018-10-30 11:54:34 -0500
malbec2 Linux (Ubuntu 18.04.1 LTS) / x86_64  OK  OK  OK UNNEEDED, same version exists in internal repository
tokay2 Windows Server 2012 R2 Standard / x64  OK  OK  OK  OK UNNEEDED, same version exists in internal repository
merida2 OS X 10.11.6 El Capitan / x86_64  OK  OK  OK  OK UNNEEDED, same version exists in internal repository
Package 200/1641HostnameOS / ArchINSTALLBUILDCHECKBUILD BIN
caOmicsV 1.13.0
Henry Zhang
Last Commit: 174627c
Last Changed Date: 2018-10-30 11:54:34 -0500
malbec2 Linux (Ubuntu 18.04.1 LTS) / x86_64  OK  OK  OK UNNEEDED, same version exists in internal repository
tokay2 Windows Server 2012 R2 Standard / x64  OK  OK  OK  OK UNNEEDED, same version exists in internal repository
merida2 OS X 10.11.6 El Capitan / x86_64  OK  OK  OK  OK UNNEEDED, same version exists in internal repository
Package 201/1641HostnameOS / ArchINSTALLBUILDCHECKBUILD BIN
Cardinal 2.1.2
Kylie A. Bemis
Last Commit: 379ae1d
Last Changed Date: 2018-11-30 23:23:21 -0500
malbec2 Linux (Ubuntu 18.04.1 LTS) / x86_64  OK  ERROR  skipped 
tokay2 Windows Server 2012 R2 Standard / x64  OK  ERROR  skipped  skipped 
merida2 OS X 10.11.6 El Capitan / x86_64  OK  ERROR  skipped  skipped 
Package 202/1641HostnameOS / ArchINSTALLBUILDCHECKBUILD BIN
casper 2.17.0
David Rossell
Last Commit: adadebc
Last Changed Date: 2018-10-30 11:54:31 -0500
malbec2 Linux (Ubuntu 18.04.1 LTS) / x86_64  OK  OK  WARNINGS UNNEEDED, same version exists in internal repository
tokay2 Windows Server 2012 R2 Standard / x64  OK  OK  WARNINGS  OK UNNEEDED, same version exists in internal repository
merida2 OS X 10.11.6 El Capitan / x86_64  OK  OK  WARNINGS  OK UNNEEDED, same version exists in internal repository
Package 203/1641HostnameOS / ArchINSTALLBUILDCHECKBUILD BIN
CATALYST 1.7.1
Helena L. Crowell
Last Commit: 872979c
Last Changed Date: 2018-11-27 06:51:11 -0500
malbec2 Linux (Ubuntu 18.04.1 LTS) / x86_64  OK  OK  OK UNNEEDED, same version exists in internal repository
tokay2 Windows Server 2012 R2 Standard / x64  OK  OK  OK  OK UNNEEDED, same version exists in internal repository
merida2 OS X 10.11.6 El Capitan / x86_64  OK  OK  ERROR  OK 
Package 204/1641HostnameOS / ArchINSTALLBUILDCHECKBUILD BIN
Category 2.49.0
Bioconductor Package Maintainer
Last Commit: 9817aa1
Last Changed Date: 2018-10-30 11:54:26 -0500
malbec2 Linux (Ubuntu 18.04.1 LTS) / x86_64  OK  OK  OK UNNEEDED, same version exists in internal repository
tokay2 Windows Server 2012 R2 Standard / x64  OK  OK  OK  OK UNNEEDED, same version exists in internal repository
merida2 OS X 10.11.6 El Capitan / x86_64  OK  OK  OK  OK UNNEEDED, same version exists in internal repository
Package 205/1641HostnameOS / ArchINSTALLBUILDCHECKBUILD BIN
categoryCompare 1.27.0
Robert M. Flight
Last Commit: 344c525
Last Changed Date: 2018-10-30 11:54:30 -0500
malbec2 Linux (Ubuntu 18.04.1 LTS) / x86_64  OK  OK  OK UNNEEDED, same version exists in internal repository
tokay2 Windows Server 2012 R2 Standard / x64  OK  OK  OK  OK UNNEEDED, same version exists in internal repository
merida2 OS X 10.11.6 El Capitan / x86_64  OK  OK  OK  OK UNNEEDED, same version exists in internal repository
Package 206/1641HostnameOS / ArchINSTALLBUILDCHECKBUILD BIN
CausalR 1.15.0
Glyn Bradley , Steven Barrett
Last Commit: 296f0b4
Last Changed Date: 2018-10-30 11:54:34 -0500
malbec2 Linux (Ubuntu 18.04.1 LTS) / x86_64  OK  OK  OK UNNEEDED, same version exists in internal repository
tokay2 Windows Server 2012 R2 Standard / x64  OK  OK  OK  OK UNNEEDED, same version exists in internal repository
merida2 OS X 10.11.6 El Capitan / x86_64  OK  OK  OK  OK UNNEEDED, same version exists in internal repository
Package 207/1641HostnameOS / ArchINSTALLBUILDCHECKBUILD BIN
cbaf 1.5.0
Arman Shahrisa
Last Commit: 809f936
Last Changed Date: 2018-10-30 11:54:38 -0500
malbec2 Linux (Ubuntu 18.04.1 LTS) / x86_64  OK  OK  OK UNNEEDED, same version exists in internal repository
tokay2 Windows Server 2012 R2 Standard / x64  OK  OK  OK  OK UNNEEDED, same version exists in internal repository
merida2 OS X 10.11.6 El Capitan / x86_64  ERROR  ERROR  skipped  skipped 
Package 208/1641HostnameOS / ArchINSTALLBUILDCHECKBUILD BIN
ccfindR 1.3.0
Jun Woo
Last Commit: 7d4b7a8
Last Changed Date: 2018-11-30 10:23:27 -0500
malbec2 Linux (Ubuntu 18.04.1 LTS) / x86_64  OK  OK  OK UNNEEDED, same version exists in internal repository
tokay2 Windows Server 2012 R2 Standard / x64  OK  OK  OK  OK UNNEEDED, same version exists in internal repository
merida2 OS X 10.11.6 El Capitan / x86_64  OK  OK  OK  OK UNNEEDED, same version exists in internal repository
Package 209/1641HostnameOS / ArchINSTALLBUILDCHECKBUILD BIN
ccmap 1.9.0
Alex Pickering
Last Commit: d0e7e31
Last Changed Date: 2018-10-30 11:54:36 -0500
malbec2 Linux (Ubuntu 18.04.1 LTS) / x86_64  OK  OK  OK UNNEEDED, same version exists in internal repository
tokay2 Windows Server 2012 R2 Standard / x64  OK  OK  OK  OK UNNEEDED, same version exists in internal repository
merida2 OS X 10.11.6 El Capitan / x86_64  OK  OK  OK  OK UNNEEDED, same version exists in internal repository
Package 210/1641HostnameOS / ArchINSTALLBUILDCHECKBUILD BIN
CCPROMISE 1.9.0
Xueyuan Cao
Last Commit: b601f2b
Last Changed Date: 2018-10-30 11:54:37 -0500
malbec2 Linux (Ubuntu 18.04.1 LTS) / x86_64  OK  OK  WARNINGS UNNEEDED, same version exists in internal repository
tokay2 Windows Server 2012 R2 Standard / x64  OK  OK  WARNINGS  OK UNNEEDED, same version exists in internal repository
merida2 OS X 10.11.6 El Capitan / x86_64  OK  OK  WARNINGS  OK UNNEEDED, same version exists in internal repository
Package 211/1641HostnameOS / ArchINSTALLBUILDCHECKBUILD BIN
ccrepe 1.19.0
Emma Schwager ,Craig Bielski, George Weingart
Last Commit: ba4efc7
Last Changed Date: 2018-10-30 11:54:32 -0500
malbec2 Linux (Ubuntu 18.04.1 LTS) / x86_64  OK  OK  OK UNNEEDED, same version exists in internal repository
tokay2 Windows Server 2012 R2 Standard / x64  OK  OK  OK  OK UNNEEDED, same version exists in internal repository
merida2 OS X 10.11.6 El Capitan / x86_64  OK  OK  OK  OK UNNEEDED, same version exists in internal repository
Package 212/1641HostnameOS / ArchINSTALLBUILDCHECKBUILD BIN
celaref 1.1.0
Sarah Williams
Last Commit: 07a0d89
Last Changed Date: 2018-10-30 11:54:39 -0500
malbec2 Linux (Ubuntu 18.04.1 LTS) / x86_64  OK  OK  OK UNNEEDED, same version exists in internal repository
tokay2 Windows Server 2012 R2 Standard / x64  OK  OK  OK  OK UNNEEDED, same version exists in internal repository
merida2 OS X 10.11.6 El Capitan / x86_64  OK  OK  OK  OK UNNEEDED, same version exists in internal repository
Package 213/1641HostnameOS / ArchINSTALLBUILDCHECKBUILD BIN
cellbaseR 1.7.0
Mohammed OE Abdallah
Last Commit: 4852c72
Last Changed Date: 2018-10-30 11:54:37 -0500
malbec2 Linux (Ubuntu 18.04.1 LTS) / x86_64  OK  OK  OK UNNEEDED, same version exists in internal repository
tokay2 Windows Server 2012 R2 Standard / x64  OK  OK  WARNINGS  OK UNNEEDED, same version exists in internal repository
merida2 OS X 10.11.6 El Capitan / x86_64  OK  ERROR  skipped  skipped 
Package 214/1641HostnameOS / ArchINSTALLBUILDCHECKBUILD BIN
cellGrowth 1.27.0
Julien Gagneur
Last Commit: 986f465
Last Changed Date: 2018-10-30 11:54:30 -0500
malbec2 Linux (Ubuntu 18.04.1 LTS) / x86_64  OK  OK  OK UNNEEDED, same version exists in internal repository
tokay2 Windows Server 2012 R2 Standard / x64  OK  OK  OK  OK UNNEEDED, same version exists in internal repository
merida2 OS X 10.11.6 El Capitan / x86_64  OK  OK  OK  OK UNNEEDED, same version exists in internal repository
Package 215/1641HostnameOS / ArchINSTALLBUILDCHECKBUILD BIN
cellHTS2 2.47.0
Joseph Barry
Last Commit: 402c41a
Last Changed Date: 2018-10-30 11:54:27 -0500
malbec2 Linux (Ubuntu 18.04.1 LTS) / x86_64  OK  OK  WARNINGS UNNEEDED, same version exists in internal repository
tokay2 Windows Server 2012 R2 Standard / x64  OK  OK  WARNINGS  OK UNNEEDED, same version exists in internal repository
merida2 OS X 10.11.6 El Capitan / x86_64  OK  OK  WARNINGS  OK UNNEEDED, same version exists in internal repository
Package 216/1641HostnameOS / ArchINSTALLBUILDCHECKBUILD BIN
cellity 1.11.0
Tomislav Ilicic
Last Commit: 31c8aff
Last Changed Date: 2018-10-30 11:54:35 -0500
malbec2 Linux (Ubuntu 18.04.1 LTS) / x86_64  OK  OK  OK UNNEEDED, same version exists in internal repository
tokay2 Windows Server 2012 R2 Standard / x64  OK  OK  OK  OK UNNEEDED, same version exists in internal repository
merida2 OS X 10.11.6 El Capitan / x86_64  OK  OK  OK  OK UNNEEDED, same version exists in internal repository
Package 217/1641HostnameOS / ArchINSTALLBUILDCHECKBUILD BIN
CellMapper 1.9.0
Brad Nelms
Last Commit: 1dbdab9
Last Changed Date: 2018-10-30 11:54:36 -0500
malbec2 Linux (Ubuntu 18.04.1 LTS) / x86_64  OK  OK  WARNINGS UNNEEDED, same version exists in internal repository
tokay2 Windows Server 2012 R2 Standard / x64  OK  OK  WARNINGS  OK UNNEEDED, same version exists in internal repository
merida2 OS X 10.11.6 El Capitan / x86_64  OK  OK  WARNINGS  OK UNNEEDED, same version exists in internal repository
Package 218/1641HostnameOS / ArchINSTALLBUILDCHECKBUILD BIN
CellNOptR 1.29.0
A.Gabor
Last Commit: 432a98d
Last Changed Date: 2018-11-29 08:33:09 -0500
malbec2 Linux (Ubuntu 18.04.1 LTS) / x86_64  OK  OK  WARNINGS UNNEEDED, same version exists in internal repository
tokay2 Windows Server 2012 R2 Standard / x64  OK  OK  WARNINGS  OK UNNEEDED, same version exists in internal repository
merida2 OS X 10.11.6 El Capitan / x86_64  OK  OK  WARNINGS  OK UNNEEDED, same version exists in internal repository
Package 219/1641HostnameOS / ArchINSTALLBUILDCHECKBUILD BIN
cellscape 1.7.0
Maia Smith
Last Commit: 6566a51
Last Changed Date: 2018-10-30 11:54:37 -0500
malbec2 Linux (Ubuntu 18.04.1 LTS) / x86_64  OK  OK  WARNINGS UNNEEDED, same version exists in internal repository
tokay2 Windows Server 2012 R2 Standard / x64  OK  OK  WARNINGS  OK UNNEEDED, same version exists in internal repository
merida2 OS X 10.11.6 El Capitan / x86_64  OK  OK  WARNINGS  OK UNNEEDED, same version exists in internal repository
Package 220/1641HostnameOS / ArchINSTALLBUILDCHECKBUILD BIN
CellScore 1.3.0
Nancy Mah
Last Commit: 8da88b5
Last Changed Date: 2018-10-30 11:54:39 -0500
malbec2 Linux (Ubuntu 18.04.1 LTS) / x86_64  OK  OK  OK UNNEEDED, same version exists in internal repository
tokay2 Windows Server 2012 R2 Standard / x64  OK  OK  OK  OK UNNEEDED, same version exists in internal repository
merida2 OS X 10.11.6 El Capitan / x86_64  OK  OK  OK  OK UNNEEDED, same version exists in internal repository
Package 221/1641HostnameOS / ArchINSTALLBUILDCHECKBUILD BIN
CellTrails 1.1.0
Daniel Ellwanger
Last Commit: 9f50314
Last Changed Date: 2018-10-30 11:54:39 -0500
malbec2 Linux (Ubuntu 18.04.1 LTS) / x86_64  OK  OK  OK UNNEEDED, same version exists in internal repository
tokay2 Windows Server 2012 R2 Standard / x64  OK  OK  OK  OK UNNEEDED, same version exists in internal repository
merida2 OS X 10.11.6 El Capitan / x86_64  OK  OK  OK  OK UNNEEDED, same version exists in internal repository
Package 222/1641HostnameOS / ArchINSTALLBUILDCHECKBUILD BIN
cellTree 1.13.0
David duVerle
Last Commit: 50cb549
Last Changed Date: 2018-10-30 11:54:35 -0500
malbec2 Linux (Ubuntu 18.04.1 LTS) / x86_64  OK  OK  OK UNNEEDED, same version exists in internal repository
tokay2 Windows Server 2012 R2 Standard / x64  OK  OK  WARNINGS  OK UNNEEDED, same version exists in internal repository
merida2 OS X 10.11.6 El Capitan / x86_64  OK  OK  OK  OK UNNEEDED, same version exists in internal repository
Package 223/1641HostnameOS / ArchINSTALLBUILDCHECKBUILD BIN
CEMiTool 1.7.4
Helder Nakaya
Last Commit: bf7a8d6
Last Changed Date: 2018-12-04 14:08:49 -0500
malbec2 Linux (Ubuntu 18.04.1 LTS) / x86_64  OK  OK  OK UNNEEDED, same version exists in internal repository
tokay2 Windows Server 2012 R2 Standard / x64  OK  OK  OK  OK UNNEEDED, same version exists in internal repository
merida2 OS X 10.11.6 El Capitan / x86_64  ERROR  ERROR  skipped  skipped 
Package 224/1641HostnameOS / ArchINSTALLBUILDCHECKBUILD BIN
CexoR 1.21.0
Pedro Madrigal
Last Commit: d585bed
Last Changed Date: 2018-10-30 11:54:31 -0500
malbec2 Linux (Ubuntu 18.04.1 LTS) / x86_64  OK  OK  OK UNNEEDED, same version exists in internal repository
tokay2 Windows Server 2012 R2 Standard / x64  OK  OK  OK  OK UNNEEDED, same version exists in internal repository
merida2 OS X 10.11.6 El Capitan / x86_64  OK  OK  OK  OK UNNEEDED, same version exists in internal repository
Package 225/1641HostnameOS / ArchINSTALLBUILDCHECKBUILD BIN
CFAssay 1.17.0
Herbert Braselmann
Last Commit: 55a29d0
Last Changed Date: 2018-10-30 11:54:33 -0500
malbec2 Linux (Ubuntu 18.04.1 LTS) / x86_64  OK  OK  OK UNNEEDED, same version exists in internal repository
tokay2 Windows Server 2012 R2 Standard / x64  OK  OK  OK  OK UNNEEDED, same version exists in internal repository
merida2 OS X 10.11.6 El Capitan / x86_64  OK  OK  OK  OK UNNEEDED, same version exists in internal repository
Package 226/1641HostnameOS / ArchINSTALLBUILDCHECKBUILD BIN
CGEN 3.19.0
William Wheeler
Last Commit: ffe9a05
Last Changed Date: 2018-10-30 11:54:29 -0500
malbec2 Linux (Ubuntu 18.04.1 LTS) / x86_64  OK  OK  OK UNNEEDED, same version exists in internal repository
tokay2 Windows Server 2012 R2 Standard / x64  OK  OK  OK  OK UNNEEDED, same version exists in internal repository
merida2 OS X 10.11.6 El Capitan / x86_64  OK  OK  OK  OK UNNEEDED, same version exists in internal repository
Package 227/1641HostnameOS / ArchINSTALLBUILDCHECKBUILD BIN
CGHbase 1.43.0
Mark van de Wiel
Last Commit: 2dc6a02
Last Changed Date: 2018-10-30 11:54:28 -0500
malbec2 Linux (Ubuntu 18.04.1 LTS) / x86_64  OK  OK  OK UNNEEDED, same version exists in internal repository
tokay2 Windows Server 2012 R2 Standard / x64  OK  OK  WARNINGS  OK UNNEEDED, same version exists in internal repository
merida2 OS X 10.11.6 El Capitan / x86_64  OK  OK  OK  OK UNNEEDED, same version exists in internal repository
Package 228/1641HostnameOS / ArchINSTALLBUILDCHECKBUILD BIN
CGHcall 2.45.0
Mark van de Wiel
Last Commit: 6d1aadb
Last Changed Date: 2018-10-30 11:54:27 -0500
malbec2 Linux (Ubuntu 18.04.1 LTS) / x86_64  OK  OK  OK UNNEEDED, same version exists in internal repository
tokay2 Windows Server 2012 R2 Standard / x64  OK  OK  OK  OK UNNEEDED, same version exists in internal repository
merida2 OS X 10.11.6 El Capitan / x86_64  OK  OK  OK  OK UNNEEDED, same version exists in internal repository
Package 229/1641HostnameOS / ArchINSTALLBUILDCHECKBUILD BIN
cghMCR 1.41.0
J. Zhang
Last Commit: 878a767
Last Changed Date: 2018-10-30 11:54:27 -0500
malbec2 Linux (Ubuntu 18.04.1 LTS) / x86_64  OK  OK  WARNINGS UNNEEDED, same version exists in internal repository
tokay2 Windows Server 2012 R2 Standard / x64  OK  OK  WARNINGS  OK UNNEEDED, same version exists in internal repository
merida2 OS X 10.11.6 El Capitan / x86_64  OK  OK  WARNINGS  OK UNNEEDED, same version exists in internal repository
Package 230/1641HostnameOS / ArchINSTALLBUILDCHECKBUILD BIN
CGHnormaliter 1.37.0
Bart P.P. van Houte
Last Commit: 0c04a62
Last Changed Date: 2018-10-30 11:54:28 -0500
malbec2 Linux (Ubuntu 18.04.1 LTS) / x86_64  OK  OK  OK UNNEEDED, same version exists in internal repository
tokay2 Windows Server 2012 R2 Standard / x64  OK  OK  OK  OK UNNEEDED, same version exists in internal repository
merida2 OS X 10.11.6 El Capitan / x86_64  OK  OK  OK  OK UNNEEDED, same version exists in internal repository
Package 231/1641HostnameOS / ArchINSTALLBUILDCHECKBUILD BIN
CGHregions 1.41.0
Sjoerd Vosse
Last Commit: 262f3b4
Last Changed Date: 2018-10-30 11:54:28 -0500
malbec2 Linux (Ubuntu 18.04.1 LTS) / x86_64  OK  OK  OK UNNEEDED, same version exists in internal repository
tokay2 Windows Server 2012 R2 Standard / x64  OK  OK  OK  OK UNNEEDED, same version exists in internal repository
merida2 OS X 10.11.6 El Capitan / x86_64  OK  OK  OK  OK UNNEEDED, same version exists in internal repository
Package 232/1641HostnameOS / ArchINSTALLBUILDCHECKBUILD BIN
ChAMP 2.13.0
Yuan Tian
Last Commit: 6290292
Last Changed Date: 2018-10-30 11:54:32 -0500
malbec2 Linux (Ubuntu 18.04.1 LTS) / x86_64  OK  ERROR  skipped 
tokay2 Windows Server 2012 R2 Standard / x64  OK  TIMEOUT  skipped  skipped 
merida2 OS X 10.11.6 El Capitan / x86_64  OK  OK  WARNINGS  OK UNNEEDED, same version exists in internal repository
Package 233/1641HostnameOS / ArchINSTALLBUILDCHECKBUILD BIN
CHARGE 1.3.0
Benjamin Mayne
Last Commit: 4900e2b
Last Changed Date: 2018-10-30 11:54:38 -0500
malbec2 Linux (Ubuntu 18.04.1 LTS) / x86_64  OK  OK  OK UNNEEDED, same version exists in internal repository
tokay2 Windows Server 2012 R2 Standard / x64  OK  OK  OK  OK UNNEEDED, same version exists in internal repository
merida2 OS X 10.11.6 El Capitan / x86_64  OK  OK  OK  OK UNNEEDED, same version exists in internal repository
Package 234/1641HostnameOS / ArchINSTALLBUILDCHECKBUILD BIN
charm 2.29.0
Peter Murakami
Last Commit: 56ad8a8
Last Changed Date: 2018-10-30 11:54:28 -0500
malbec2 Linux (Ubuntu 18.04.1 LTS) / x86_64  OK  OK  WARNINGS UNNEEDED, same version exists in internal repository
tokay2 Windows Server 2012 R2 Standard / x64  OK  OK  WARNINGS  OK UNNEEDED, same version exists in internal repository
merida2 OS X 10.11.6 El Capitan / x86_64  OK  OK  WARNINGS  OK UNNEEDED, same version exists in internal repository
Package 235/1641HostnameOS / ArchINSTALLBUILDCHECKBUILD BIN
ChemmineOB 1.21.0
Thomas Girke
Last Commit: 582874d
Last Changed Date: 2018-10-30 11:54:31 -0500
malbec2 Linux (Ubuntu 18.04.1 LTS) / x86_64  OK  OK  OK UNNEEDED, same version exists in internal repository
tokay2 Windows Server 2012 R2 Standard / x64  OK  OK  OK  OK UNNEEDED, same version exists in internal repository
merida2 OS X 10.11.6 El Capitan / x86_64  OK  OK  ERROR  OK 
Package 236/1641HostnameOS / ArchINSTALLBUILDCHECKBUILD BIN
ChemmineR 3.35.5
Thomas Girke
Last Commit: ba8aad1
Last Changed Date: 2018-12-05 11:49:25 -0500
malbec2 Linux (Ubuntu 18.04.1 LTS) / x86_64  OK  OK  OK UNNEEDED, same version exists in internal repository
tokay2 Windows Server 2012 R2 Standard / x64  OK  OK  OK  OK UNNEEDED, same version exists in internal repository
merida2 OS X 10.11.6 El Capitan / x86_64  ERROR  ERROR  skipped  skipped 
Package 237/1641HostnameOS / ArchINSTALLBUILDCHECKBUILD BIN
ChIC 1.3.33
Carmen Maria Livi
Last Commit: 6e4b644
Last Changed Date: 2018-11-24 10:03:55 -0500
malbec2 Linux (Ubuntu 18.04.1 LTS) / x86_64  OK  OK  OK UNNEEDED, same version exists in internal repository
tokay2 Windows Server 2012 R2 Standard / x64 ...NOT SUPPORTED...
merida2 OS X 10.11.6 El Capitan / x86_64  OK  OK  OK  OK UNNEEDED, same version exists in internal repository
Package 238/1641HostnameOS / ArchINSTALLBUILDCHECKBUILD BIN
Chicago 1.11.0
Mikhail Spivakov
Last Commit: 9e14965
Last Changed Date: 2018-10-30 11:54:35 -0500
malbec2 Linux (Ubuntu 18.04.1 LTS) / x86_64  OK  OK  OK UNNEEDED, same version exists in internal repository
tokay2 Windows Server 2012 R2 Standard / x64  OK  OK  OK  OK UNNEEDED, same version exists in internal repository
merida2 OS X 10.11.6 El Capitan / x86_64  OK  OK  OK  OK UNNEEDED, same version exists in internal repository
Package 239/1641HostnameOS / ArchINSTALLBUILDCHECKBUILD BIN
chimera 1.25.0
Raffaele A Calogero
Last Commit: 562a2dc
Last Changed Date: 2018-10-30 11:54:31 -0500
malbec2 Linux (Ubuntu 18.04.1 LTS) / x86_64  OK  OK  OK UNNEEDED, same version exists in internal repository
tokay2 Windows Server 2012 R2 Standard / x64  OK  OK  OK  OK UNNEEDED, same version exists in internal repository
merida2 OS X 10.11.6 El Capitan / x86_64  OK  OK  OK  OK UNNEEDED, same version exists in internal repository
Package 240/1641HostnameOS / ArchINSTALLBUILDCHECKBUILD BIN
chimeraviz 1.9.0
Stian Lågstad
Last Commit: 1d100cd
Last Changed Date: 2018-10-30 11:54:37 -0500
malbec2 Linux (Ubuntu 18.04.1 LTS) / x86_64  OK  OK  OK UNNEEDED, same version exists in internal repository
tokay2 Windows Server 2012 R2 Standard / x64  OK  OK  OK  OK UNNEEDED, same version exists in internal repository
merida2 OS X 10.11.6 El Capitan / x86_64  OK  OK  OK  OK UNNEEDED, same version exists in internal repository
Package 241/1641HostnameOS / ArchINSTALLBUILDCHECKBUILD BIN
ChIPanalyser 1.5.0
Patrick C.N. Martin
Last Commit: f19fd15
Last Changed Date: 2018-10-30 11:54:38 -0500
malbec2 Linux (Ubuntu 18.04.1 LTS) / x86_64  OK  OK  OK UNNEEDED, same version exists in internal repository
tokay2 Windows Server 2012 R2 Standard / x64  OK  OK  WARNINGS  OK UNNEEDED, same version exists in internal repository
merida2 OS X 10.11.6 El Capitan / x86_64  OK  OK  OK  OK UNNEEDED, same version exists in internal repository
Package 242/1641HostnameOS / ArchINSTALLBUILDCHECKBUILD BIN
ChIPComp 1.13.0
Li Chen
Last Commit: 968a1a9
Last Changed Date: 2018-10-30 11:54:34 -0500
malbec2 Linux (Ubuntu 18.04.1 LTS) / x86_64  OK  OK  OK UNNEEDED, same version exists in internal repository
tokay2 Windows Server 2012 R2 Standard / x64  OK  OK  OK  OK UNNEEDED, same version exists in internal repository
merida2 OS X 10.11.6 El Capitan / x86_64  OK  OK  OK  OK UNNEEDED, same version exists in internal repository
Package 243/1641HostnameOS / ArchINSTALLBUILDCHECKBUILD BIN
chipenrich 2.7.0
Raymond G. Cavalcante
Last Commit: c7fcf20
Last Changed Date: 2018-10-30 11:54:31 -0500
malbec2 Linux (Ubuntu 18.04.1 LTS) / x86_64  OK  OK  OK UNNEEDED, same version exists in internal repository
tokay2 Windows Server 2012 R2 Standard / x64  OK  OK  OK  OK UNNEEDED, same version exists in internal repository
merida2 OS X 10.11.6 El Capitan / x86_64  OK  OK  OK  OK UNNEEDED, same version exists in internal repository
Package 244/1641HostnameOS / ArchINSTALLBUILDCHECKBUILD BIN
ChIPexoQual 1.7.0
Rene Welch
Last Commit: 817ab92
Last Changed Date: 2018-10-30 11:54:37 -0500
malbec2 Linux (Ubuntu 18.04.1 LTS) / x86_64  OK  OK  OK UNNEEDED, same version exists in internal repository
tokay2 Windows Server 2012 R2 Standard / x64  OK  OK  OK  OK UNNEEDED, same version exists in internal repository
merida2 OS X 10.11.6 El Capitan / x86_64  OK  OK  OK  OK UNNEEDED, same version exists in internal repository
Package 245/1641HostnameOS / ArchINSTALLBUILDCHECKBUILD BIN
ChIPpeakAnno 3.17.0
Lihua Julie Zhu
Last Commit: f64d7aa
Last Changed Date: 2018-10-30 11:54:28 -0500
malbec2 Linux (Ubuntu 18.04.1 LTS) / x86_64  OK  OK  OK UNNEEDED, same version exists in internal repository
tokay2 Windows Server 2012 R2 Standard / x64  OK  OK  OK  OK UNNEEDED, same version exists in internal repository
merida2 OS X 10.11.6 El Capitan / x86_64  OK  OK  OK  OK UNNEEDED, same version exists in internal repository
Package 246/1641HostnameOS / ArchINSTALLBUILDCHECKBUILD BIN
ChIPQC 1.19.0
Tom Carroll , Rory Stark
Last Commit: 1e62f83
Last Changed Date: 2018-10-30 11:54:32 -0500
malbec2 Linux (Ubuntu 18.04.1 LTS) / x86_64  OK  OK  OK UNNEEDED, same version exists in internal repository
tokay2 Windows Server 2012 R2 Standard / x64  OK  OK  OK  OK UNNEEDED, same version exists in internal repository
merida2 OS X 10.11.6 El Capitan / x86_64  OK  OK  OK  OK UNNEEDED, same version exists in internal repository
Package 247/1641HostnameOS / ArchINSTALLBUILDCHECKBUILD BIN
ChIPseeker 1.19.0
Guangchuang Yu
Last Commit: e607ea8
Last Changed Date: 2018-10-30 11:54:32 -0500
malbec2 Linux (Ubuntu 18.04.1 LTS) / x86_64  OK  OK  OK UNNEEDED, same version exists in internal repository
tokay2 Windows Server 2012 R2 Standard / x64  OK  OK  WARNINGS  OK UNNEEDED, same version exists in internal repository
merida2 OS X 10.11.6 El Capitan / x86_64  ERROR  ERROR  skipped  skipped 
Package 248/1641HostnameOS / ArchINSTALLBUILDCHECKBUILD BIN
chipseq 1.33.0
Bioconductor Package Maintainer
Last Commit: 1c28ccb
Last Changed Date: 2018-11-30 14:01:40 -0500
malbec2 Linux (Ubuntu 18.04.1 LTS) / x86_64  OK  ERROR  skipped 
tokay2 Windows Server 2012 R2 Standard / x64  OK  ERROR  skipped  skipped 
merida2 OS X 10.11.6 El Capitan / x86_64  OK  ERROR  skipped  skipped 
Package 249/1641HostnameOS / ArchINSTALLBUILDCHECKBUILD BIN
ChIPseqR 1.37.0
Peter Humburg
Last Commit: bbf048a
Last Changed Date: 2018-10-30 11:54:28 -0500
malbec2 Linux (Ubuntu 18.04.1 LTS) / x86_64  OK  OK  WARNINGS UNNEEDED, same version exists in internal repository
tokay2 Windows Server 2012 R2 Standard / x64  OK  OK  WARNINGS  OK UNNEEDED, same version exists in internal repository
merida2 OS X 10.11.6 El Capitan / x86_64  OK  OK  WARNINGS  OK UNNEEDED, same version exists in internal repository
Package 250/1641HostnameOS / ArchINSTALLBUILDCHECKBUILD BIN
ChIPSeqSpike 1.3.0
Nicolas Descostes
Last Commit: 5ffd74e
Last Changed Date: 2018-10-30 11:54:38 -0500
malbec2 Linux (Ubuntu 18.04.1 LTS) / x86_64  OK  OK  OK UNNEEDED, same version exists in internal repository
tokay2 Windows Server 2012 R2 Standard / x64  OK  OK  OK  OK UNNEEDED, same version exists in internal repository
merida2 OS X 10.11.6 El Capitan / x86_64  OK  OK  OK  OK UNNEEDED, same version exists in internal repository
Package 251/1641HostnameOS / ArchINSTALLBUILDCHECKBUILD BIN
ChIPsim 1.37.0
Peter Humburg
Last Commit: b8e1ff9
Last Changed Date: 2018-10-30 11:54:28 -0500
malbec2 Linux (Ubuntu 18.04.1 LTS) / x86_64  OK  OK  OK UNNEEDED, same version exists in internal repository
tokay2 Windows Server 2012 R2 Standard / x64  OK  OK  OK  OK UNNEEDED, same version exists in internal repository
merida2 OS X 10.11.6 El Capitan / x86_64  OK  OK  OK  OK UNNEEDED, same version exists in internal repository
Package 252/1641HostnameOS / ArchINSTALLBUILDCHECKBUILD BIN
ChIPXpress 1.27.0
George Wu
Last Commit: a9a71d7
Last Changed Date: 2018-10-30 11:54:30 -0500
malbec2 Linux (Ubuntu 18.04.1 LTS) / x86_64  OK  OK  OK UNNEEDED, same version exists in internal repository
tokay2 Windows Server 2012 R2 Standard / x64 ...NOT SUPPORTED...
merida2 OS X 10.11.6 El Capitan / x86_64  OK  OK  OK  OK UNNEEDED, same version exists in internal repository
Package 253/1641HostnameOS / ArchINSTALLBUILDCHECKBUILD BIN
chopsticks 1.49.0
Hin-Tak Leung
Last Commit: 928c8fa
Last Changed Date: 2018-10-30 11:54:29 -0500
malbec2 Linux (Ubuntu 18.04.1 LTS) / x86_64  OK  OK  WARNINGS UNNEEDED, same version exists in internal repository
tokay2 Windows Server 2012 R2 Standard / x64  OK  OK  WARNINGS  OK UNNEEDED, same version exists in internal repository
merida2 OS X 10.11.6 El Capitan / x86_64  OK  OK  WARNINGS  OK UNNEEDED, same version exists in internal repository
Package 254/1641HostnameOS / ArchINSTALLBUILDCHECKBUILD BIN
chroGPS 2.1.0
Oscar Reina
Last Commit: 6ac7ae7
Last Changed Date: 2018-10-30 11:54:30 -0500
malbec2 Linux (Ubuntu 18.04.1 LTS) / x86_64  OK  OK  OK UNNEEDED, same version exists in internal repository
tokay2 Windows Server 2012 R2 Standard / x64  OK  OK  OK  OK UNNEEDED, same version exists in internal repository
merida2 OS X 10.11.6 El Capitan / x86_64  OK  OK  OK  OK UNNEEDED, same version exists in internal repository
Package 255/1641HostnameOS / ArchINSTALLBUILDCHECKBUILD BIN
chromDraw 2.13.0
Jan Janecka
Last Commit: 7b7ae11
Last Changed Date: 2018-10-30 11:54:33 -0500
malbec2 Linux (Ubuntu 18.04.1 LTS) / x86_64  OK  OK  WARNINGS UNNEEDED, same version exists in internal repository
tokay2 Windows Server 2012 R2 Standard / x64  OK  OK  WARNINGS  OK UNNEEDED, same version exists in internal repository
merida2 OS X 10.11.6 El Capitan / x86_64  OK  OK  WARNINGS  OK UNNEEDED, same version exists in internal repository
Package 256/1641HostnameOS / ArchINSTALLBUILDCHECKBUILD BIN
ChromHeatMap 1.37.0
Tim F. Rayner
Last Commit: d22190d
Last Changed Date: 2018-10-30 11:54:28 -0500
malbec2 Linux (Ubuntu 18.04.1 LTS) / x86_64  OK  OK  OK UNNEEDED, same version exists in internal repository
tokay2 Windows Server 2012 R2 Standard / x64  OK  OK  OK  OK UNNEEDED, same version exists in internal repository
merida2 OS X 10.11.6 El Capitan / x86_64  OK  OK  OK  OK UNNEEDED, same version exists in internal repository
Package 257/1641HostnameOS / ArchINSTALLBUILDCHECKBUILD BIN
chromPlot 1.11.0
Karen Y. Orostica
Last Commit: ec65b69
Last Changed Date: 2018-10-30 11:54:35 -0500
malbec2 Linux (Ubuntu 18.04.1 LTS) / x86_64  OK  OK  OK UNNEEDED, same version exists in internal repository
tokay2 Windows Server 2012 R2 Standard / x64  OK  OK  WARNINGS  OK UNNEEDED, same version exists in internal repository
merida2 OS X 10.11.6 El Capitan / x86_64  OK  OK  OK  OK UNNEEDED, same version exists in internal repository
Package 258/1641HostnameOS / ArchINSTALLBUILDCHECKBUILD BIN
chromstaR 1.9.0
Aaron Taudt
Last Commit: c751951
Last Changed Date: 2018-10-30 11:54:36 -0500
malbec2 Linux (Ubuntu 18.04.1 LTS) / x86_64  OK  OK  OK UNNEEDED, same version exists in internal repository
tokay2 Windows Server 2012 R2 Standard / x64  OK  OK  OK  OK UNNEEDED, same version exists in internal repository
merida2 OS X 10.11.6 El Capitan / x86_64  OK  OK  OK  OK UNNEEDED, same version exists in internal repository
Package 259/1641HostnameOS / ArchINSTALLBUILDCHECKBUILD BIN
chromswitch 1.5.0
Selin Jessa
Last Commit: 123f4e6
Last Changed Date: 2018-10-30 11:54:38 -0500
malbec2 Linux (Ubuntu 18.04.1 LTS) / x86_64  OK  OK  OK UNNEEDED, same version exists in internal repository
tokay2 Windows Server 2012 R2 Standard / x64  OK  OK  OK  OK UNNEEDED, same version exists in internal repository
merida2 OS X 10.11.6 El Capitan / x86_64  OK  OK  OK  OK UNNEEDED, same version exists in internal repository
Package 260/1641HostnameOS / ArchINSTALLBUILDCHECKBUILD BIN
chromVAR 1.5.0
Alicia Schep
Last Commit: fbbba6b
Last Changed Date: 2018-11-30 00:02:42 -0500
malbec2 Linux (Ubuntu 18.04.1 LTS) / x86_64  OK  OK  OK UNNEEDED, same version exists in internal repository
tokay2 Windows Server 2012 R2 Standard / x64  OK  OK  WARNINGS  OK UNNEEDED, same version exists in internal repository
merida2 OS X 10.11.6 El Capitan / x86_64  OK  OK  OK  OK UNNEEDED, same version exists in internal repository
Package 261/1641HostnameOS / ArchINSTALLBUILDCHECKBUILD BIN
CHRONOS 1.11.0
Panos Balomenos
Last Commit: af8fa4e
Last Changed Date: 2018-10-30 11:54:36 -0500
malbec2 Linux (Ubuntu 18.04.1 LTS) / x86_64  OK  OK  OK UNNEEDED, same version exists in internal repository
tokay2 Windows Server 2012 R2 Standard / x64  OK  OK  OK  OK UNNEEDED, same version exists in internal repository
merida2 OS X 10.11.6 El Capitan / x86_64  OK  OK  OK  OK UNNEEDED, same version exists in internal repository
Package 262/1641HostnameOS / ArchINSTALLBUILDCHECKBUILD BIN
cicero 1.1.3
Hannah Pliner
Last Commit: 20fa829
Last Changed Date: 2018-12-06 01:20:32 -0500
malbec2 Linux (Ubuntu 18.04.1 LTS) / x86_64  OK  OK  OK UNNEEDED, same version exists in internal repository
tokay2 Windows Server 2012 R2 Standard / x64  OK  OK  OK  OK UNNEEDED, same version exists in internal repository
merida2 OS X 10.11.6 El Capitan / x86_64  OK  OK  ERROR  OK 
Package 263/1641HostnameOS / ArchINSTALLBUILDCHECKBUILD BIN
CINdex 1.11.0
Yuriy Gusev
Last Commit: 23f0e1e
Last Changed Date: 2018-10-30 11:54:35 -0500
malbec2 Linux (Ubuntu 18.04.1 LTS) / x86_64  OK  OK  OK UNNEEDED, same version exists in internal repository
tokay2 Windows Server 2012 R2 Standard / x64  OK  TIMEOUT  skipped  skipped 
merida2 OS X 10.11.6 El Capitan / x86_64  OK  OK  ERROR  OK 
Package 264/1641HostnameOS / ArchINSTALLBUILDCHECKBUILD BIN
cisPath 1.23.0
Likun Wang
Last Commit: 3ec231d
Last Changed Date: 2018-10-30 11:54:31 -0500
malbec2 Linux (Ubuntu 18.04.1 LTS) / x86_64  OK  OK  OK UNNEEDED, same version exists in internal repository
tokay2 Windows Server 2012 R2 Standard / x64  OK  OK  OK  OK UNNEEDED, same version exists in internal repository
merida2 OS X 10.11.6 El Capitan / x86_64  OK  OK  OK  OK UNNEEDED, same version exists in internal repository
Package 265/1641HostnameOS / ArchINSTALLBUILDCHECKBUILD BIN
ClassifyR 2.3.3
Dario Strbenac
Last Commit: 6a8f503
Last Changed Date: 2018-12-04 23:22:21 -0500
malbec2 Linux (Ubuntu 18.04.1 LTS) / x86_64  OK  OK  ERROR 
tokay2 Windows Server 2012 R2 Standard / x64  OK  OK  WARNINGS  OK UNNEEDED, same version exists in internal repository
merida2 OS X 10.11.6 El Capitan / x86_64  OK  OK  ERROR  OK 
Package 266/1641HostnameOS / ArchINSTALLBUILDCHECKBUILD BIN
cleanUpdTSeq 1.21.0
Sarah Sheppard ; Jianhong Ou
Last Commit: d167ee6
Last Changed Date: 2018-10-30 11:54:31 -0500
malbec2 Linux (Ubuntu 18.04.1 LTS) / x86_64  OK  OK  OK UNNEEDED, same version exists in internal repository
tokay2 Windows Server 2012 R2 Standard / x64  OK  OK  OK  OK UNNEEDED, same version exists in internal repository
merida2 OS X 10.11.6 El Capitan / x86_64  OK  OK  OK  OK UNNEEDED, same version exists in internal repository
Package 267/1641HostnameOS / ArchINSTALLBUILDCHECKBUILD BIN
cleaver 1.21.2
Sebastian Gibb
Last Commit: 54d1570
Last Changed Date: 2018-11-03 17:10:25 -0500
malbec2 Linux (Ubuntu 18.04.1 LTS) / x86_64  OK  OK  OK UNNEEDED, same version exists in internal repository
tokay2 Windows Server 2012 R2 Standard / x64  OK  OK  OK  OK UNNEEDED, same version exists in internal repository
merida2 OS X 10.11.6 El Capitan / x86_64  OK  OK  OK  OK UNNEEDED, same version exists in internal repository
Package 268/1641HostnameOS / ArchINSTALLBUILDCHECKBUILD BIN
clippda 1.33.0
Stephen Nyangoma
Last Commit: 07d245d
Last Changed Date: 2018-10-30 11:54:28 -0500
malbec2 Linux (Ubuntu 18.04.1 LTS) / x86_64  OK  OK  WARNINGS UNNEEDED, same version exists in internal repository
tokay2 Windows Server 2012 R2 Standard / x64  OK  OK  WARNINGS  OK UNNEEDED, same version exists in internal repository
merida2 OS X 10.11.6 El Capitan / x86_64  OK  OK  WARNINGS  OK UNNEEDED, same version exists in internal repository
Package 269/1641HostnameOS / ArchINSTALLBUILDCHECKBUILD BIN
clipper 1.23.0
Paolo Martini
Last Commit: c41049a
Last Changed Date: 2018-10-30 11:54:31 -0500
malbec2 Linux (Ubuntu 18.04.1 LTS) / x86_64  OK  OK  OK UNNEEDED, same version exists in internal repository
tokay2 Windows Server 2012 R2 Standard / x64  OK  OK  OK  OK UNNEEDED, same version exists in internal repository
merida2 OS X 10.11.6 El Capitan / x86_64  OK  OK  OK  OK UNNEEDED, same version exists in internal repository
Package 270/1641HostnameOS / ArchINSTALLBUILDCHECKBUILD BIN
Clomial 1.19.2
Habil Zare
Last Commit: 25293c9
Last Changed Date: 2018-12-05 10:37:57 -0500
malbec2 Linux (Ubuntu 18.04.1 LTS) / x86_64  OK  OK  OK UNNEEDED, same version exists in internal repository
tokay2 Windows Server 2012 R2 Standard / x64  OK  OK  OK  OK UNNEEDED, same version exists in internal repository
merida2 OS X 10.11.6 El Capitan / x86_64  OK  OK  OK  OK UNNEEDED, same version exists in internal repository
Package 271/1641HostnameOS / ArchINSTALLBUILDCHECKBUILD BIN
Clonality 1.31.0
Irina Ostrovnaya
Last Commit: 10d56ce
Last Changed Date: 2018-10-30 11:54:29 -0500
malbec2 Linux (Ubuntu 18.04.1 LTS) / x86_64  OK  OK  OK UNNEEDED, same version exists in internal repository
tokay2 Windows Server 2012 R2 Standard / x64  OK  OK  OK  OK UNNEEDED, same version exists in internal repository
merida2 OS X 10.11.6 El Capitan / x86_64  OK  OK  OK  OK UNNEEDED, same version exists in internal repository
Package 272/1641HostnameOS / ArchINSTALLBUILDCHECKBUILD BIN
clonotypeR 1.21.0
Charles Plessy
Last Commit: 273250d
Last Changed Date: 2018-10-30 11:54:31 -0500
malbec2 Linux (Ubuntu 18.04.1 LTS) / x86_64  OK  OK  OK UNNEEDED, same version exists in internal repository
tokay2 Windows Server 2012 R2 Standard / x64  OK  OK  OK  OK UNNEEDED, same version exists in internal repository
merida2 OS X 10.11.6 El Capitan / x86_64  OK  OK  OK  OK UNNEEDED, same version exists in internal repository
Package 273/1641HostnameOS / ArchINSTALLBUILDCHECKBUILD BIN
clst 1.31.0
Noah Hoffman
Last Commit: 015ca74
Last Changed Date: 2018-10-30 11:54:29 -0500
malbec2 Linux (Ubuntu 18.04.1 LTS) / x86_64  OK  OK  WARNINGS UNNEEDED, same version exists in internal repository
tokay2 Windows Server 2012 R2 Standard / x64  OK  OK  WARNINGS  OK