Index of /checkResults/3.16/bioc-LATEST/GenomicAlignments/raw-results
Name
Last modified
Size
Description
Parent Directory
-
info.dcf
28-Mar-2023 00:06
298
kjohnson/
12-Jul-2022 00:06
-
lconway/
28-Mar-2023 00:06
-
nebbiolo2/
28-Mar-2023 00:04
-
palomino4/
28-Mar-2023 00:05
-