Workflows build report for BioC 3.16

This page was generated on 2022-12-02 14:00:09 -0500 (Fri, 02 Dec 2022).

Approx. Package Snapshot Date (git pull): 2022-12-02 10:45:01 -0500 (Fri, 02 Dec 2022)

HostnameOSArch (*)R versionInstalled pkgs
nebbiolo2Linux (Ubuntu 20.04.5 LTS)x86_644.2.2 (2022-10-31) -- "Innocent and Trusting" 4504
palomino4Windows Server 2022 Datacenterx644.2.2 (2022-10-31 ucrt) -- "Innocent and Trusting" 4279
lconwaymacOS 12.5.1 Montereyx86_644.2.2 (2022-10-31) -- "Innocent and Trusting" 4310
Click on any hostname to see more info about the system (e.g. compilers)      (*) as reported by 'uname -p', except on Windows and Mac OS X

Package status is indicated by one of the following glyphs
  TIMEOUT  
INSTALL or BUILD of package took more than 40 or 120 minutes, respectively
  ERROR  
Bad DESCRIPTION file, or INSTALL or BUILD of package failed
  OK  
INSTALL or BUILD of package went OK
  NA  
INSTALL or BUILD result is not available because of an anomaly in the Build System
Click on any glyph in the report below to access the detailed report.
Package propagation status is indicated by one of the following LEDs
YES YES: Package was propagated because it didn't previously exist or version was bumped
NO NO: Package was not propagated because of a problem (impossible dependencies, or version lower than what is already propagated)
UNNEEDED UNNEEDED: Package was not propagated because it is already in the repository with this version. A version bump is required in order to propagate it

A crossed-out package name indicates the package is deprecated


QUICK STATSOS / ArchINSTALLBUILD
nebbiolo2Linux (Ubuntu 20.04.5 LTS) / x86_64
0127
0226
palomino4Windows Server 2022 Datacenter / x64
0123
0222
lconwaymacOS 12.5.1 Monterey / x86_64
0126
0423
Package 1/28HostnameOS / ArchINSTALLBUILD
annotation 1.22.0  (landing page)
Bioconductor Package Maintainer
git_last_commit: f44cfe2
git_last_commit_date: 2022-11-01 10:33:19 -0500
nebbiolo2Linux (Ubuntu 20.04.5 LTS) / x86_64  OK    OK  NO, version to propagate (1.22.0) is lower than published version (1.23.0)
palomino4Windows Server 2022 Datacenter / x64  OK    OK  
lconwaymacOS 12.5.1 Monterey / x86_64  OK    OK  
Package 2/28HostnameOS / ArchINSTALLBUILD
arrays 1.24.0  (landing page)
Bioconductor Package Maintainer
git_last_commit: 5946dc8
git_last_commit_date: 2022-11-01 10:33:23 -0500
nebbiolo2Linux (Ubuntu 20.04.5 LTS) / x86_64  OK    OK  NO, version to propagate (1.24.0) is lower than published version (1.25.0)
palomino4Windows Server 2022 Datacenter / x64  OK    OK  
lconwaymacOS 12.5.1 Monterey / x86_64  OK    OK  
Package 3/28HostnameOS / ArchINSTALLBUILD
BiocMetaWorkflow 1.20.0  (landing page)
Mike Smith
git_last_commit: a890177
git_last_commit_date: 2022-11-01 10:34:30 -0500
nebbiolo2Linux (Ubuntu 20.04.5 LTS) / x86_64  OK    OK  NO, version to propagate (1.20.0) is lower than published version (1.21.0)
palomino4Windows Server 2022 Datacenter / x64  OK    OK  
lconwaymacOS 12.5.1 Monterey / x86_64  OK    OK  
Package 4/28HostnameOS / ArchINSTALLBUILD
BP4RNAseq 1.8.0  (landing page)
Shanwen Sun
git_last_commit: 34ea5fb
git_last_commit_date: 2022-11-01 10:35:00 -0500
nebbiolo2Linux (Ubuntu 20.04.5 LTS) / x86_64  OK    OK  NO, version to propagate (1.8.0) is lower than published version (1.9.0)
palomino4Windows Server 2022 Datacenter / x64  OK    OK  
lconwaymacOS 12.5.1 Monterey / x86_64  OK    OK  
Package 5/28HostnameOS / ArchINSTALLBUILD
CAGEWorkflow 1.14.0  (landing page)
Malte Thodberg
git_last_commit: 476cd60
git_last_commit_date: 2022-11-01 10:34:51 -0500
nebbiolo2Linux (Ubuntu 20.04.5 LTS) / x86_64  OK    OK  NO, version to propagate (1.14.0) is lower than published version (1.15.0)
palomino4Windows Server 2022 Datacenter / x64... NOT SUPPORTED ...
lconwaymacOS 12.5.1 Monterey / x86_64  OK    OK  
Package 6/28HostnameOS / ArchINSTALLBUILD
chipseqDB 1.22.0  (landing page)
Aaron Lun
git_last_commit: 77a0c8f
git_last_commit_date: 2022-11-01 10:33:27 -0500
nebbiolo2Linux (Ubuntu 20.04.5 LTS) / x86_64  OK    OK  NO, version to propagate (1.22.0) is lower than published version (1.23.0)
palomino4Windows Server 2022 Datacenter / x64... NOT SUPPORTED ...
lconwaymacOS 12.5.1 Monterey / x86_64  OK    OK  
Package 7/28HostnameOS / ArchINSTALLBUILD
csawUsersGuide 1.14.0  (landing page)
Aaron Lun
git_last_commit: c066e24
git_last_commit_date: 2022-11-01 10:34:42 -0500
nebbiolo2Linux (Ubuntu 20.04.5 LTS) / x86_64  OK    OK  NO, version to propagate (1.14.0) is lower than published version (1.15.0)
palomino4Windows Server 2022 Datacenter / x64  OK    OK  
lconwaymacOS 12.5.1 Monterey / x86_64  OK    OK  
Package 8/28HostnameOS / ArchINSTALLBUILD
cytofWorkflow 1.22.0  (landing page)
Mark D. Robinson
git_last_commit: 1cfbdf1
git_last_commit_date: 2022-11-01 10:33:31 -0500
nebbiolo2Linux (Ubuntu 20.04.5 LTS) / x86_64  OK    OK  NO, version to propagate (1.22.0) is lower than published version (1.23.0)
palomino4Windows Server 2022 Datacenter / x64  OK    OK  
lconwaymacOS 12.5.1 Monterey / x86_64  OK    OK  
Package 9/28HostnameOS / ArchINSTALLBUILD
EGSEA123 1.22.0  (landing page)
Matthew Ritchie
git_last_commit: e71b15d
git_last_commit_date: 2022-11-01 10:33:35 -0500
nebbiolo2Linux (Ubuntu 20.04.5 LTS) / x86_64  OK    OK  NO, version to propagate (1.22.0) is lower than published version (1.23.0)
palomino4Windows Server 2022 Datacenter / x64  OK    OK  
lconwaymacOS 12.5.1 Monterey / x86_64  OK    OK  
Package 10/28HostnameOS / ArchINSTALLBUILD
ExpHunterSuite 1.6.0  (landing page)
James Perkins
git_last_commit: c757bc7
git_last_commit_date: 2022-11-01 10:35:04 -0500
nebbiolo2Linux (Ubuntu 20.04.5 LTS) / x86_64  ERROR    ERROR  
palomino4Windows Server 2022 Datacenter / x64  ERROR    ERROR  
lconwaymacOS 12.5.1 Monterey / x86_64  ERROR    ERROR  
Package 11/28HostnameOS / ArchINSTALLBUILD
ExpressionNormalizationWorkflow 1.24.0  (landing page)
Karthikeyan Murugesan
git_last_commit: 448b952
git_last_commit_date: 2022-11-01 10:33:38 -0500
nebbiolo2Linux (Ubuntu 20.04.5 LTS) / x86_64  OK    OK  NO, version to propagate (1.24.0) is lower than published version (1.25.0)
palomino4Windows Server 2022 Datacenter / x64  OK    OK  
lconwaymacOS 12.5.1 Monterey / x86_64  OK    OK  
Package 12/28HostnameOS / ArchINSTALLBUILD
fluentGenomics 1.10.0  (landing page)
Stuart Lee
git_last_commit: d756798
git_last_commit_date: 2022-11-01 10:34:56 -0500
nebbiolo2Linux (Ubuntu 20.04.5 LTS) / x86_64  OK    OK  NO, version to propagate (1.10.0) is lower than published version (1.11.0)
palomino4Windows Server 2022 Datacenter / x64  OK    OK  
lconwaymacOS 12.5.1 Monterey / x86_64  OK    ERROR  
Package 13/28HostnameOS / ArchINSTALLBUILD
generegulation 1.22.0  (landing page)
Bioconductor Package Maintainer
git_last_commit: bf3a65d
git_last_commit_date: 2022-11-01 10:33:43 -0500
nebbiolo2Linux (Ubuntu 20.04.5 LTS) / x86_64  OK    OK  NO, version to propagate (1.22.0) is lower than published version (1.23.0)
palomino4Windows Server 2022 Datacenter / x64  OK    OK  
lconwaymacOS 12.5.1 Monterey / x86_64  OK    OK  
Package 14/28HostnameOS / ArchINSTALLBUILD
GeoMxWorkflows 1.4.0  (landing page)
Jason Reeves
git_last_commit: 27a113f
git_last_commit_date: 2022-11-01 10:35:08 -0500
nebbiolo2Linux (Ubuntu 20.04.5 LTS) / x86_64  OK    OK  NO, version to propagate (1.4.0) is lower than published version (1.5.0)
palomino4Windows Server 2022 Datacenter / x64  OK    OK  
lconwaymacOS 12.5.1 Monterey / x86_64  OK    OK  
Package 15/28HostnameOS / ArchINSTALLBUILD
highthroughputassays 1.22.0  (landing page)
Bioconductor Package Maintainer
git_last_commit: 862b8a4
git_last_commit_date: 2022-11-01 10:33:47 -0500
nebbiolo2Linux (Ubuntu 20.04.5 LTS) / x86_64  OK    OK  NO, version to propagate (1.22.0) is lower than published version (1.23.0)
palomino4Windows Server 2022 Datacenter / x64... NOT SUPPORTED ...
lconwaymacOS 12.5.1 Monterey / x86_64... NOT SUPPORTED ...
Package 16/28HostnameOS / ArchINSTALLBUILD
liftOver 1.22.0  (landing page)
Bioconductor Package Maintainer
git_last_commit: 6c472a0
git_last_commit_date: 2022-11-01 10:33:50 -0500
nebbiolo2Linux (Ubuntu 20.04.5 LTS) / x86_64  OK    OK  NO, version to propagate (1.22.0) is lower than published version (1.23.0)
palomino4Windows Server 2022 Datacenter / x64  OK    OK  
lconwaymacOS 12.5.1 Monterey / x86_64  OK    OK  
Package 17/28HostnameOS / ArchINSTALLBUILD
maEndToEnd 2.18.0  (landing page)
Stefanie Reisenauer
git_last_commit: d6abe94
git_last_commit_date: 2022-11-01 10:34:34 -0500
nebbiolo2Linux (Ubuntu 20.04.5 LTS) / x86_64  OK    ERROR  
palomino4Windows Server 2022 Datacenter / x64  OK    ERROR  
lconwaymacOS 12.5.1 Monterey / x86_64  OK    ERROR  
Package 18/28HostnameOS / ArchINSTALLBUILD
methylationArrayAnalysis 1.22.0  (landing page)
Jovana Maksimovic
git_last_commit: 9d640a2
git_last_commit_date: 2022-11-01 10:33:54 -0500
nebbiolo2Linux (Ubuntu 20.04.5 LTS) / x86_64  OK    OK  NO, version to propagate (1.22.0) is lower than published version (1.23.0)
palomino4Windows Server 2022 Datacenter / x64  OK    OK  
lconwaymacOS 12.5.1 Monterey / x86_64  OK    OK  
Package 19/28HostnameOS / ArchINSTALLBUILD
recountWorkflow 1.22.0  (landing page)
Leonardo Collado-Torres
git_last_commit: df636b6
git_last_commit_date: 2022-11-01 10:33:58 -0500
nebbiolo2Linux (Ubuntu 20.04.5 LTS) / x86_64  OK    OK  NO, version to propagate (1.22.0) is lower than published version (1.23.0)
palomino4Windows Server 2022 Datacenter / x64  OK    OK  
lconwaymacOS 12.5.1 Monterey / x86_64  OK    OK  
Package 20/28HostnameOS / ArchINSTALLBUILD
RNAseq123 1.22.0  (landing page)
Matthew Ritchie
git_last_commit: 696495a
git_last_commit_date: 2022-11-01 10:34:02 -0500
nebbiolo2Linux (Ubuntu 20.04.5 LTS) / x86_64  OK    OK  NO, version to propagate (1.22.0) is lower than published version (1.23.0)
palomino4Windows Server 2022 Datacenter / x64  OK    OK  
lconwaymacOS 12.5.1 Monterey / x86_64  OK    OK  
Package 21/28HostnameOS / ArchINSTALLBUILD
rnaseqDTU 1.18.0  (landing page)
Michael Love
git_last_commit: da0d2d4
git_last_commit_date: 2022-11-01 10:34:38 -0500
nebbiolo2Linux (Ubuntu 20.04.5 LTS) / x86_64  OK    OK  NO, version to propagate (1.18.0) is lower than published version (1.19.0)
palomino4Windows Server 2022 Datacenter / x64  OK    OK  
lconwaymacOS 12.5.1 Monterey / x86_64  OK    OK  
Package 22/28HostnameOS / ArchINSTALLBUILD
rnaseqGene 1.22.0  (landing page)
Michael Love
git_last_commit: f542313
git_last_commit_date: 2022-11-01 10:34:06 -0500
nebbiolo2Linux (Ubuntu 20.04.5 LTS) / x86_64  OK    OK  NO, version to propagate (1.22.0) is lower than published version (1.23.0)
palomino4Windows Server 2022 Datacenter / x64  OK    OK  
lconwaymacOS 12.5.1 Monterey / x86_64  OK    OK  
Package 23/28HostnameOS / ArchINSTALLBUILD
RnaSeqGeneEdgeRQL 1.22.0  (landing page)
Yunshun Chen
git_last_commit: 3b10d23
git_last_commit_date: 2022-11-01 10:34:10 -0500
nebbiolo2Linux (Ubuntu 20.04.5 LTS) / x86_64  OK    OK  NO, version to propagate (1.22.0) is lower than published version (1.23.0)
palomino4Windows Server 2022 Datacenter / x64  OK    OK  
lconwaymacOS 12.5.1 Monterey / x86_64  OK    OK  
Package 24/28HostnameOS / ArchINSTALLBUILD
sequencing 1.22.0  (landing page)
Bioconductor Package Maintainer
git_last_commit: 1d311d0
git_last_commit_date: 2022-11-01 10:34:14 -0500
nebbiolo2Linux (Ubuntu 20.04.5 LTS) / x86_64  OK    OK  NO, version to propagate (1.22.0) is lower than published version (1.23.0)
palomino4Windows Server 2022 Datacenter / x64  OK    OK  
lconwaymacOS 12.5.1 Monterey / x86_64  OK    OK  
Package 25/28HostnameOS / ArchINSTALLBUILD
simpleSingleCell 1.22.0  (landing page)
Aaron Lun
git_last_commit: 658ab7d
git_last_commit_date: 2022-11-01 10:34:18 -0500
nebbiolo2Linux (Ubuntu 20.04.5 LTS) / x86_64  OK    OK  NO, version to propagate (1.22.0) is lower than published version (1.23.0)
palomino4Windows Server 2022 Datacenter / x64... NOT SUPPORTED ...
lconwaymacOS 12.5.1 Monterey / x86_64  OK    OK  
Package 26/28HostnameOS / ArchINSTALLBUILD
SingscoreAMLMutations 1.14.0  (landing page)
Dharmesh D. Bhuva
git_last_commit: c30916c
git_last_commit_date: 2022-11-01 10:34:46 -0500
nebbiolo2Linux (Ubuntu 20.04.5 LTS) / x86_64  OK    OK  NO, version to propagate (1.14.0) is lower than published version (1.15.0)
palomino4Windows Server 2022 Datacenter / x64  OK    OK  
lconwaymacOS 12.5.1 Monterey / x86_64  OK    ERROR  
Package 27/28HostnameOS / ArchINSTALLBUILD
TCGAWorkflow 1.22.0  (landing page)
Tiago Chedraoui Silva
git_last_commit: deb7b20
git_last_commit_date: 2022-11-01 10:34:22 -0500
nebbiolo2Linux (Ubuntu 20.04.5 LTS) / x86_64  OK    OK  NO, version to propagate (1.22.0) is lower than published version (1.23.0)
palomino4Windows Server 2022 Datacenter / x64  OK    OK  
lconwaymacOS 12.5.1 Monterey / x86_64  OK    OK  
Package 28/28HostnameOS / ArchINSTALLBUILD
variants 1.22.0  (landing page)
Bioconductor Package Maintainer
git_last_commit: 6a8e4ea
git_last_commit_date: 2022-11-01 10:34:26 -0500
nebbiolo2Linux (Ubuntu 20.04.5 LTS) / x86_64  OK    OK  NO, version to propagate (1.22.0) is lower than published version (1.23.0)
palomino4Windows Server 2022 Datacenter / x64  OK    OK  
lconwaymacOS 12.5.1 Monterey / x86_64  OK    OK