Back to Workflows build report for BioC 3.18

This page was generated on 2024-02-23 14:00:10 -0500 (Fri, 23 Feb 2024).

HostnameOSArch (*)R versionInstalled pkgs
nebbiolo2Linux (Ubuntu 22.04.3 LTS)x86_644.3.2 Patched (2023-11-13 r85521) -- "Eye Holes" 4691
palomino4Windows Server 2022 Datacenterx644.3.2 (2023-10-31 ucrt) -- "Eye Holes" 4444
lconwaymacOS 12.7.1 Montereyx86_644.3.2 Patched (2023-11-01 r85457) -- "Eye Holes" 4465
Click on any hostname to see more info about the system (e.g. compilers)      (*) as reported by 'uname -p', except on Windows and Mac OS X

Package 4/30HostnameOS / ArchINSTALLBUILD
BP4RNAseq 1.12.0  (landing page)
Shanwen Sun
Snapshot Date: 2024-02-23 10:45:02 -0500 (Fri, 23 Feb 2024)
git_url: https://git.bioconductor.org/packages/BP4RNAseq
git_branch: RELEASE_3_18
git_last_commit: 91f397a
git_last_commit_date: 2023-10-24 08:47:40 -0500 (Tue, 24 Oct 2023)
nebbiolo2Linux (Ubuntu 22.04.3 LTS) / x86_64  OK    OK  UNNEEDED, same version is already published
palomino4Windows Server 2022 Datacenter / x64  OK    OK  
lconwaymacOS 12.7.1 Monterey / x86_64  OK    OK  

INSTALL results for BP4RNAseq on palomino4


To the developers/maintainers of the BP4RNAseq package:
- Use the following Renviron settings to reproduce errors and warnings.
- If 'R CMD check' started to fail recently on the Linux builder(s) over a missing dependency, add the missing dependency to 'Suggests:' in your DESCRIPTION file. See Renviron.bioc for more information.

raw results


Summary

Package: BP4RNAseq
Version: 1.12.0
Command: F:\biocbuild\bbs-3.18-bioc\R\bin\R.exe CMD INSTALL BP4RNAseq
StartedAt: 2024-02-23 11:01:29 -0500 (Fri, 23 Feb 2024)
EndedAt: 2024-02-23 11:01:37 -0500 (Fri, 23 Feb 2024)
EllapsedTime: 8.7 seconds
RetCode: 0
Status:   OK  

Command output

##############################################################################
##############################################################################
###
### Running command:
###
###   F:\biocbuild\bbs-3.18-bioc\R\bin\R.exe CMD INSTALL BP4RNAseq
###
##############################################################################
##############################################################################


* installing to library 'F:/biocbuild/bbs-3.18-bioc/R/library'
* installing *source* package 'BP4RNAseq' ...
** using staged installation
** R
** inst
** byte-compile and prepare package for lazy loading
** help
*** installing help indices
** building package indices
** installing vignettes
** testing if installed package can be loaded from temporary location
** testing if installed package can be loaded from final location
** testing if installed package keeps a record of temporary installation path
* DONE (BP4RNAseq)