Back to Workflows build report for BioC 3.16

This page was generated on 2023-02-03 14:00:08 -0500 (Fri, 03 Feb 2023).

HostnameOSArch (*)R versionInstalled pkgs
nebbiolo2Linux (Ubuntu 20.04.5 LTS)x86_644.2.2 (2022-10-31) -- "Innocent and Trusting" 4511
palomino4Windows Server 2022 Datacenterx644.2.2 (2022-10-31 ucrt) -- "Innocent and Trusting" 4289
lconwaymacOS 12.5.1 Montereyx86_644.2.2 (2022-10-31) -- "Innocent and Trusting" 4318
Click on any hostname to see more info about the system (e.g. compilers)      (*) as reported by 'uname -p', except on Windows and Mac OS X

INSTALL results for CAGEWorkflow on nebbiolo2


To the developers/maintainers of the CAGEWorkflow package:
Make sure to use the following settings in order to reproduce any error or warning you see on this page.

raw results

Package 5/28HostnameOS / ArchINSTALLBUILD
CAGEWorkflow 1.14.0  (landing page)
Malte Thodberg
Snapshot Date: 2023-02-03 10:45:01 -0500 (Fri, 03 Feb 2023)
git_url: https://git.bioconductor.org/packages/CAGEWorkflow
git_branch: RELEASE_3_16
git_last_commit: 476cd60
git_last_commit_date: 2022-11-01 10:34:51 -0500 (Tue, 01 Nov 2022)
nebbiolo2Linux (Ubuntu 20.04.5 LTS) / x86_64  OK    OK  UNNEEDED, same version is already published
palomino4Windows Server 2022 Datacenter / x64... NOT SUPPORTED ...
lconwaymacOS 12.5.1 Monterey / x86_64  OK    OK  

Summary

Package: CAGEWorkflow
Version: 1.14.0
Command: /home/biocbuild/bbs-3.16-bioc/R/bin/R CMD INSTALL CAGEWorkflow
StartedAt: 2023-02-03 11:00:08 -0500 (Fri, 03 Feb 2023)
EndedAt: 2023-02-03 11:00:35 -0500 (Fri, 03 Feb 2023)
EllapsedTime: 27.6 seconds
RetCode: 0
Status:   OK  

Command output

##############################################################################
##############################################################################
###
### Running command:
###
###   /home/biocbuild/bbs-3.16-bioc/R/bin/R CMD INSTALL CAGEWorkflow
###
##############################################################################
##############################################################################


* installing to library ‘/home/biocbuild/bbs-3.16-bioc/R/library’
* installing *source* package ‘CAGEWorkflow’ ...
** using staged installation
** inst
** help
No man pages found in package  ‘CAGEWorkflow’ 
*** installing help indices
** building package indices
** installing vignettes
** testing if installed package can be loaded from temporary location
** testing if installed package can be loaded from final location
** testing if installed package keeps a record of temporary installation path
* DONE (CAGEWorkflow)