Back to Workflows build report for BioC 3.12

Workflows build report for BioC 3.12

Results for package RnaSeqGeneEdgeRQL

This page was generated on 2021-02-23 15:45:12 -0500 (Tue, 23 Feb 2021).

Package 23/28HostnameOS / ArchINSTALLBUILD
RnaSeqGeneEdgeRQL 1.14.0
Yunshun Chen
Snapshot Date: 2021-02-23 09:00:02 -0500 (Tue, 23 Feb 2021)
URL: https://git.bioconductor.org/packages/RnaSeqGeneEdgeRQL
Branch: RELEASE_3_12
Last Commit: 61c4e99
Last Changed Date: 2020-10-27 09:41:32 -0500 (Tue, 27 Oct 2020)
malbec1Linux (Ubuntu 18.04.5 LTS) / x86_64  OK    OK  UNNEEDED, same version exists in internal repository
nebbiolo1Linux (Ubuntu 20.04.2 LTS) / x86_64  OK    OK