Back to Workflows build report for BioC 3.16

This page was generated on 2023-02-03 14:00:08 -0500 (Fri, 03 Feb 2023).

HostnameOSArch (*)R versionInstalled pkgs
nebbiolo2Linux (Ubuntu 20.04.5 LTS)x86_644.2.2 (2022-10-31) -- "Innocent and Trusting" 4511
palomino4Windows Server 2022 Datacenterx644.2.2 (2022-10-31 ucrt) -- "Innocent and Trusting" 4289
lconwaymacOS 12.5.1 Montereyx86_644.2.2 (2022-10-31) -- "Innocent and Trusting" 4318
Click on any hostname to see more info about the system (e.g. compilers)      (*) as reported by 'uname -p', except on Windows and Mac OS X

BUILD results for arrays on palomino4


To the developers/maintainers of the arrays package:
Make sure to use the following settings in order to reproduce any error or warning you see on this page.

raw results

Package 2/28HostnameOS / ArchINSTALLBUILD
arrays 1.24.0  (landing page)
Bioconductor Package Maintainer
Snapshot Date: 2023-02-03 10:45:01 -0500 (Fri, 03 Feb 2023)
git_url: https://git.bioconductor.org/packages/arrays
git_branch: RELEASE_3_16
git_last_commit: 5946dc8
git_last_commit_date: 2022-11-01 10:33:23 -0500 (Tue, 01 Nov 2022)
nebbiolo2Linux (Ubuntu 20.04.5 LTS) / x86_64  OK    OK  UNNEEDED, same version is already published
palomino4Windows Server 2022 Datacenter / x64  OK    OK  
lconwaymacOS 12.5.1 Monterey / x86_64  OK    OK  

Summary

Package: arrays
Version: 1.24.0
Command: chmod a+r arrays -R && F:\biocbuild\bbs-3.16-bioc\R\bin\R.exe CMD build --keep-empty-dirs --no-resave-data arrays
StartedAt: 2023-02-03 11:04:47 -0500 (Fri, 03 Feb 2023)
EndedAt: 2023-02-03 11:05:18 -0500 (Fri, 03 Feb 2023)
EllapsedTime: 31.3 seconds
RetCode: 0
Status:   OK  
PackageFile: arrays_1.24.0.tar.gz
PackageFileSize: 9.64 MiB

Command output

##############################################################################
##############################################################################
###
### Running command:
###
###   chmod a+r arrays -R && F:\biocbuild\bbs-3.16-bioc\R\bin\R.exe CMD build --keep-empty-dirs --no-resave-data arrays
###
##############################################################################
##############################################################################


* checking for file 'arrays/DESCRIPTION' ... OK
* preparing 'arrays':
* checking DESCRIPTION meta-information ... OK
* installing the package to build vignettes
* creating vignettes ... OK
* checking for LF line-endings in source and make files and shell scripts
* checking for empty or unneeded directories
* building 'arrays_1.24.0.tar.gz'