Back to Workflows build report for BioC 3.16

This page was generated on 2023-01-31 14:00:09 -0500 (Tue, 31 Jan 2023).

HostnameOSArch (*)R versionInstalled pkgs
nebbiolo2Linux (Ubuntu 20.04.5 LTS)x86_644.2.2 (2022-10-31) -- "Innocent and Trusting" 4510
palomino4Windows Server 2022 Datacenterx644.2.2 (2022-10-31 ucrt) -- "Innocent and Trusting" 4289
lconwaymacOS 12.5.1 Montereyx86_644.2.2 (2022-10-31) -- "Innocent and Trusting" 4318
Click on any hostname to see more info about the system (e.g. compilers)      (*) as reported by 'uname -p', except on Windows and Mac OS X

INSTALL results for EGSEA123 on nebbiolo2


To the developers/maintainers of the EGSEA123 package:
Make sure to use the following settings in order to reproduce any error or warning you see on this page.

raw results

Package 9/28HostnameOS / ArchINSTALLBUILD
EGSEA123 1.22.0  (landing page)
Matthew Ritchie
Snapshot Date: 2023-01-31 10:45:01 -0500 (Tue, 31 Jan 2023)
git_url: https://git.bioconductor.org/packages/EGSEA123
git_branch: RELEASE_3_16
git_last_commit: e71b15d
git_last_commit_date: 2022-11-01 10:33:35 -0500 (Tue, 01 Nov 2022)
nebbiolo2Linux (Ubuntu 20.04.5 LTS) / x86_64  OK    OK  NO, version to propagate (1.22.0) is lower than published version (1.23.0)
palomino4Windows Server 2022 Datacenter / x64  OK    OK  
lconwaymacOS 12.5.1 Monterey / x86_64  OK    OK  

Summary

Package: EGSEA123
Version: 1.22.0
Command: /home/biocbuild/bbs-3.16-bioc/R/bin/R CMD INSTALL EGSEA123
StartedAt: 2023-01-31 11:00:09 -0500 (Tue, 31 Jan 2023)
EndedAt: 2023-01-31 11:00:38 -0500 (Tue, 31 Jan 2023)
EllapsedTime: 29.2 seconds
RetCode: 0
Status:   OK  

Command output

##############################################################################
##############################################################################
###
### Running command:
###
###   /home/biocbuild/bbs-3.16-bioc/R/bin/R CMD INSTALL EGSEA123
###
##############################################################################
##############################################################################


* installing to library ‘/home/biocbuild/bbs-3.16-bioc/R/library’
* installing *source* package ‘EGSEA123’ ...
** using staged installation
** help
No man pages found in package  ‘EGSEA123’ 
*** installing help indices
** building package indices
** installing vignettes
** testing if installed package can be loaded from temporary location

groupGOTerms: 	GOBPTerm, GOMFTerm, GOCCTerm environments built.
** testing if installed package can be loaded from final location

groupGOTerms: 	GOBPTerm, GOMFTerm, GOCCTerm environments built.
** testing if installed package keeps a record of temporary installation path
* DONE (EGSEA123)