Back to Workflows build report for BioC 3.16

This page was generated on 2023-02-03 14:00:08 -0500 (Fri, 03 Feb 2023).

HostnameOSArch (*)R versionInstalled pkgs
nebbiolo2Linux (Ubuntu 20.04.5 LTS)x86_644.2.2 (2022-10-31) -- "Innocent and Trusting" 4511
palomino4Windows Server 2022 Datacenterx644.2.2 (2022-10-31 ucrt) -- "Innocent and Trusting" 4289
lconwaymacOS 12.5.1 Montereyx86_644.2.2 (2022-10-31) -- "Innocent and Trusting" 4318
Click on any hostname to see more info about the system (e.g. compilers)      (*) as reported by 'uname -p', except on Windows and Mac OS X

BUILD results for ExpHunterSuite on palomino4


To the developers/maintainers of the ExpHunterSuite package:
Make sure to use the following settings in order to reproduce any error or warning you see on this page.

raw results

Package 10/28HostnameOS / ArchINSTALLBUILD
ExpHunterSuite 1.6.0  (landing page)
James Perkins
Snapshot Date: 2023-02-03 10:45:01 -0500 (Fri, 03 Feb 2023)
git_url: https://git.bioconductor.org/packages/ExpHunterSuite
git_branch: RELEASE_3_16
git_last_commit: c757bc7
git_last_commit_date: 2022-11-01 10:35:04 -0500 (Tue, 01 Nov 2022)
nebbiolo2Linux (Ubuntu 20.04.5 LTS) / x86_64  ERROR    ERROR  
palomino4Windows Server 2022 Datacenter / x64  ERROR    ERROR  
lconwaymacOS 12.5.1 Monterey / x86_64  ERROR    ERROR  

Summary

Package: ExpHunterSuite
Version: 1.6.0
Command: chmod a+r ExpHunterSuite -R && F:\biocbuild\bbs-3.16-bioc\R\bin\R.exe CMD build --keep-empty-dirs --no-resave-data ExpHunterSuite
StartedAt: 2023-02-03 11:04:47 -0500 (Fri, 03 Feb 2023)
EndedAt: 2023-02-03 11:05:11 -0500 (Fri, 03 Feb 2023)
EllapsedTime: 24.3 seconds
RetCode: 1
Status:   ERROR  
PackageFile: None
PackageFileSize: NA

Command output

##############################################################################
##############################################################################
###
### Running command:
###
###   chmod a+r ExpHunterSuite -R && F:\biocbuild\bbs-3.16-bioc\R\bin\R.exe CMD build --keep-empty-dirs --no-resave-data ExpHunterSuite
###
##############################################################################
##############################################################################


* checking for file 'ExpHunterSuite/DESCRIPTION' ... OK
* preparing 'ExpHunterSuite':
* checking DESCRIPTION meta-information ... OK
* installing the package to build vignettes
      -----------------------------------
* installing *source* package 'ExpHunterSuite' ...
** using staged installation
** R
** data
*** moving datasets to lazyload DB
** inst
** byte-compile and prepare package for lazy loading
Error in completeSubclasses(classDef2, class1, obj, where) : 
  trying to get slot "subclasses" from an object of a basic class ("NULL") with no slots
Error: .onLoad failed in loadNamespace() for 'dbplyr', details:
  call: setClass(cl, contains = c(prevClass, "VIRTUAL"), where = where)
  error: error in contained classes ("character") for class "ident"; class definition removed from 'dbplyr'
Execution halted
ERROR: lazy loading failed for package 'ExpHunterSuite'
* removing 'F:/biocbuild/bbs-3.16-workflows/tmpdir/RtmpsNi46i/Rinste384fe841d7/ExpHunterSuite'
      -----------------------------------
ERROR: package installation failed