Back to Workflows build report for BioC 3.14

This page was generated on 2021-11-29 19:00:08 -0500 (Mon, 29 Nov 2021).

All results for package fluentGenomics

To the developers/maintainers of the fluentGenomics package:
Make sure to use the following settings in order to reproduce any error or warning you see on this page.

raw results

Package 12/29HostnameOS / ArchINSTALLBUILD
fluentGenomics 1.6.0  (landing page)
Stuart Lee
Snapshot Date: 2021-11-29 12:45:01 -0500 (Mon, 29 Nov 2021)
git_url: https://git.bioconductor.org/packages/fluentGenomics
git_branch: RELEASE_3_14
git_last_commit: ab6b1e0
git_last_commit_date: 2021-10-26 11:16:44 -0500 (Tue, 26 Oct 2021)
nebbiolo2Linux (Ubuntu 20.04.3 LTS) / x86_64  OK    OK  UNNEEDED, same version is already published
riesling1Windows Server 2019 Standard / x64  OK    OK  
machv2macOS 10.14.6 Mojave / x86_64  OK    OK