Back to Workflows build report for BioC 3.12

Workflows build report for BioC 3.12

Results for package rnaseqDTU

This page was generated on 2021-03-02 15:45:13 -0500 (Tue, 02 Mar 2021).

Package 21/28HostnameOS / ArchINSTALLBUILD
rnaseqDTU 1.10.0
Michael Love
Snapshot Date: 2021-03-02 09:00:03 -0500 (Tue, 02 Mar 2021)
URL: https://git.bioconductor.org/packages/rnaseqDTU
Branch: RELEASE_3_12
Last Commit: a5da65b
Last Changed Date: 2020-10-27 09:41:55 -0500 (Tue, 27 Oct 2020)
malbec1Linux (Ubuntu 18.04.5 LTS) / x86_64  OK    OK  UNNEEDED, same version exists in internal repository
nebbiolo1Linux (Ubuntu 20.04.2 LTS) / x86_64  OK    OK