Back to Workflows build report for BioC 3.16 |
This page was generated on 2023-01-31 14:00:10 -0500 (Tue, 31 Jan 2023).
Hostname | OS | Arch (*) | R version | Installed pkgs |
---|---|---|---|---|
nebbiolo2 | Linux (Ubuntu 20.04.5 LTS) | x86_64 | 4.2.2 (2022-10-31) -- "Innocent and Trusting" | 4510 |
palomino4 | Windows Server 2022 Datacenter | x64 | 4.2.2 (2022-10-31 ucrt) -- "Innocent and Trusting" | 4289 |
lconway | macOS 12.5.1 Monterey | x86_64 | 4.2.2 (2022-10-31) -- "Innocent and Trusting" | 4318 |
Click on any hostname to see more info about the system (e.g. compilers) (*) as reported by 'uname -p', except on Windows and Mac OS X |
To the developers/maintainers of the ExpHunterSuite package: Make sure to use the following settings in order to reproduce any error or warning you see on this page. |
Package 10/28 | Hostname | OS / Arch | INSTALL | BUILD | ||||||||
ExpHunterSuite 1.6.0 (landing page) James Perkins
| nebbiolo2 | Linux (Ubuntu 20.04.5 LTS) / x86_64 | ERROR | ERROR | ||||||||
palomino4 | Windows Server 2022 Datacenter / x64 | ERROR | ERROR | |||||||||
lconway | macOS 12.5.1 Monterey / x86_64 | ERROR | ERROR | |||||||||
Package: ExpHunterSuite |
Version: 1.6.0 |
Command: F:\biocbuild\bbs-3.16-bioc\R\bin\R.exe CMD INSTALL ExpHunterSuite |
StartedAt: 2023-01-31 11:01:46 -0500 (Tue, 31 Jan 2023) |
EndedAt: 2023-01-31 11:02:09 -0500 (Tue, 31 Jan 2023) |
EllapsedTime: 22.7 seconds |
RetCode: 1 |
Status: ERROR |
############################################################################## ############################################################################## ### ### Running command: ### ### F:\biocbuild\bbs-3.16-bioc\R\bin\R.exe CMD INSTALL ExpHunterSuite ### ############################################################################## ############################################################################## * installing to library 'F:/biocbuild/bbs-3.16-bioc/R/library' * installing *source* package 'ExpHunterSuite' ... ** using staged installation ** R ** data *** moving datasets to lazyload DB ** inst ** byte-compile and prepare package for lazy loading Error in completeSubclasses(classDef2, class1, obj, where) : trying to get slot "subclasses" from an object of a basic class ("NULL") with no slots Error: .onLoad failed in loadNamespace() for 'dbplyr', details: call: setClass(cl, contains = c(prevClass, "VIRTUAL"), where = where) error: error in contained classes ("character") for class "ident"; class definition removed from 'dbplyr' Execution halted ERROR: lazy loading failed for package 'ExpHunterSuite' * removing 'F:/biocbuild/bbs-3.16-bioc/R/library/ExpHunterSuite'