Back to Workflows build report for BioC 3.16

This page was generated on 2023-01-27 14:00:07 -0500 (Fri, 27 Jan 2023).

HostnameOSArch (*)R versionInstalled pkgs
nebbiolo2Linux (Ubuntu 20.04.5 LTS)x86_644.2.2 (2022-10-31) -- "Innocent and Trusting" 4510
palomino4Windows Server 2022 Datacenterx644.2.2 (2022-10-31 ucrt) -- "Innocent and Trusting" 4288
lconwaymacOS 12.5.1 Montereyx86_644.2.2 (2022-10-31) -- "Innocent and Trusting" 4317
Click on any hostname to see more info about the system (e.g. compilers)      (*) as reported by 'uname -p', except on Windows and Mac OS X

INSTALL results for BP4RNAseq on nebbiolo2


To the developers/maintainers of the BP4RNAseq package:
Make sure to use the following settings in order to reproduce any error or warning you see on this page.

raw results

Package 4/28HostnameOS / ArchINSTALLBUILD
BP4RNAseq 1.8.0  (landing page)
Shanwen Sun
Snapshot Date: 2023-01-27 10:45:01 -0500 (Fri, 27 Jan 2023)
git_url: https://git.bioconductor.org/packages/BP4RNAseq
git_branch: RELEASE_3_16
git_last_commit: 34ea5fb
git_last_commit_date: 2022-11-01 10:35:00 -0500 (Tue, 01 Nov 2022)
nebbiolo2Linux (Ubuntu 20.04.5 LTS) / x86_64  OK    OK  NO, version to propagate (1.8.0) is lower than published version (1.9.0)
palomino4Windows Server 2022 Datacenter / x64  OK    OK  
lconwaymacOS 12.5.1 Monterey / x86_64  OK    OK  

Summary

Package: BP4RNAseq
Version: 1.8.0
Command: /home/biocbuild/bbs-3.16-bioc/R/bin/R CMD INSTALL BP4RNAseq
StartedAt: 2023-01-27 11:00:07 -0500 (Fri, 27 Jan 2023)
EndedAt: 2023-01-27 11:00:10 -0500 (Fri, 27 Jan 2023)
EllapsedTime: 3.4 seconds
RetCode: 0
Status:   OK  

Command output

##############################################################################
##############################################################################
###
### Running command:
###
###   /home/biocbuild/bbs-3.16-bioc/R/bin/R CMD INSTALL BP4RNAseq
###
##############################################################################
##############################################################################


* installing to library ‘/home/biocbuild/bbs-3.16-bioc/R/library’
* installing *source* package ‘BP4RNAseq’ ...
** using staged installation
** R
** inst
** byte-compile and prepare package for lazy loading
** help
*** installing help indices
** building package indices
** installing vignettes
** testing if installed package can be loaded from temporary location
** testing if installed package can be loaded from final location
** testing if installed package keeps a record of temporary installation path
* DONE (BP4RNAseq)