Back to Workflows build report for BioC 3.16

This page was generated on 2023-01-27 14:00:07 -0500 (Fri, 27 Jan 2023).

HostnameOSArch (*)R versionInstalled pkgs
nebbiolo2Linux (Ubuntu 20.04.5 LTS)x86_644.2.2 (2022-10-31) -- "Innocent and Trusting" 4510
palomino4Windows Server 2022 Datacenterx644.2.2 (2022-10-31 ucrt) -- "Innocent and Trusting" 4288
lconwaymacOS 12.5.1 Montereyx86_644.2.2 (2022-10-31) -- "Innocent and Trusting" 4317
Click on any hostname to see more info about the system (e.g. compilers)      (*) as reported by 'uname -p', except on Windows and Mac OS X

BUILD results for generegulation on nebbiolo2


To the developers/maintainers of the generegulation package:
Make sure to use the following settings in order to reproduce any error or warning you see on this page.

raw results

Package 13/28HostnameOS / ArchINSTALLBUILD
generegulation 1.22.0  (landing page)
Bioconductor Package Maintainer
Snapshot Date: 2023-01-27 10:45:01 -0500 (Fri, 27 Jan 2023)
git_url: https://git.bioconductor.org/packages/generegulation
git_branch: RELEASE_3_16
git_last_commit: bf3a65d
git_last_commit_date: 2022-11-01 10:33:43 -0500 (Tue, 01 Nov 2022)
nebbiolo2Linux (Ubuntu 20.04.5 LTS) / x86_64  OK    OK  NO, version to propagate (1.22.0) is lower than published version (1.23.0)
palomino4Windows Server 2022 Datacenter / x64  OK    OK  
lconwaymacOS 12.5.1 Monterey / x86_64  OK    OK  

Summary

Package: generegulation
Version: 1.22.0
Command: /home/biocbuild/bbs-3.16-bioc/R/bin/R CMD build --keep-empty-dirs --no-resave-data generegulation
StartedAt: 2023-01-27 11:02:26 -0500 (Fri, 27 Jan 2023)
EndedAt: 2023-01-27 11:03:26 -0500 (Fri, 27 Jan 2023)
EllapsedTime: 59.9 seconds
RetCode: 0
Status:   OK  
PackageFile: generegulation_1.22.0.tar.gz
PackageFileSize: 1.276 MiB

Command output

##############################################################################
##############################################################################
###
### Running command:
###
###   /home/biocbuild/bbs-3.16-bioc/R/bin/R CMD build --keep-empty-dirs --no-resave-data generegulation
###
##############################################################################
##############################################################################


* checking for file ‘generegulation/DESCRIPTION’ ... OK
* preparing ‘generegulation’:
* checking DESCRIPTION meta-information ... OK
* installing the package to build vignettes
* creating vignettes ... OK
* checking for LF line-endings in source and make files and shell scripts
* checking for empty or unneeded directories
Omitted ‘LazyData’ from DESCRIPTION
* creating default NAMESPACE file
* building ‘generegulation_1.22.0.tar.gz’