Back to Workflows build report for BioC 3.18

This page was generated on 2024-03-01 14:00:10 -0500 (Fri, 01 Mar 2024).

HostnameOSArch (*)R versionInstalled pkgs
nebbiolo2Linux (Ubuntu 22.04.3 LTS)x86_644.3.2 Patched (2023-11-13 r85521) -- "Eye Holes" 4692
palomino4Windows Server 2022 Datacenterx644.3.2 (2023-10-31 ucrt) -- "Eye Holes" 4445
lconwaymacOS 12.7.1 Montereyx86_644.3.2 Patched (2023-11-01 r85457) -- "Eye Holes" 4466
Click on any hostname to see more info about the system (e.g. compilers)      (*) as reported by 'uname -p', except on Windows and Mac OS X

Package 1/30HostnameOS / ArchINSTALLBUILD
annotation 1.26.0  (landing page)
Bioconductor Package Maintainer
Snapshot Date: 2024-03-01 10:45:01 -0500 (Fri, 01 Mar 2024)
git_url: https://git.bioconductor.org/packages/annotation
git_branch: RELEASE_3_18
git_last_commit: 02f76c2
git_last_commit_date: 2023-10-24 08:46:25 -0500 (Tue, 24 Oct 2023)
nebbiolo2Linux (Ubuntu 22.04.3 LTS) / x86_64  OK    OK  UNNEEDED, same version is already published
palomino4Windows Server 2022 Datacenter / x64  OK    OK  
lconwaymacOS 12.7.1 Monterey / x86_64  OK    OK  

BUILD results for annotation on palomino4


To the developers/maintainers of the annotation package:
- Use the following Renviron settings to reproduce errors and warnings.
- If 'R CMD check' started to fail recently on the Linux builder(s) over a missing dependency, add the missing dependency to 'Suggests:' in your DESCRIPTION file. See Renviron.bioc for more information.

raw results


Summary

Package: annotation
Version: 1.26.0
Command: chmod a+r annotation -R && F:\biocbuild\bbs-3.18-bioc\R\bin\R.exe CMD build --keep-empty-dirs --no-resave-data annotation
StartedAt: 2024-03-01 11:05:23 -0500 (Fri, 01 Mar 2024)
EndedAt: 2024-03-01 11:11:54 -0500 (Fri, 01 Mar 2024)
EllapsedTime: 390.5 seconds
RetCode: 0
Status:   OK  
PackageFile: annotation_1.26.0.tar.gz
PackageFileSize: 878.6 KiB

Command output

##############################################################################
##############################################################################
###
### Running command:
###
###   chmod a+r annotation -R && F:\biocbuild\bbs-3.18-bioc\R\bin\R.exe CMD build --keep-empty-dirs --no-resave-data annotation
###
##############################################################################
##############################################################################


* checking for file 'annotation/DESCRIPTION' ... OK
* preparing 'annotation':
* checking DESCRIPTION meta-information ... OK
* installing the package to build vignettes
* creating vignettes ... OK
* checking for LF line-endings in source and make files and shell scripts
* checking for empty or unneeded directories
Omitted 'LazyData' from DESCRIPTION
* creating default NAMESPACE file
* building 'annotation_1.26.0.tar.gz'