Back to Workflows build report for BioC 3.18

This page was generated on 2024-02-23 14:00:10 -0500 (Fri, 23 Feb 2024).

HostnameOSArch (*)R versionInstalled pkgs
nebbiolo2Linux (Ubuntu 22.04.3 LTS)x86_644.3.2 Patched (2023-11-13 r85521) -- "Eye Holes" 4691
palomino4Windows Server 2022 Datacenterx644.3.2 (2023-10-31 ucrt) -- "Eye Holes" 4444
lconwaymacOS 12.7.1 Montereyx86_644.3.2 Patched (2023-11-01 r85457) -- "Eye Holes" 4465
Click on any hostname to see more info about the system (e.g. compilers)      (*) as reported by 'uname -p', except on Windows and Mac OS X

Package 7/30HostnameOS / ArchINSTALLBUILD
csawUsersGuide 1.18.0  (landing page)
Aaron Lun
Snapshot Date: 2024-02-23 10:45:02 -0500 (Fri, 23 Feb 2024)
git_url: https://git.bioconductor.org/packages/csawUsersGuide
git_branch: RELEASE_3_18
git_last_commit: 9c34d2e
git_last_commit_date: 2023-10-24 08:47:29 -0500 (Tue, 24 Oct 2023)
nebbiolo2Linux (Ubuntu 22.04.3 LTS) / x86_64  OK    OK  UNNEEDED, same version is already published
palomino4Windows Server 2022 Datacenter / x64  OK    OK  
lconwaymacOS 12.7.1 Monterey / x86_64  OK    OK  

BUILD results for csawUsersGuide on nebbiolo2


To the developers/maintainers of the csawUsersGuide package:
- Use the following Renviron settings to reproduce errors and warnings.
- If 'R CMD check' started to fail recently on the Linux builder(s) over a missing dependency, add the missing dependency to 'Suggests:' in your DESCRIPTION file. See Renviron.bioc for more information.

raw results


Summary

Package: csawUsersGuide
Version: 1.18.0
Command: /home/biocbuild/bbs-3.18-bioc/R/bin/R CMD build --keep-empty-dirs --no-resave-data csawUsersGuide
StartedAt: 2024-02-23 11:02:33 -0500 (Fri, 23 Feb 2024)
EndedAt: 2024-02-23 11:02:37 -0500 (Fri, 23 Feb 2024)
EllapsedTime: 4.0 seconds
RetCode: 0
Status:   OK  
PackageFile: csawUsersGuide_1.18.0.tar.gz
PackageFileSize: 35.74 KiB

Command output

##############################################################################
##############################################################################
###
### Running command:
###
###   /home/biocbuild/bbs-3.18-bioc/R/bin/R CMD build --keep-empty-dirs --no-resave-data csawUsersGuide
###
##############################################################################
##############################################################################


* checking for file ‘csawUsersGuide/DESCRIPTION’ ... OK
* preparing ‘csawUsersGuide’:
* checking DESCRIPTION meta-information ... OK
* installing the package to build vignettes
* creating vignettes ... OK
* checking for LF line-endings in source and make files and shell scripts
* checking for empty or unneeded directories
* creating default NAMESPACE file
* building ‘csawUsersGuide_1.18.0.tar.gz’