Back to Workflows build report for BioC 3.18

This page was generated on 2024-02-20 14:00:13 -0500 (Tue, 20 Feb 2024).

HostnameOSArch (*)R versionInstalled pkgs
nebbiolo2Linux (Ubuntu 22.04.3 LTS)x86_644.3.2 Patched (2023-11-13 r85521) -- "Eye Holes" 4691
palomino4Windows Server 2022 Datacenterx644.3.2 (2023-10-31 ucrt) -- "Eye Holes" 4444
lconwaymacOS 12.7.1 Montereyx86_644.3.2 Patched (2023-11-01 r85457) -- "Eye Holes" 4465
Click on any hostname to see more info about the system (e.g. compilers)      (*) as reported by 'uname -p', except on Windows and Mac OS X

All results for package highthroughputassays


To the developers/maintainers of the highthroughputassays package:
- Use the following Renviron settings to reproduce errors and warnings.
- If 'R CMD check' started to fail recently on the Linux builder(s) over a missing dependency, add the missing dependency to 'Suggests:' in your DESCRIPTION file. See Renviron.bioc for more information.

raw results

Package 15/30HostnameOS / ArchINSTALLBUILD
highthroughputassays 1.26.0  (landing page)
Bioconductor Package Maintainer
Snapshot Date: 2024-02-20 10:45:01 -0500 (Tue, 20 Feb 2024)
git_url: https://git.bioconductor.org/packages/highthroughputassays
git_branch: RELEASE_3_18
git_last_commit: ad10d53
git_last_commit_date: 2023-10-24 08:46:46 -0500 (Tue, 24 Oct 2023)
nebbiolo2Linux (Ubuntu 22.04.3 LTS) / x86_64  OK    OK  UNNEEDED, same version is already published
palomino4Windows Server 2022 Datacenter / x64... NOT SUPPORTED ...
lconwaymacOS 12.7.1 Monterey / x86_64... NOT SUPPORTED ...