Back to Workflows build report for BioC 3.15

This page was generated on 2022-05-17 14:00:08 -0400 (Tue, 17 May 2022).

HostnameOSArch (*)R versionInstalled pkgs
nebbiolo1Linux (Ubuntu 20.04.4 LTS)x86_644.2.0 (2022-04-22) -- "Vigorous Calisthenics" 4379
merida1macOS 10.14.6 Mojavex86_644.2.0 (2022-04-22) -- "Vigorous Calisthenics" 4220
Click on any hostname to see more info about the system (e.g. compilers)      (*) as reported by 'uname -p', except on Windows and Mac OS X

All results for package variants


To the developers/maintainers of the variants package:
Make sure to use the following settings in order to reproduce any error or warning you see on this page.

raw results

Package 29/29HostnameOS / ArchINSTALLBUILD
variants 1.20.0  (landing page)
Bioconductor Package Maintainer
Snapshot Date: 2022-05-17 07:45:01 -0400 (Tue, 17 May 2022)
git_url: https://git.bioconductor.org/packages/variants
git_branch: RELEASE_3_15
git_last_commit: 1164b80
git_last_commit_date: 2022-04-26 12:41:08 -0400 (Tue, 26 Apr 2022)
nebbiolo1Linux (Ubuntu 20.04.4 LTS) / x86_64  OK    OK  UNNEEDED, same version is already published
merida1macOS 10.14.6 Mojave / x86_64  OK    OK