Back to Workflows build report for BioC 3.18

This page was generated on 2024-03-26 14:00:10 -0400 (Tue, 26 Mar 2024).

HostnameOSArch (*)R versionInstalled pkgs
nebbiolo2Linux (Ubuntu 22.04.3 LTS)x86_644.3.3 (2024-02-29) -- "Angel Food Cake" 4668
palomino4Windows Server 2022 Datacenterx644.3.3 (2024-02-29 ucrt) -- "Angel Food Cake" 4403
merida1macOS 12.7.1 Montereyx86_644.3.3 (2024-02-29) -- "Angel Food Cake" 4426
Click on any hostname to see more info about the system (e.g. compilers)      (*) as reported by 'uname -p', except on Windows and Mac OS X

All results for package BP4RNAseq


To the developers/maintainers of the BP4RNAseq package:
- Use the following Renviron settings to reproduce errors and warnings.
- If 'R CMD check' started to fail recently on the Linux builder(s) over a missing dependency, add the missing dependency to 'Suggests:' in your DESCRIPTION file. See Renviron.bioc for more information.

raw results

Package 4/30HostnameOS / ArchINSTALLBUILD
BP4RNAseq 1.12.0  (landing page)
Shanwen Sun
Snapshot Date: 2024-03-26 10:45:01 -0400 (Tue, 26 Mar 2024)
git_url: https://git.bioconductor.org/packages/BP4RNAseq
git_branch: RELEASE_3_18
git_last_commit: 91f397a
git_last_commit_date: 2023-10-24 08:47:40 -0400 (Tue, 24 Oct 2023)
nebbiolo2Linux (Ubuntu 22.04.3 LTS) / x86_64  OK    OK  UNNEEDED, same version is already published
palomino4Windows Server 2022 Datacenter / x64  OK    OK  
merida1macOS 12.7.1 Monterey / x86_64  OK    OK