Back to Workflows build report for BioC 3.16

This page was generated on 2023-01-24 14:00:08 -0500 (Tue, 24 Jan 2023).

HostnameOSArch (*)R versionInstalled pkgs
nebbiolo2Linux (Ubuntu 20.04.5 LTS)x86_644.2.2 (2022-10-31) -- "Innocent and Trusting" 4508
palomino4Windows Server 2022 Datacenterx644.2.2 (2022-10-31 ucrt) -- "Innocent and Trusting" 4287
lconwaymacOS 12.5.1 Montereyx86_644.2.2 (2022-10-31) -- "Innocent and Trusting" 4316
Click on any hostname to see more info about the system (e.g. compilers)      (*) as reported by 'uname -p', except on Windows and Mac OS X

All results for package EGSEA123


To the developers/maintainers of the EGSEA123 package:
Make sure to use the following settings in order to reproduce any error or warning you see on this page.

raw results

Package 9/28HostnameOS / ArchINSTALLBUILD
EGSEA123 1.22.0  (landing page)
Matthew Ritchie
Snapshot Date: 2023-01-24 10:45:01 -0500 (Tue, 24 Jan 2023)
git_url: https://git.bioconductor.org/packages/EGSEA123
git_branch: RELEASE_3_16
git_last_commit: e71b15d
git_last_commit_date: 2022-11-01 10:33:35 -0500 (Tue, 01 Nov 2022)
nebbiolo2Linux (Ubuntu 20.04.5 LTS) / x86_64  OK    OK  NO, version to propagate (1.22.0) is lower than published version (1.23.0)
palomino4Windows Server 2022 Datacenter / x64  OK    OK  
lconwaymacOS 12.5.1 Monterey / x86_64  OK    OK