Back to Workflows build report for BioC 3.13

This page was generated on 2021-09-17 15:50:07 -0400 (Fri, 17 Sep 2021).

All results for package ExpHunterSuite

To the developers/maintainers of the ExpHunterSuite package:
Make sure to use the following settings in order to reproduce any error or warning you see on this page.

raw results

Package 11/29HostnameOS / ArchINSTALLBUILD
ExpHunterSuite 1.0.0  (landing page)
James Perkins
Snapshot Date: 2021-09-17 08:50:01 -0400 (Fri, 17 Sep 2021)
git_url: https://git.bioconductor.org/packages/ExpHunterSuite
git_branch: RELEASE_3_13
git_last_commit: 2594525
git_last_commit_date: 2021-05-19 11:20:19 -0400 (Wed, 19 May 2021)
nebbiolo1Linux (Ubuntu 20.04.2 LTS) / x86_64  OK    OK  UNNEEDED, same version is already published