Back to Workflows build report for BioC 3.16

This page was generated on 2023-02-03 14:00:08 -0500 (Fri, 03 Feb 2023).

HostnameOSArch (*)R versionInstalled pkgs
nebbiolo2Linux (Ubuntu 20.04.5 LTS)x86_644.2.2 (2022-10-31) -- "Innocent and Trusting" 4511
palomino4Windows Server 2022 Datacenterx644.2.2 (2022-10-31 ucrt) -- "Innocent and Trusting" 4289
lconwaymacOS 12.5.1 Montereyx86_644.2.2 (2022-10-31) -- "Innocent and Trusting" 4318
Click on any hostname to see more info about the system (e.g. compilers)      (*) as reported by 'uname -p', except on Windows and Mac OS X

INSTALL results for RnaSeqGeneEdgeRQL on nebbiolo2


To the developers/maintainers of the RnaSeqGeneEdgeRQL package:
Make sure to use the following settings in order to reproduce any error or warning you see on this page.

raw results

Package 23/28HostnameOS / ArchINSTALLBUILD
RnaSeqGeneEdgeRQL 1.22.0  (landing page)
Yunshun Chen
Snapshot Date: 2023-02-03 10:45:01 -0500 (Fri, 03 Feb 2023)
git_url: https://git.bioconductor.org/packages/RnaSeqGeneEdgeRQL
git_branch: RELEASE_3_16
git_last_commit: 3b10d23
git_last_commit_date: 2022-11-01 10:34:10 -0500 (Tue, 01 Nov 2022)
nebbiolo2Linux (Ubuntu 20.04.5 LTS) / x86_64  OK    OK  UNNEEDED, same version is already published
palomino4Windows Server 2022 Datacenter / x64  OK    OK  
lconwaymacOS 12.5.1 Monterey / x86_64  OK    OK  

Summary

Package: RnaSeqGeneEdgeRQL
Version: 1.22.0
Command: /home/biocbuild/bbs-3.16-bioc/R/bin/R CMD INSTALL RnaSeqGeneEdgeRQL
StartedAt: 2023-02-03 11:00:07 -0500 (Fri, 03 Feb 2023)
EndedAt: 2023-02-03 11:00:16 -0500 (Fri, 03 Feb 2023)
EllapsedTime: 8.6 seconds
RetCode: 0
Status:   OK  

Command output

##############################################################################
##############################################################################
###
### Running command:
###
###   /home/biocbuild/bbs-3.16-bioc/R/bin/R CMD INSTALL RnaSeqGeneEdgeRQL
###
##############################################################################
##############################################################################


* installing to library ‘/home/biocbuild/bbs-3.16-bioc/R/library’
* installing *source* package ‘RnaSeqGeneEdgeRQL’ ...
** using staged installation
** inst
** help
No man pages found in package  ‘RnaSeqGeneEdgeRQL’ 
*** installing help indices
** building package indices
** installing vignettes
** testing if installed package can be loaded from temporary location
** testing if installed package can be loaded from final location
** testing if installed package keeps a record of temporary installation path
* DONE (RnaSeqGeneEdgeRQL)