Back to Workflows build report for BioC 3.18

This page was generated on 2023-12-05 14:00:11 -0500 (Tue, 05 Dec 2023).

HostnameOSArch (*)R versionInstalled pkgs
nebbiolo2Linux (Ubuntu 22.04.2 LTS)x86_644.3.2 Patched (2023-11-13 r85521) -- "Eye Holes" 4688
palomino4Windows Server 2022 Datacenterx644.3.2 (2023-10-31 ucrt) -- "Eye Holes" 4421
lconwaymacOS 12.7.1 Montereyx86_644.3.2 Patched (2023-11-01 r85457) -- "Eye Holes" 4440
Click on any hostname to see more info about the system (e.g. compilers)      (*) as reported by 'uname -p', except on Windows and Mac OS X

All results for package seqpac


To the developers/maintainers of the seqpac package:
- Use the following Renviron settings to reproduce errors and warnings.
- If 'R CMD check' started to fail recently on the Linux builder(s) over a missing dependency, add the missing dependency to 'Suggests:' in your DESCRIPTION file. See Renviron.bioc for more information.

raw results

Package 24/30HostnameOS / ArchINSTALLBUILD
seqpac 1.2.0  (landing page)
Daniel Natt
Snapshot Date: 2023-12-05 10:45:01 -0500 (Tue, 05 Dec 2023)
git_url: https://git.bioconductor.org/packages/seqpac
git_branch: RELEASE_3_18
git_last_commit: fffef1d
git_last_commit_date: 2023-10-24 08:47:50 -0500 (Tue, 24 Oct 2023)
nebbiolo2Linux (Ubuntu 22.04.2 LTS) / x86_64  OK    OK  UNNEEDED, same version is already published
palomino4Windows Server 2022 Datacenter / x64  OK    OK  
lconwaymacOS 12.7.1 Monterey / x86_64  OK    OK