Back to Workflows build report for BioC 3.15

This page was generated on 2022-08-16 14:00:05 -0400 (Tue, 16 Aug 2022).

HostnameOSArch (*)R versionInstalled pkgs
nebbiolo1Linux (Ubuntu 20.04.4 LTS)x86_644.2.1 (2022-06-23) -- "Funny-Looking Kid" 4365
merida1macOS 10.14.6 Mojavex86_644.2.1 (2022-06-23) -- "Funny-Looking Kid" 4183
Click on any hostname to see more info about the system (e.g. compilers)      (*) as reported by 'uname -p', except on Windows and Mac OS X

All results for package CAGEWorkflow


To the developers/maintainers of the CAGEWorkflow package:
Make sure to use the following settings in order to reproduce any error or warning you see on this page.

raw results

Package 5/29HostnameOS / ArchINSTALLBUILD
CAGEWorkflow 1.12.0  (landing page)
Malte Thodberg
Snapshot Date: 2022-08-16 07:45:02 -0400 (Tue, 16 Aug 2022)
git_url: https://git.bioconductor.org/packages/CAGEWorkflow
git_branch: RELEASE_3_15
git_last_commit: 502360e
git_last_commit_date: 2022-04-26 12:41:25 -0400 (Tue, 26 Apr 2022)
nebbiolo1Linux (Ubuntu 20.04.4 LTS) / x86_64  OK    OK  UNNEEDED, same version is already published
merida1macOS 10.14.6 Mojave / x86_64  OK    OK