Back to Workflows build report for BioC 3.18

This page was generated on 2023-11-28 14:00:08 -0500 (Tue, 28 Nov 2023).

HostnameOSArch (*)R versionInstalled pkgs
nebbiolo2Linux (Ubuntu 22.04.2 LTS)x86_644.3.2 Patched (2023-11-13 r85521) -- "Eye Holes" 4685
palomino4Windows Server 2022 Datacenterx644.3.2 (2023-10-31 ucrt) -- "Eye Holes" 4420
lconwaymacOS 12.7.1 Montereyx86_644.3.2 Patched (2023-11-01 r85457) -- "Eye Holes" 4439
Click on any hostname to see more info about the system (e.g. compilers)      (*) as reported by 'uname -p', except on Windows and Mac OS X

All results for package methylationArrayAnalysis


To the developers/maintainers of the methylationArrayAnalysis package:
- Use the following Renviron settings to reproduce errors and warnings.
- If 'R CMD check' started to fail recently on the Linux builder(s) over a missing dependency, add the missing dependency to 'Suggests:' in your DESCRIPTION file. See Renviron.bioc for more information.

raw results

Package 18/30HostnameOS / ArchINSTALLBUILD
methylationArrayAnalysis 1.26.0  (landing page)
Jovana Maksimovic
Snapshot Date: 2023-11-28 10:45:01 -0500 (Tue, 28 Nov 2023)
git_url: https://git.bioconductor.org/packages/methylationArrayAnalysis
git_branch: RELEASE_3_18
git_last_commit: 60b2530
git_last_commit_date: 2023-10-24 08:46:52 -0500 (Tue, 24 Oct 2023)
nebbiolo2Linux (Ubuntu 22.04.2 LTS) / x86_64  OK    ERROR  
palomino4Windows Server 2022 Datacenter / x64  OK    ERROR  
lconwaymacOS 12.7.1 Monterey / x86_64  OK    ERROR