Back to Workflows build report for BioC 3.12

Workflows build report for BioC 3.12

Results for recountWorkflow

This page was generated on 2020-11-27 15:45:13 -0500 (Fri, 27 Nov 2020).

Package 19/28HostnameOS / ArchINSTALLBUILD
recountWorkflow 1.14.0
Leonardo Collado-Torres
Snapshot Date: 2020-11-27 09:00:03 -0500 (Fri, 27 Nov 2020)
URL: https://git.bioconductor.org/packages/recountWorkflow
Branch: RELEASE_3_12
Last Commit: 7d4cc91
Last Changed Date: 2020-10-27 09:41:21 -0500 (Tue, 27 Oct 2020)
malbec1 Linux (Ubuntu 18.04.4 LTS) / x86_64  OK  OK UNNEEDED, same version exists in internal repository
nebbiolo1 Linux (Ubuntu 20.04.1 LTS) / x86_64  OK  OK