Back to Multiple platform build/check report for BioC 3.14
ABCDEFGHIJKLMNOPQ[R]STUVWXYZ

This page was generated on 2021-12-06 13:04:44 -0500 (Mon, 06 Dec 2021).

All results for package rtracklayer

To the developers/maintainers of the rtracklayer package:
- Please allow up to 24 hours (and sometimes 48 hours) for your latest push to git@git.bioconductor.org:packages/rtracklayer.git to
reflect on this report. See How and When does the builder pull? When will my changes propagate? here for more information.
- Make sure to use the following settings in order to reproduce any error or warning you see on this page.

raw results

Package 1675/2083HostnameOS / ArchINSTALLBUILDCHECKBUILD BIN
rtracklayer 1.54.0  (landing page)
Michael Lawrence
Snapshot Date: 2021-12-05 01:55:05 -0500 (Sun, 05 Dec 2021)
git_url: https://git.bioconductor.org/packages/rtracklayer
git_branch: RELEASE_3_14
git_last_commit: 04cdd75
git_last_commit_date: 2021-10-26 11:52:14 -0500 (Tue, 26 Oct 2021)
nebbiolo2Linux (Ubuntu 20.04.3 LTS) / x86_64  OK    OK    WARNINGS  UNNEEDED, same version is already published
tokay2Windows Server 2012 R2 Standard / x64  OK    OK    WARNINGS    OK  UNNEEDED, same version is already published
machv2macOS 10.14.6 Mojave / x86_64  OK    OK    WARNINGS    OK  UNNEEDED, same version is already published

Results for Bioconductor software packages that depend directly on package rtracklayer

QUICK STATSOS / ArchINSTALLBUILDCHECKBUILD BIN
nebbiolo2Linux (Ubuntu 20.04.3 LTS) / x86_64
00167
03164
0629129
tokay2Windows Server 2012 R2 Standard / x64
00162
06156
0830118
00156
machv2macOS 10.14.6 Mojave / x86_64
00165
04161
0429128
00161
Package 1/167HostnameOS / ArchINSTALLBUILDCHECKBUILD BIN
ALPS 1.8.0  (landing page)
Venu Thatikonda
git_last_commit: 3dd0106
git_last_commit_date: 2021-10-26 12:55:19 -0500
nebbiolo2Linux (Ubuntu 20.04.3 LTS) / x86_64  OK    ERROR  skipped
tokay2Windows Server 2012 R2 Standard / x64  OK    ERROR  skippedskipped
machv2macOS 10.14.6 Mojave / x86_64  OK    ERROR  skippedskipped
Package 2/167HostnameOS / ArchINSTALLBUILDCHECKBUILD BIN
AnnotationHubData 1.24.1  (landing page)
Bioconductor Package Maintainer
git_last_commit: c665598
git_last_commit_date: 2021-11-24 12:54:20 -0500
nebbiolo2Linux (Ubuntu 20.04.3 LTS) / x86_64  OK    OK    WARNINGS  UNNEEDED, same version is already published
tokay2Windows Server 2012 R2 Standard / x64  OK    OK    WARNINGS    OK  UNNEEDED, same version is already published
machv2macOS 10.14.6 Mojave / x86_64  OK    OK    WARNINGS    OK  UNNEEDED, same version is already published
Package 3/167HostnameOS / ArchINSTALLBUILDCHECKBUILD BIN
annotatr 1.20.0  (landing page)
Raymond G. Cavalcante
git_last_commit: aa03096
git_last_commit_date: 2021-10-26 12:30:59 -0500
nebbiolo2Linux (Ubuntu 20.04.3 LTS) / x86_64  OK    OK    OK  UNNEEDED, same version is already published
tokay2Windows Server 2012 R2 Standard / x64  OK    OK    OK    OK  UNNEEDED, same version is already published
machv2macOS 10.14.6 Mojave / x86_64  OK    OK    OK    OK  UNNEEDED, same version is already published
Package 4/167HostnameOS / ArchINSTALLBUILDCHECKBUILD BIN
APAlyzer 1.8.0  (landing page)
Ruijia Wang
git_last_commit: 4df8ba6
git_last_commit_date: 2021-10-26 12:53:30 -0500
nebbiolo2Linux (Ubuntu 20.04.3 LTS) / x86_64  OK    OK    WARNINGS  UNNEEDED, same version is already published
tokay2Windows Server 2012 R2 Standard / x64  OK    OK    WARNINGS    OK  UNNEEDED, same version is already published
machv2macOS 10.14.6 Mojave / x86_64  OK    OK    WARNINGS    OK  UNNEEDED, same version is already published
Package 5/167HostnameOS / ArchINSTALLBUILDCHECKBUILD BIN
ASpediaFI 1.8.0  (landing page)
Doyeong Yu
git_last_commit: 4066ac0
git_last_commit_date: 2021-10-26 12:55:23 -0500
nebbiolo2Linux (Ubuntu 20.04.3 LTS) / x86_64  OK    OK    OK  UNNEEDED, same version is already published
tokay2Windows Server 2012 R2 Standard / x64  OK    OK    OK    OK  UNNEEDED, same version is already published
machv2macOS 10.14.6 Mojave / x86_64  OK    OK    OK    OK  UNNEEDED, same version is already published
Package 6/167HostnameOS / ArchINSTALLBUILDCHECKBUILD BIN
ATACseqQC 1.18.0  (landing page)
Jianhong Ou
git_last_commit: eeaad0d
git_last_commit_date: 2021-10-26 12:35:11 -0500
nebbiolo2Linux (Ubuntu 20.04.3 LTS) / x86_64  OK    OK    OK  UNNEEDED, same version is already published
tokay2Windows Server 2012 R2 Standard / x64  OK    OK    OK    OK  UNNEEDED, same version is already published
machv2macOS 10.14.6 Mojave / x86_64  OK    OK    OK    OK  UNNEEDED, same version is already published
Package 7/167HostnameOS / ArchINSTALLBUILDCHECKBUILD BIN
ballgown 2.26.0  (landing page)
Jack Fu
git_last_commit: 4f1dda8
git_last_commit_date: 2021-10-26 12:14:54 -0500
nebbiolo2Linux (Ubuntu 20.04.3 LTS) / x86_64  OK    OK    OK  UNNEEDED, same version is already published
tokay2Windows Server 2012 R2 Standard / x64  OK    OK    OK    OK  UNNEEDED, same version is already published
machv2macOS 10.14.6 Mojave / x86_64  OK    OK    OK    OK  UNNEEDED, same version is already published
Package 8/167HostnameOS / ArchINSTALLBUILDCHECKBUILD BIN
BgeeCall 1.10.0  (landing page)
Julien Wollbrett
git_last_commit: 45c649c
git_last_commit_date: 2021-10-26 12:56:46 -0500
nebbiolo2Linux (Ubuntu 20.04.3 LTS) / x86_64  OK    OK    OK  UNNEEDED, same version is already published
tokay2Windows Server 2012 R2 Standard / x64  OK    OK    OK    OK  UNNEEDED, same version is already published
machv2macOS 10.14.6 Mojave / x86_64  OK    OK    OK    OK  UNNEEDED, same version is already published
Package 9/167HostnameOS / ArchINSTALLBUILDCHECKBUILD BIN
BindingSiteFinder 1.0.0  (landing page)
Mirko Brüggemann
git_last_commit: be6256c
git_last_commit_date: 2021-10-26 13:11:23 -0500
nebbiolo2Linux (Ubuntu 20.04.3 LTS) / x86_64  OK    OK    OK  UNNEEDED, same version is already published
tokay2Windows Server 2012 R2 Standard / x64  OK    OK    OK    OK  UNNEEDED, same version is already published
machv2macOS 10.14.6 Mojave / x86_64  OK    OK    OK    OK  UNNEEDED, same version is already published
Package 10/167HostnameOS / ArchINSTALLBUILDCHECKBUILD BIN
biscuiteer 1.8.0  (landing page)
"Jacob Morrison"
git_last_commit: 2a5989a
git_last_commit_date: 2021-10-26 12:55:31 -0500
nebbiolo2Linux (Ubuntu 20.04.3 LTS) / x86_64  OK    OK    WARNINGS  UNNEEDED, same version is already published
tokay2Windows Server 2012 R2 Standard / x64  OK    OK    WARNINGS    OK  UNNEEDED, same version is already published
machv2macOS 10.14.6 Mojave / x86_64  OK    OK    WARNINGS    OK  UNNEEDED, same version is already published
Package 11/167HostnameOS / ArchINSTALLBUILDCHECKBUILD BIN
BiSeq 1.34.0  (landing page)
Katja Hebestreit
git_last_commit: 5d4449a
git_last_commit_date: 2021-10-26 12:07:58 -0500
nebbiolo2Linux (Ubuntu 20.04.3 LTS) / x86_64  OK    OK    OK  UNNEEDED, same version is already published
tokay2Windows Server 2012 R2 Standard / x64  OK    OK    OK    OK  UNNEEDED, same version is already published
machv2macOS 10.14.6 Mojave / x86_64  OK    OK    OK    OK  UNNEEDED, same version is already published
Package 12/167HostnameOS / ArchINSTALLBUILDCHECKBUILD BIN
branchpointer 1.20.0  (landing page)
Beth Signal
git_last_commit: 09d2e40
git_last_commit_date: 2021-10-26 12:33:49 -0500
nebbiolo2Linux (Ubuntu 20.04.3 LTS) / x86_64  OK    OK    OK  UNNEEDED, same version is already published
tokay2Windows Server 2012 R2 Standard / x64  OK    OK    OK    OK  UNNEEDED, same version is already published
machv2macOS 10.14.6 Mojave / x86_64  OK    OK    OK    OK  UNNEEDED, same version is already published
Package 13/167HostnameOS / ArchINSTALLBUILDCHECKBUILD BIN
BRGenomics 1.6.0  (landing page)
Mike DeBerardine
git_last_commit: ff5ff54
git_last_commit_date: 2021-10-26 12:58:20 -0500
nebbiolo2Linux (Ubuntu 20.04.3 LTS) / x86_64  OK    OK    WARNINGS  UNNEEDED, same version is already published
tokay2Windows Server 2012 R2 Standard / x64  OK    OK    WARNINGS    OK  UNNEEDED, same version is already published
machv2macOS 10.14.6 Mojave / x86_64  OK    OK    WARNINGS    OK  UNNEEDED, same version is already published
Package 14/167HostnameOS / ArchINSTALLBUILDCHECKBUILD BIN
BSgenome 1.62.0  (landing page)
H. Pagès
git_last_commit: 9b1859e
git_last_commit_date: 2021-10-26 11:49:47 -0500
nebbiolo2Linux (Ubuntu 20.04.3 LTS) / x86_64  OK    OK    WARNINGS  UNNEEDED, same version is already published
tokay2Windows Server 2012 R2 Standard / x64  OK    OK    WARNINGS    OK  UNNEEDED, same version is already published
machv2macOS 10.14.6 Mojave / x86_64  OK    OK    WARNINGS    OK  UNNEEDED, same version is already published
Package 15/167HostnameOS / ArchINSTALLBUILDCHECKBUILD BIN
CAGEfightR 1.14.0  (landing page)
Malte Thodberg
git_last_commit: 6c27321
git_last_commit_date: 2021-10-26 12:44:41 -0500
nebbiolo2Linux (Ubuntu 20.04.3 LTS) / x86_64  OK    OK    OK  UNNEEDED, same version is already published
tokay2Windows Server 2012 R2 Standard / x64  OK    OK    OK    OK  UNNEEDED, same version is already published
machv2macOS 10.14.6 Mojave / x86_64  OK    OK    OK    OK  UNNEEDED, same version is already published
Package 16/167HostnameOS / ArchINSTALLBUILDCHECKBUILD BIN
CAGEr 2.0.2  (landing page)
Charles Plessy
git_last_commit: 9218aa9
git_last_commit_date: 2021-11-16 19:37:08 -0500
nebbiolo2Linux (Ubuntu 20.04.3 LTS) / x86_64  OK    OK    OK  UNNEEDED, same version is already published
tokay2Windows Server 2012 R2 Standard / x64  OK    OK    OK    OK  UNNEEDED, same version is already published
machv2macOS 10.14.6 Mojave / x86_64  OK    OK    OK    OK  UNNEEDED, same version is already published
Package 17/167HostnameOS / ArchINSTALLBUILDCHECKBUILD BIN
casper 2.28.0  (landing page)
David Rossell
git_last_commit: 479cb8d
git_last_commit_date: 2021-10-26 12:06:23 -0500
nebbiolo2Linux (Ubuntu 20.04.3 LTS) / x86_64  OK    OK    WARNINGS  UNNEEDED, same version is already published
tokay2Windows Server 2012 R2 Standard / x64  OK    OK    WARNINGS    OK  UNNEEDED, same version is already published
machv2macOS 10.14.6 Mojave / x86_64  OK    OK    WARNINGS    OK  UNNEEDED, same version is already published
Package 18/167HostnameOS / ArchINSTALLBUILDCHECKBUILD BIN
CexoR 1.32.0  (landing page)
Pedro Madrigal
git_last_commit: 422af9e
git_last_commit_date: 2021-10-26 13:12:55 -0500
nebbiolo2Linux (Ubuntu 20.04.3 LTS) / x86_64  OK    OK    OK  UNNEEDED, same version is already published
tokay2Windows Server 2012 R2 Standard / x64  OK    OK    OK    OK  UNNEEDED, same version is already published
machv2macOS 10.14.6 Mojave / x86_64  OK    OK    OK    OK  UNNEEDED, same version is already published
Package 19/167HostnameOS / ArchINSTALLBUILDCHECKBUILD BIN
ChIPanalyser 1.16.0  (landing page)
Patrick C.N. Martin
git_last_commit: b95956a
git_last_commit_date: 2021-10-26 12:37:43 -0500
nebbiolo2Linux (Ubuntu 20.04.3 LTS) / x86_64  OK    OK    OK  UNNEEDED, same version is already published
tokay2Windows Server 2012 R2 Standard / x64  OK    OK    OK    OK  UNNEEDED, same version is already published
machv2macOS 10.14.6 Mojave / x86_64  OK    OK    OK    OK  UNNEEDED, same version is already published
Package 20/167HostnameOS / ArchINSTALLBUILDCHECKBUILD BIN
ChIPComp 1.24.0  (landing page)
Li Chen
git_last_commit: 854d1b5
git_last_commit_date: 2021-10-26 12:22:08 -0500
nebbiolo2Linux (Ubuntu 20.04.3 LTS) / x86_64  OK    OK    OK  UNNEEDED, same version is already published
tokay2Windows Server 2012 R2 Standard / x64  OK    OK    OK    OK  UNNEEDED, same version is already published
machv2macOS 10.14.6 Mojave / x86_64  OK    OK    OK    OK  UNNEEDED, same version is already published
Package 21/167HostnameOS / ArchINSTALLBUILDCHECKBUILD BIN
chipenrich 2.18.0  (landing page)
Raymond G. Cavalcante
git_last_commit: 3af75df
git_last_commit_date: 2021-10-26 12:09:44 -0500
nebbiolo2Linux (Ubuntu 20.04.3 LTS) / x86_64  OK    OK    OK  UNNEEDED, same version is already published
tokay2Windows Server 2012 R2 Standard / x64  OK    OK    OK    OK  UNNEEDED, same version is already published
machv2macOS 10.14.6 Mojave / x86_64  OK    OK    OK    OK  UNNEEDED, same version is already published
Package 22/167HostnameOS / ArchINSTALLBUILDCHECKBUILD BIN
ChIPpeakAnno 3.28.0  (landing page)
Jianhong Ou
git_last_commit: da1bfa1
git_last_commit_date: 2021-10-26 11:54:17 -0500
nebbiolo2Linux (Ubuntu 20.04.3 LTS) / x86_64  OK    OK    OK  UNNEEDED, same version is already published
tokay2Windows Server 2012 R2 Standard / x64  OK    OK    OK    OK  UNNEEDED, same version is already published
machv2macOS 10.14.6 Mojave / x86_64  OK    OK    OK    OK  UNNEEDED, same version is already published
Package 23/167HostnameOS / ArchINSTALLBUILDCHECKBUILD BIN
ChIPseeker 1.30.2  (landing page)
Guangchuang Yu
git_last_commit: 80e3fca
git_last_commit_date: 2021-11-10 03:53:57 -0500
nebbiolo2Linux (Ubuntu 20.04.3 LTS) / x86_64  OK    OK    OK  UNNEEDED, same version is already published
tokay2Windows Server 2012 R2 Standard / x64  OK    OK    OK    OK  UNNEEDED, same version is already published
machv2macOS 10.14.6 Mojave / x86_64  OK    OK    OK    OK  UNNEEDED, same version is already published
Package 24/167HostnameOS / ArchINSTALLBUILDCHECKBUILD BIN
ChromHeatMap 1.48.0  (landing page)
Tim F. Rayner
git_last_commit: 488d509
git_last_commit_date: 2021-10-26 11:54:52 -0500
nebbiolo2Linux (Ubuntu 20.04.3 LTS) / x86_64  OK    OK    OK  UNNEEDED, same version is already published
tokay2Windows Server 2012 R2 Standard / x64  OK    OK    OK    OK  UNNEEDED, same version is already published
machv2macOS 10.14.6 Mojave / x86_64  OK    OK    OK    OK  UNNEEDED, same version is already published
Package 25/167HostnameOS / ArchINSTALLBUILDCHECKBUILD BIN
ChromSCape 1.4.0  (landing page)
Pacome Prompsy
git_last_commit: df9f2c5
git_last_commit_date: 2021-10-26 13:03:23 -0500
nebbiolo2Linux (Ubuntu 20.04.3 LTS) / x86_64  OK    OK    OK  UNNEEDED, same version is already published
tokay2Windows Server 2012 R2 Standard / x64  OK    OK    OK    OK  UNNEEDED, same version is already published
machv2macOS 10.14.6 Mojave / x86_64  OK    OK    OK    OK  UNNEEDED, same version is already published
Package 26/167HostnameOS / ArchINSTALLBUILDCHECKBUILD BIN
chromswitch 1.16.0  (landing page)
Selin Jessa
git_last_commit: 0d65abe
git_last_commit_date: 2021-10-26 12:39:46 -0500
nebbiolo2Linux (Ubuntu 20.04.3 LTS) / x86_64  OK    OK    OK  UNNEEDED, same version is already published
tokay2Windows Server 2012 R2 Standard / x64  OK    OK    OK    OK  UNNEEDED, same version is already published
machv2macOS 10.14.6 Mojave / x86_64  OK    OK    OK    OK  UNNEEDED, same version is already published
Package 27/167HostnameOS / ArchINSTALLBUILDCHECKBUILD BIN
circRNAprofiler 1.8.0  (landing page)
Simona Aufiero
git_last_commit: 92fcc06
git_last_commit_date: 2021-10-26 12:53:01 -0500
nebbiolo2Linux (Ubuntu 20.04.3 LTS) / x86_64  OK    OK    OK  UNNEEDED, same version is already published
tokay2Windows Server 2012 R2 Standard / x64  OK    OK    OK    OK  UNNEEDED, same version is already published
machv2macOS 10.14.6 Mojave / x86_64  OK    OK    OK    OK  UNNEEDED, same version is already published
Package 28/167HostnameOS / ArchINSTALLBUILDCHECKBUILD BIN
cliProfiler 1.0.0  (landing page)
You Zhou
git_last_commit: f3e8322
git_last_commit_date: 2021-10-26 13:13:16 -0500
nebbiolo2Linux (Ubuntu 20.04.3 LTS) / x86_64  OK    OK    OK  UNNEEDED, same version is already published
tokay2Windows Server 2012 R2 Standard / x64  OK    OK    OK    OK  UNNEEDED, same version is already published
machv2macOS 10.14.6 Mojave / x86_64  OK    OK    OK    OK  UNNEEDED, same version is already published
Package 29/167HostnameOS / ArchINSTALLBUILDCHECKBUILD BIN
CNEr 1.30.0  (landing page)
Ge Tan
git_last_commit: e682f2a
git_last_commit_date: 2021-10-26 12:11:47 -0500
nebbiolo2Linux (Ubuntu 20.04.3 LTS) / x86_64  OK    OK    OK  UNNEEDED, same version is already published
tokay2Windows Server 2012 R2 Standard / x64  OK    OK    WARNINGS    OK  UNNEEDED, same version is already published
machv2macOS 10.14.6 Mojave / x86_64  OK    OK    WARNINGS    OK  UNNEEDED, same version is already published
Package 30/167HostnameOS / ArchINSTALLBUILDCHECKBUILD BIN
coMET 1.26.0  (landing page)
Tiphaine Martin
git_last_commit: ed4f33f
git_last_commit_date: 2021-10-26 12:18:16 -0500
nebbiolo2Linux (Ubuntu 20.04.3 LTS) / x86_64  OK    OK    OK  UNNEEDED, same version is already published
tokay2Windows Server 2012 R2 Standard / x64  OK    OK    OK    OK  UNNEEDED, same version is already published
machv2macOS 10.14.6 Mojave / x86_64  OK    OK    OK    OK  UNNEEDED, same version is already published
Package 31/167HostnameOS / ArchINSTALLBUILDCHECKBUILD BIN
compartmap 1.12.0  (landing page)
Benjamin Johnson
git_last_commit: 3fce1b6
git_last_commit_date: 2021-10-26 12:48:10 -0500
nebbiolo2Linux (Ubuntu 20.04.3 LTS) / x86_64  OK    OK    OK  UNNEEDED, same version is already published
tokay2Windows Server 2012 R2 Standard / x64  OK    OK    OK    OK  UNNEEDED, same version is already published
machv2macOS 10.14.6 Mojave / x86_64  OK    OK    OK    OK  UNNEEDED, same version is already published
Package 32/167HostnameOS / ArchINSTALLBUILDCHECKBUILD BIN
consensusSeekeR 1.22.0  (landing page)
Astrid Deschenes
git_last_commit: d88164a
git_last_commit_date: 2021-10-26 12:23:47 -0500
nebbiolo2Linux (Ubuntu 20.04.3 LTS) / x86_64  OK    OK    OK  UNNEEDED, same version is already published
tokay2Windows Server 2012 R2 Standard / x64  OK    OK    OK    OK  UNNEEDED, same version is already published
machv2macOS 10.14.6 Mojave / x86_64  OK    OK    OK    OK  UNNEEDED, same version is already published
Package 33/167HostnameOS / ArchINSTALLBUILDCHECKBUILD BIN
contiBAIT 1.22.0  (landing page)
Kieran O'Neill
git_last_commit: 7642d19
git_last_commit_date: 2021-10-26 12:25:24 -0500
nebbiolo2Linux (Ubuntu 20.04.3 LTS) / x86_64  OK    OK    WARNINGS  UNNEEDED, same version is already published
tokay2Windows Server 2012 R2 Standard / x64  OK    OK    WARNINGS    OK  UNNEEDED, same version is already published
machv2macOS 10.14.6 Mojave / x86_64  OK    OK    WARNINGS    OK  UNNEEDED, same version is already published
Package 34/167HostnameOS / ArchINSTALLBUILDCHECKBUILD BIN
conumee 1.28.0  (landing page)
Volker Hovestadt
git_last_commit: 49326cb
git_last_commit_date: 2021-10-26 12:20:09 -0500
nebbiolo2Linux (Ubuntu 20.04.3 LTS) / x86_64  OK    OK    OK  UNNEEDED, same version is already published
tokay2Windows Server 2012 R2 Standard / x64... NOT SUPPORTED ...
machv2macOS 10.14.6 Mojave / x86_64  OK    OK    OK    OK  UNNEEDED, same version is already published
Package 35/167HostnameOS / ArchINSTALLBUILDCHECKBUILD BIN
CoverageView 1.32.0  (landing page)
Ernesto Lowy
git_last_commit: fd9a94e
git_last_commit_date: 2021-10-26 12:13:02 -0500
nebbiolo2Linux (Ubuntu 20.04.3 LTS) / x86_64  OK    OK    WARNINGS  UNNEEDED, same version is already published
tokay2Windows Server 2012 R2 Standard / x64... NOT SUPPORTED ...
machv2macOS 10.14.6 Mojave / x86_64  OK    OK    WARNINGS    OK  UNNEEDED, same version is already published
Package 36/167HostnameOS / ArchINSTALLBUILDCHECKBUILD BIN
CSSQ 1.6.0  (landing page)
Fan Lab at Georgia Institute of Technology
git_last_commit: a7b96ca
git_last_commit_date: 2021-10-26 12:56:31 -0500
nebbiolo2Linux (Ubuntu 20.04.3 LTS) / x86_64  OK    OK    OK  UNNEEDED, same version is already published
tokay2Windows Server 2012 R2 Standard / x64  OK    OK    OK    OK  UNNEEDED, same version is already published
machv2macOS 10.14.6 Mojave / x86_64  OK    OK    OK    OK  UNNEEDED, same version is already published
Package 37/167HostnameOS / ArchINSTALLBUILDCHECKBUILD BIN
cummeRbund 2.36.0  (landing page)
Loyal A. Goff
git_last_commit: 36d62b1
git_last_commit_date: 2021-10-26 12:00:39 -0500
nebbiolo2Linux (Ubuntu 20.04.3 LTS) / x86_64  OK    OK    WARNINGS  UNNEEDED, same version is already published
tokay2Windows Server 2012 R2 Standard / x64  OK    OK    WARNINGS    OK  UNNEEDED, same version is already published
machv2macOS 10.14.6 Mojave / x86_64  OK    OK    WARNINGS    OK  UNNEEDED, same version is already published
Package 38/167HostnameOS / ArchINSTALLBUILDCHECKBUILD BIN
customProDB 1.34.0  (landing page)
Xiaojing Wang
git_last_commit: cb59382
git_last_commit_date: 2021-12-02 17:48:00 -0500
nebbiolo2Linux (Ubuntu 20.04.3 LTS) / x86_64  OK    OK    OK  UNNEEDED, same version is already published
tokay2Windows Server 2012 R2 Standard / x64  OK    OK    OK    OK  UNNEEDED, same version is already published
machv2macOS 10.14.6 Mojave / x86_64  OK    OK    OK    OK  UNNEEDED, same version is already published
Package 39/167HostnameOS / ArchINSTALLBUILDCHECKBUILD BIN
dasper 1.4.0  (landing page)
David Zhang
git_last_commit: 0ef46a4
git_last_commit_date: 2021-10-26 13:04:45 -0500
nebbiolo2Linux (Ubuntu 20.04.3 LTS) / x86_64  OK    OK    ERROR  
tokay2Windows Server 2012 R2 Standard / x64  OK    OK    ERROR    OK  
machv2macOS 10.14.6 Mojave / x86_64  OK    OK    ERROR    OK  
Package 40/167HostnameOS / ArchINSTALLBUILDCHECKBUILD BIN
DeepBlueR 1.20.0  (landing page)
Felipe Albrecht , Markus List
git_last_commit: cbb9c75
git_last_commit_date: 2021-10-26 12:28:59 -0500
nebbiolo2Linux (Ubuntu 20.04.3 LTS) / x86_64  OK    OK    OK  UNNEEDED, same version is already published
tokay2Windows Server 2012 R2 Standard / x64  OK    OK    OK    OK  UNNEEDED, same version is already published
machv2macOS 10.14.6 Mojave / x86_64  OK    OK    OK    OK  UNNEEDED, same version is already published
Package 41/167HostnameOS / ArchINSTALLBUILDCHECKBUILD BIN
derfinder 1.28.0  (landing page)
Leonardo Collado-Torres
git_last_commit: 9f12ac9
git_last_commit_date: 2021-10-26 12:16:21 -0500
nebbiolo2Linux (Ubuntu 20.04.3 LTS) / x86_64  OK    OK    OK  UNNEEDED, same version is already published
tokay2Windows Server 2012 R2 Standard / x64  OK    OK    OK    OK  UNNEEDED, same version is already published
machv2macOS 10.14.6 Mojave / x86_64  OK    ERROR  skippedskipped
Package 42/167HostnameOS / ArchINSTALLBUILDCHECKBUILD BIN
DEScan2 1.14.1  (landing page)
Dario Righelli
git_last_commit: 750fd91
git_last_commit_date: 2021-11-18 04:40:05 -0500
nebbiolo2Linux (Ubuntu 20.04.3 LTS) / x86_64  OK    OK    OK  UNNEEDED, same version is already published
tokay2Windows Server 2012 R2 Standard / x64  OK    OK    OK    OK  UNNEEDED, same version is already published
machv2macOS 10.14.6 Mojave / x86_64  OK    OK    OK    OK  UNNEEDED, same version is already published
Package 43/167HostnameOS / ArchINSTALLBUILDCHECKBUILD BIN
diffHic 1.26.0  (landing page)
Aaron Lun
git_last_commit: 7a9008e
git_last_commit_date: 2021-10-26 12:20:24 -0500
nebbiolo2Linux (Ubuntu 20.04.3 LTS) / x86_64  OK    OK    OK  UNNEEDED, same version is already published
tokay2Windows Server 2012 R2 Standard / x64  OK    OK    OK    OK  UNNEEDED, same version is already published
machv2macOS 10.14.6 Mojave / x86_64  OK    OK    OK    OK  UNNEEDED, same version is already published
Package 44/167HostnameOS / ArchINSTALLBUILDCHECKBUILD BIN
diffloop 1.22.0  (landing page)
Caleb Lareau
git_last_commit: 684b6b0
git_last_commit_date: 2021-10-26 12:27:40 -0500
nebbiolo2Linux (Ubuntu 20.04.3 LTS) / x86_64  OK    OK    OK  UNNEEDED, same version is already published
tokay2Windows Server 2012 R2 Standard / x64  OK    OK    WARNINGS    OK  UNNEEDED, same version is already published
machv2macOS 10.14.6 Mojave / x86_64  OK    OK    OK    OK  UNNEEDED, same version is already published
Package 45/167HostnameOS / ArchINSTALLBUILDCHECKBUILD BIN
diffUTR 1.2.0  (landing page)
Pierre-Luc Germain
git_last_commit: feef7a8
git_last_commit_date: 2021-10-26 13:09:41 -0500
nebbiolo2Linux (Ubuntu 20.04.3 LTS) / x86_64  OK    OK    OK  UNNEEDED, same version is already published
tokay2Windows Server 2012 R2 Standard / x64  OK    OK    OK    OK  UNNEEDED, same version is already published
machv2macOS 10.14.6 Mojave / x86_64  OK    OK    OK    OK  UNNEEDED, same version is already published
Package 46/167HostnameOS / ArchINSTALLBUILDCHECKBUILD BIN
DMCFB 1.8.0  (landing page)
Farhad Shokoohi
git_last_commit: eab8fbe
git_last_commit_date: 2021-10-26 12:54:46 -0500
nebbiolo2Linux (Ubuntu 20.04.3 LTS) / x86_64  OK    OK    OK  UNNEEDED, same version is already published
tokay2Windows Server 2012 R2 Standard / x64  OK    OK    OK    OK  UNNEEDED, same version is already published
machv2macOS 10.14.6 Mojave / x86_64  OK    OK    OK    OK  UNNEEDED, same version is already published
Package 47/167HostnameOS / ArchINSTALLBUILDCHECKBUILD BIN
DMCHMM 1.16.0  (landing page)
Farhad Shokoohi
git_last_commit: efaf39a
git_last_commit_date: 2021-10-26 12:37:33 -0500
nebbiolo2Linux (Ubuntu 20.04.3 LTS) / x86_64  OK    OK    OK  UNNEEDED, same version is already published
tokay2Windows Server 2012 R2 Standard / x64  OK    OK    WARNINGS    OK  UNNEEDED, same version is already published
machv2macOS 10.14.6 Mojave / x86_64  OK    OK    OK    OK  UNNEEDED, same version is already published
Package 48/167HostnameOS / ArchINSTALLBUILDCHECKBUILD BIN
dmrseq 1.14.0  (landing page)
Keegan Korthauer
git_last_commit: ae24c3a
git_last_commit_date: 2021-10-26 12:42:12 -0500
nebbiolo2Linux (Ubuntu 20.04.3 LTS) / x86_64  OK    OK    WARNINGS  UNNEEDED, same version is already published
tokay2Windows Server 2012 R2 Standard / x64  OK    OK    WARNINGS    OK  UNNEEDED, same version is already published
machv2macOS 10.14.6 Mojave / x86_64  OK    OK    WARNINGS    OK  UNNEEDED, same version is already published
Package 49/167HostnameOS / ArchINSTALLBUILDCHECKBUILD BIN
ELMER 2.18.0  (landing page)
Tiago Chedraoui Silva
git_last_commit: b116994
git_last_commit_date: 2021-10-26 12:20:53 -0500
nebbiolo2Linux (Ubuntu 20.04.3 LTS) / x86_64  OK    OK    OK  UNNEEDED, same version is already published
tokay2Windows Server 2012 R2 Standard / x64  OK    OK    OK    OK  UNNEEDED, same version is already published
machv2macOS 10.14.6 Mojave / x86_64  OK    OK    OK    OK  UNNEEDED, same version is already published
Package 50/167HostnameOS / ArchINSTALLBUILDCHECKBUILD BIN
ENCODExplorer 2.20.0  (landing page)
Charles Joly Beauparlant
git_last_commit: 5a12d2d
git_last_commit_date: 2021-10-26 12:20:28 -0500
nebbiolo2Linux (Ubuntu 20.04.3 LTS) / x86_64  OK    OK    ERROR  
tokay2Windows Server 2012 R2 Standard / x64  OK    OK    ERROR    OK  
machv2macOS 10.14.6 Mojave / x86_64  OK    OK    ERROR    OK  
Package 51/167HostnameOS / ArchINSTALLBUILDCHECKBUILD BIN
enhancerHomologSearch 1.0.0  (landing page)
Jianhong Ou
git_last_commit: 46463b4
git_last_commit_date: 2021-10-26 13:11:45 -0500
nebbiolo2Linux (Ubuntu 20.04.3 LTS) / x86_64  OK    OK    OK  UNNEEDED, same version is already published
tokay2Windows Server 2012 R2 Standard / x64  OK    OK    OK    OK  UNNEEDED, same version is already published
machv2macOS 10.14.6 Mojave / x86_64  OK    OK    OK    OK  UNNEEDED, same version is already published
Package 52/167HostnameOS / ArchINSTALLBUILDCHECKBUILD BIN
enrichTF 1.10.0  (landing page)
Zheng Wei
git_last_commit: bc4115f
git_last_commit_date: 2021-10-26 12:51:43 -0500
nebbiolo2Linux (Ubuntu 20.04.3 LTS) / x86_64  OK    OK    OK  UNNEEDED, same version is already published
tokay2Windows Server 2012 R2 Standard / x64  OK    OK    OK    OK  UNNEEDED, same version is already published
machv2macOS 10.14.6 Mojave / x86_64  OK    OK    OK    OK  UNNEEDED, same version is already published
Package 53/167HostnameOS / ArchINSTALLBUILDCHECKBUILD BIN
ensembldb 2.18.2  (landing page)
Johannes Rainer
git_last_commit: a633cec
git_last_commit_date: 2021-11-08 10:02:00 -0500
nebbiolo2Linux (Ubuntu 20.04.3 LTS) / x86_64  OK    OK    OK  UNNEEDED, same version is already published
tokay2Windows Server 2012 R2 Standard / x64  OK    OK    OK    OK  UNNEEDED, same version is already published
machv2macOS 10.14.6 Mojave / x86_64  OK    OK    OK    OK  UNNEEDED, same version is already published
Package 54/167HostnameOS / ArchINSTALLBUILDCHECKBUILD BIN
epidecodeR 1.2.0  (landing page)
Kandarp Joshi
git_last_commit: 34677d2
git_last_commit_date: 2021-10-26 13:08:27 -0500
nebbiolo2Linux (Ubuntu 20.04.3 LTS) / x86_64  OK    OK    OK  UNNEEDED, same version is already published
tokay2Windows Server 2012 R2 Standard / x64  OK    OK    OK    OK  UNNEEDED, same version is already published
machv2macOS 10.14.6 Mojave / x86_64  OK    OK    OK    OK  UNNEEDED, same version is already published
Package 55/167HostnameOS / ArchINSTALLBUILDCHECKBUILD BIN
epigraHMM 1.2.1  (landing page)
Pedro Baldoni
git_last_commit: aca2324
git_last_commit_date: 2021-12-02 18:38:04 -0500
nebbiolo2Linux (Ubuntu 20.04.3 LTS) / x86_64  OK    OK    OK  YES
tokay2Windows Server 2012 R2 Standard / x64  OK    OK    OK    OK  YES
machv2macOS 10.14.6 Mojave / x86_64  OK    OK    OK    OK  YES
Package 56/167HostnameOS / ArchINSTALLBUILDCHECKBUILD BIN
erma 1.10.0  (landing page)
VJ Carey
git_last_commit: 8ff4f3c
git_last_commit_date: 2021-10-26 12:21:07 -0500
nebbiolo2Linux (Ubuntu 20.04.3 LTS) / x86_64  OK    OK    OK  UNNEEDED, same version is already published
tokay2Windows Server 2012 R2 Standard / x64  OK    OK    OK    OK  UNNEEDED, same version is already published
machv2macOS 10.14.6 Mojave / x86_64  OK    OK    OK    OK  UNNEEDED, same version is already published
Package 57/167HostnameOS / ArchINSTALLBUILDCHECKBUILD BIN
esATAC 1.16.0  (landing page)
Zheng Wei
git_last_commit: 094b015
git_last_commit_date: 2021-10-26 12:40:03 -0500
nebbiolo2Linux (Ubuntu 20.04.3 LTS) / x86_64  OK    OK    OK  UNNEEDED, same version is already published
tokay2Windows Server 2012 R2 Standard / x64  OK    OK    OK    OK  UNNEEDED, same version is already published
machv2macOS 10.14.6 Mojave / x86_64  OK    OK    OK    OK  UNNEEDED, same version is already published
Package 58/167HostnameOS / ArchINSTALLBUILDCHECKBUILD BIN
ExCluster 1.12.0  (landing page)
R. Matthew Tanner
git_last_commit: 033bb91
git_last_commit_date: 2021-10-26 12:47:03 -0500
nebbiolo2Linux (Ubuntu 20.04.3 LTS) / x86_64  OK    OK    OK  UNNEEDED, same version is already published
tokay2Windows Server 2012 R2 Standard / x64... NOT SUPPORTED ...
machv2macOS 10.14.6 Mojave / x86_64  OK    OK    OK    OK  UNNEEDED, same version is already published
Package 59/167HostnameOS / ArchINSTALLBUILDCHECKBUILD BIN
exomePeak2 1.6.0  (landing page)
Zhen Wei
git_last_commit: 50ec4d5
git_last_commit_date: 2021-10-26 12:57:41 -0500
nebbiolo2Linux (Ubuntu 20.04.3 LTS) / x86_64  OK    OK    WARNINGS  UNNEEDED, same version is already published
tokay2Windows Server 2012 R2 Standard / x64  OK    OK    WARNINGS    OK  UNNEEDED, same version is already published
machv2macOS 10.14.6 Mojave / x86_64  OK    OK    WARNINGS    OK  UNNEEDED, same version is already published
Package 60/167HostnameOS / ArchINSTALLBUILDCHECKBUILD BIN
fcScan 1.8.0  (landing page)
Pierre Khoueiry Abdullah El-Kurdi
git_last_commit: d81e849
git_last_commit_date: 2021-10-26 12:53:32 -0500
nebbiolo2Linux (Ubuntu 20.04.3 LTS) / x86_64  OK    OK    OK  UNNEEDED, same version is already published
tokay2Windows Server 2012 R2 Standard / x64  OK    OK    OK    OK  UNNEEDED, same version is already published
machv2macOS 10.14.6 Mojave / x86_64  OK    OK    OK    OK  UNNEEDED, same version is already published
Package 61/167HostnameOS / ArchINSTALLBUILDCHECKBUILD BIN
FindIT2 1.0.2  (landing page)
Guandong Shang
git_last_commit: af8aa7b
git_last_commit_date: 2021-11-23 08:01:16 -0500
nebbiolo2Linux (Ubuntu 20.04.3 LTS) / x86_64  OK    OK    OK  UNNEEDED, same version is already published
tokay2Windows Server 2012 R2 Standard / x64  OK    OK    OK    OK  UNNEEDED, same version is already published
machv2macOS 10.14.6 Mojave / x86_64  OK    OK    OK    OK  UNNEEDED, same version is already published
Package 62/167HostnameOS / ArchINSTALLBUILDCHECKBUILD BIN
genbankr 1.22.0  (landing page)
Gabriel Becker
git_last_commit: be3c635
git_last_commit_date: 2021-10-26 12:27:18 -0500
nebbiolo2Linux (Ubuntu 20.04.3 LTS) / x86_64  OK    OK    OK  UNNEEDED, same version is already published
tokay2Windows Server 2012 R2 Standard / x64  OK    OK    OK    OK  UNNEEDED, same version is already published
machv2macOS 10.14.6 Mojave / x86_64  OK    OK    OK    OK  UNNEEDED, same version is already published
Package 63/167HostnameOS / ArchINSTALLBUILDCHECKBUILD BIN
geneAttribution 1.20.0  (landing page)
Arthur Wuster
git_last_commit: 57613fe
git_last_commit_date: 2021-10-26 12:29:48 -0500
nebbiolo2Linux (Ubuntu 20.04.3 LTS) / x86_64  OK    OK    OK  UNNEEDED, same version is already published
tokay2Windows Server 2012 R2 Standard / x64  OK    OK    OK    OK  UNNEEDED, same version is already published
machv2macOS 10.14.6 Mojave / x86_64  OK    OK    OK    OK  UNNEEDED, same version is already published
Package 64/167HostnameOS / ArchINSTALLBUILDCHECKBUILD BIN
GeneStructureTools 1.14.0  (landing page)
Beth Signal
git_last_commit: 2d82a8c
git_last_commit_date: 2021-10-26 12:42:28 -0500
nebbiolo2Linux (Ubuntu 20.04.3 LTS) / x86_64  OK    OK    OK  UNNEEDED, same version is already published
tokay2Windows Server 2012 R2 Standard / x64  OK    OK    OK    OK  UNNEEDED, same version is already published
machv2macOS 10.14.6 Mojave / x86_64  OK    OK    OK    OK  UNNEEDED, same version is already published
Package 65/167HostnameOS / ArchINSTALLBUILDCHECKBUILD BIN
geneXtendeR 1.20.0  (landing page)
Bohdan Khomtchouk
git_last_commit: 37a9c1c
git_last_commit_date: 2021-10-26 12:30:30 -0500
nebbiolo2Linux (Ubuntu 20.04.3 LTS) / x86_64  OK    OK    WARNINGS  UNNEEDED, same version is already published
tokay2Windows Server 2012 R2 Standard / x64  OK    OK    WARNINGS    OK  UNNEEDED, same version is already published
machv2macOS 10.14.6 Mojave / x86_64  OK    OK    WARNINGS    OK  UNNEEDED, same version is already published
Package 66/167HostnameOS / ArchINSTALLBUILDCHECKBUILD BIN
genomation 1.26.0  (landing page)
Altuna Akalin , Vedran Franke
git_last_commit: b2f8d07
git_last_commit_date: 2021-10-26 12:17:54 -0500
nebbiolo2Linux (Ubuntu 20.04.3 LTS) / x86_64  OK    OK    WARNINGS  UNNEEDED, same version is already published
tokay2Windows Server 2012 R2 Standard / x64  OK    OK    WARNINGS    OK  UNNEEDED, same version is already published
machv2macOS 10.14.6 Mojave / x86_64  OK    OK    WARNINGS    OK  UNNEEDED, same version is already published
Package 67/167HostnameOS / ArchINSTALLBUILDCHECKBUILD BIN
GenomicFeatures 1.46.1  (landing page)
Bioconductor Package Maintainer
git_last_commit: 81a3bd9
git_last_commit_date: 2021-10-26 16:46:33 -0500
nebbiolo2Linux (Ubuntu 20.04.3 LTS) / x86_64  OK    OK    WARNINGS  UNNEEDED, same version is already published
tokay2Windows Server 2012 R2 Standard / x64  OK    OK    WARNINGS    OK  UNNEEDED, same version is already published
machv2macOS 10.14.6 Mojave / x86_64  OK    OK    WARNINGS    OK  UNNEEDED, same version is already published
Package 68/167HostnameOS / ArchINSTALLBUILDCHECKBUILD BIN
GenomicFiles 1.30.0  (landing page)
Bioconductor Package Maintainer
git_last_commit: 6cde8a0
git_last_commit_date: 2021-10-26 12:13:21 -0500
nebbiolo2Linux (Ubuntu 20.04.3 LTS) / x86_64  OK    OK    OK  UNNEEDED, same version is already published
tokay2Windows Server 2012 R2 Standard / x64  OK    OK    OK    OK  UNNEEDED, same version is already published
machv2macOS 10.14.6 Mojave / x86_64  OK    OK    OK    OK  UNNEEDED, same version is already published
Package 69/167HostnameOS / ArchINSTALLBUILDCHECKBUILD BIN
GenomicInteractions 1.28.0  (landing page)
Liz Ing-Simmons
git_last_commit: a4e55c9
git_last_commit_date: 2021-10-26 12:16:08 -0500
nebbiolo2Linux (Ubuntu 20.04.3 LTS) / x86_64  OK    OK    OK  UNNEEDED, same version is already published
tokay2Windows Server 2012 R2 Standard / x64  OK    OK    OK    OK  UNNEEDED, same version is already published
machv2macOS 10.14.6 Mojave / x86_64  OK    OK    OK    OK  UNNEEDED, same version is already published
Package 70/167HostnameOS / ArchINSTALLBUILDCHECKBUILD BIN
genotypeeval 1.26.0  (landing page)
Jennifer Tom
git_last_commit: 14bef66
git_last_commit_date: 2021-10-26 12:21:35 -0500
nebbiolo2Linux (Ubuntu 20.04.3 LTS) / x86_64  OK    OK    WARNINGS  UNNEEDED, same version is already published
tokay2Windows Server 2012 R2 Standard / x64  OK    OK    WARNINGS    OK  UNNEEDED, same version is already published
machv2macOS 10.14.6 Mojave / x86_64  OK    OK    WARNINGS    OK  UNNEEDED, same version is already published
Package 71/167HostnameOS / ArchINSTALLBUILDCHECKBUILD BIN
ggbio 1.42.0  (landing page)
Michael Lawrence
git_last_commit: 3540047
git_last_commit_date: 2021-10-27 10:07:29 -0500
nebbiolo2Linux (Ubuntu 20.04.3 LTS) / x86_64  OK    OK    WARNINGS  UNNEEDED, same version is already published
tokay2Windows Server 2012 R2 Standard / x64  OK    OK    WARNINGS    OK  UNNEEDED, same version is already published
machv2macOS 10.14.6 Mojave / x86_64  OK    OK    WARNINGS    OK  UNNEEDED, same version is already published
Package 72/167HostnameOS / ArchINSTALLBUILDCHECKBUILD BIN
gmapR 1.36.0  (landing page)
Michael Lawrence
git_last_commit: 1e9cf9a
git_last_commit_date: 2021-10-26 12:03:53 -0500
nebbiolo2Linux (Ubuntu 20.04.3 LTS) / x86_64  OK    OK    WARNINGS  UNNEEDED, same version is already published
tokay2Windows Server 2012 R2 Standard / x64... NOT SUPPORTED ...
machv2macOS 10.14.6 Mojave / x86_64  OK    OK    WARNINGS    OK  UNNEEDED, same version is already published
Package 73/167HostnameOS / ArchINSTALLBUILDCHECKBUILD BIN
gmoviz 1.6.0  (landing page)
Kathleen Zeglinski
git_last_commit: 22e8f55
git_last_commit_date: 2021-10-26 12:58:11 -0500
nebbiolo2Linux (Ubuntu 20.04.3 LTS) / x86_64  OK    OK    OK  UNNEEDED, same version is already published
tokay2Windows Server 2012 R2 Standard / x64  OK    OK    OK    OK  UNNEEDED, same version is already published
machv2macOS 10.14.6 Mojave / x86_64  OK    OK    OK    OK  UNNEEDED, same version is already published
Package 74/167HostnameOS / ArchINSTALLBUILDCHECKBUILD BIN
GOTHiC 1.30.0  (landing page)
Borbala Mifsud
git_last_commit: a2e9c22
git_last_commit_date: 2021-10-26 12:52:52 -0500
nebbiolo2Linux (Ubuntu 20.04.3 LTS) / x86_64  OK    OK    OK  UNNEEDED, same version is already published
tokay2Windows Server 2012 R2 Standard / x64  OK    OK    OK    OK  UNNEEDED, same version is already published
machv2macOS 10.14.6 Mojave / x86_64  OK    OK    OK    OK  UNNEEDED, same version is already published
Package 75/167HostnameOS / ArchINSTALLBUILDCHECKBUILD BIN
GreyListChIP 1.26.0  (landing page)
Gordon Brown
git_last_commit: 51b06d0
git_last_commit_date: 2021-10-26 12:18:40 -0500
nebbiolo2Linux (Ubuntu 20.04.3 LTS) / x86_64  OK    OK    OK  UNNEEDED, same version is already published
tokay2Windows Server 2012 R2 Standard / x64  OK    OK    OK    OK  UNNEEDED, same version is already published
machv2macOS 10.14.6 Mojave / x86_64  OK    OK    OK    OK  UNNEEDED, same version is already published
Package 76/167HostnameOS / ArchINSTALLBUILDCHECKBUILD BIN
groHMM 1.28.0  (landing page)
Anusha Nagari , Tulip Nandu , W. Lee Kraus
git_last_commit: 6432fd9
git_last_commit_date: 2021-10-26 12:17:11 -0500
nebbiolo2Linux (Ubuntu 20.04.3 LTS) / x86_64  OK    OK    OK  UNNEEDED, same version is already published
tokay2Windows Server 2012 R2 Standard / x64  OK    OK    OK    OK  UNNEEDED, same version is already published
machv2macOS 10.14.6 Mojave / x86_64  OK    OK    OK    OK  UNNEEDED, same version is already published
Package 77/167HostnameOS / ArchINSTALLBUILDCHECKBUILD BIN
Guitar 2.10.0  (landing page)
Jia Meng
git_last_commit: cbc4814
git_last_commit_date: 2021-10-26 12:22:48 -0500
nebbiolo2Linux (Ubuntu 20.04.3 LTS) / x86_64  OK    OK    OK  UNNEEDED, same version is already published
tokay2Windows Server 2012 R2 Standard / x64  OK    OK    OK    OK  UNNEEDED, same version is already published
machv2macOS 10.14.6 Mojave / x86_64  OK    OK    OK    OK  UNNEEDED, same version is already published
Package 78/167HostnameOS / ArchINSTALLBUILDCHECKBUILD BIN
Gviz 1.38.0  (landing page)
Robert Ivanek
git_last_commit: 2091331
git_last_commit_date: 2021-10-26 12:02:00 -0500
nebbiolo2Linux (Ubuntu 20.04.3 LTS) / x86_64  OK    OK    OK  UNNEEDED, same version is already published
tokay2Windows Server 2012 R2 Standard / x64  OK    OK    OK    OK  UNNEEDED, same version is already published
machv2macOS 10.14.6 Mojave / x86_64  OK    OK    OK    OK  UNNEEDED, same version is already published
Package 79/167HostnameOS / ArchINSTALLBUILDCHECKBUILD BIN
HelloRanges 1.20.0  (landing page)
Michael Lawrence
git_last_commit: 5f4a86d
git_last_commit_date: 2021-10-26 12:30:55 -0500
nebbiolo2Linux (Ubuntu 20.04.3 LTS) / x86_64  OK    OK    WARNINGS  UNNEEDED, same version is already published
tokay2Windows Server 2012 R2 Standard / x64  OK    OK    WARNINGS    OK  UNNEEDED, same version is already published
machv2macOS 10.14.6 Mojave / x86_64  OK    OK    WARNINGS    OK  UNNEEDED, same version is already published
Package 80/167HostnameOS / ArchINSTALLBUILDCHECKBUILD BIN
hiAnnotator 1.28.0  (landing page)
Nirav V Malani
git_last_commit: ac0785b
git_last_commit_date: 2021-10-26 12:13:40 -0500
nebbiolo2Linux (Ubuntu 20.04.3 LTS) / x86_64  OK    OK    OK  UNNEEDED, same version is already published
tokay2Windows Server 2012 R2 Standard / x64  OK    OK    OK    OK  UNNEEDED, same version is already published
machv2macOS 10.14.6 Mojave / x86_64  OK    OK    OK    OK  UNNEEDED, same version is already published
Package 81/167HostnameOS / ArchINSTALLBUILDCHECKBUILD BIN
HiCDCPlus 1.2.0  (landing page)
Merve Sahin
git_last_commit: d706a7e
git_last_commit_date: 2021-10-26 13:07:04 -0500
nebbiolo2Linux (Ubuntu 20.04.3 LTS) / x86_64  OK    OK    OK  UNNEEDED, same version is already published
tokay2Windows Server 2012 R2 Standard / x64  OK    ERROR  skippedskipped
machv2macOS 10.14.6 Mojave / x86_64  OK    OK    OK    OK  UNNEEDED, same version is already published
Package 82/167HostnameOS / ArchINSTALLBUILDCHECKBUILD BIN
HiTC 1.38.0  (landing page)
Nicolas Servant
git_last_commit: 2b50c43
git_last_commit_date: 2021-10-26 12:02:53 -0500
nebbiolo2Linux (Ubuntu 20.04.3 LTS) / x86_64  OK    OK    OK  UNNEEDED, same version is already published
tokay2Windows Server 2012 R2 Standard / x64  OK    OK    OK    OK  UNNEEDED, same version is already published
machv2macOS 10.14.6 Mojave / x86_64  OK    OK    OK    OK  UNNEEDED, same version is already published
Package 83/167HostnameOS / ArchINSTALLBUILDCHECKBUILD BIN
HTSeqGenie 4.24.0  (landing page)
Jens Reeder
git_last_commit: eb291fb
git_last_commit_date: 2021-10-26 12:05:03 -0500
nebbiolo2Linux (Ubuntu 20.04.3 LTS) / x86_64  OK    OK    OK  UNNEEDED, same version is already published
tokay2Windows Server 2012 R2 Standard / x64... NOT SUPPORTED ...
machv2macOS 10.14.6 Mojave / x86_64... NOT SUPPORTED ...
Package 84/167HostnameOS / ArchINSTALLBUILDCHECKBUILD BIN
icetea 1.12.0  (landing page)
Vivek Bhardwaj
git_last_commit: 133907b
git_last_commit_date: 2021-10-26 12:45:19 -0500
nebbiolo2Linux (Ubuntu 20.04.3 LTS) / x86_64  OK    OK    OK  UNNEEDED, same version is already published
tokay2Windows Server 2012 R2 Standard / x64  OK    OK    OK    OK  UNNEEDED, same version is already published
machv2macOS 10.14.6 Mojave / x86_64  OK    OK    OK    OK  UNNEEDED, same version is already published
Package 85/167HostnameOS / ArchINSTALLBUILDCHECKBUILD BIN
IdeoViz 1.30.0  (landing page)
Shraddha Pai
git_last_commit: dbdef2a
git_last_commit_date: 2021-10-26 12:16:32 -0500
nebbiolo2Linux (Ubuntu 20.04.3 LTS) / x86_64  OK    OK    WARNINGS  UNNEEDED, same version is already published
tokay2Windows Server 2012 R2 Standard / x64  OK    OK    WARNINGS    OK  UNNEEDED, same version is already published
machv2macOS 10.14.6 Mojave / x86_64  OK    OK    WARNINGS    OK  UNNEEDED, same version is already published
Package 86/167HostnameOS / ArchINSTALLBUILDCHECKBUILD BIN
igvR 1.14.0  (landing page)
Paul Shannon
git_last_commit: 2d7b52a
git_last_commit_date: 2021-10-26 12:44:17 -0500
nebbiolo2Linux (Ubuntu 20.04.3 LTS) / x86_64  OK    OK    WARNINGS  UNNEEDED, same version is already published
tokay2Windows Server 2012 R2 Standard / x64  OK    OK    WARNINGS    OK  UNNEEDED, same version is already published
machv2macOS 10.14.6 Mojave / x86_64  OK    OK    WARNINGS    OK  UNNEEDED, same version is already published
Package 87/167HostnameOS / ArchINSTALLBUILDCHECKBUILD BIN
INSPEcT 1.24.0  (landing page)
Stefano de Pretis
git_last_commit: ed551fb
git_last_commit_date: 2021-10-26 12:21:19 -0500
nebbiolo2Linux (Ubuntu 20.04.3 LTS) / x86_64  OK    OK    OK  UNNEEDED, same version is already published
tokay2Windows Server 2012 R2 Standard / x64  OK    OK    OK    OK  UNNEEDED, same version is already published
machv2macOS 10.14.6 Mojave / x86_64  OK    OK    OK    OK  UNNEEDED, same version is already published
Package 88/167HostnameOS / ArchINSTALLBUILDCHECKBUILD BIN
InTAD 1.14.0  (landing page)
Konstantin Okonechnikov
git_last_commit: 25795d0
git_last_commit_date: 2021-10-26 12:43:48 -0500
nebbiolo2Linux (Ubuntu 20.04.3 LTS) / x86_64  OK    OK    OK  UNNEEDED, same version is already published
tokay2Windows Server 2012 R2 Standard / x64  OK    OK    OK    OK  UNNEEDED, same version is already published
machv2macOS 10.14.6 Mojave / x86_64  OK    OK    OK    OK  UNNEEDED, same version is already published
Package 89/167HostnameOS / ArchINSTALLBUILDCHECKBUILD BIN
IsoformSwitchAnalyzeR 1.16.0  (landing page)
Kristoffer Vitting-Seerup
git_last_commit: 5eb5b2b
git_last_commit_date: 2021-10-26 12:35:46 -0500
nebbiolo2Linux (Ubuntu 20.04.3 LTS) / x86_64  OK    OK    OK  UNNEEDED, same version is already published
tokay2Windows Server 2012 R2 Standard / x64  OK    OK    OK    OK  UNNEEDED, same version is already published
machv2macOS 10.14.6 Mojave / x86_64  OK    OK    OK    OK  UNNEEDED, same version is already published
Package 90/167HostnameOS / ArchINSTALLBUILDCHECKBUILD BIN
karyoploteR 1.20.0  (landing page)
Bernat Gel
git_last_commit: e209974
git_last_commit_date: 2021-10-26 12:32:46 -0500
nebbiolo2Linux (Ubuntu 20.04.3 LTS) / x86_64  OK    OK    ERROR  
tokay2Windows Server 2012 R2 Standard / x64  OK    OK    ERROR    OK  
machv2macOS 10.14.6 Mojave / x86_64  OK    OK    ERROR    OK  
Package 91/167HostnameOS / ArchINSTALLBUILDCHECKBUILD BIN
m6Aboost 1.0.0  (landing page)
You Zhou
git_last_commit: 07140d0
git_last_commit_date: 2021-10-26 13:10:46 -0500
nebbiolo2Linux (Ubuntu 20.04.3 LTS) / x86_64  OK    OK    OK  UNNEEDED, same version is already published
tokay2Windows Server 2012 R2 Standard / x64  OK    OK    OK    OK  UNNEEDED, same version is already published
machv2macOS 10.14.6 Mojave / x86_64  OK    OK    OK    OK  UNNEEDED, same version is already published
Package 92/167HostnameOS / ArchINSTALLBUILDCHECKBUILD BIN
MACPET 1.14.0  (landing page)
Ioannis Vardaxis
git_last_commit: d1b9a5c
git_last_commit_date: 2021-10-26 12:41:58 -0500
nebbiolo2Linux (Ubuntu 20.04.3 LTS) / x86_64  OK    OK    OK  UNNEEDED, same version is already published
tokay2Windows Server 2012 R2 Standard / x64  OK    OK    OK    OK  UNNEEDED, same version is already published
machv2macOS 10.14.6 Mojave / x86_64  OK    OK    OK    OK  UNNEEDED, same version is already published
Package 93/167HostnameOS / ArchINSTALLBUILDCHECKBUILD BIN
MADSEQ 1.20.0  (landing page)
Yu Kong
git_last_commit: 2665662
git_last_commit_date: 2021-10-26 12:28:19 -0500
nebbiolo2Linux (Ubuntu 20.04.3 LTS) / x86_64  OK    OK    OK  UNNEEDED, same version is already published
tokay2Windows Server 2012 R2 Standard / x64  OK    OK    OK    OK  UNNEEDED, same version is already published
machv2macOS 10.14.6 Mojave / x86_64  OK    OK    OK    OK  UNNEEDED, same version is already published
Package 94/167HostnameOS / ArchINSTALLBUILDCHECKBUILD BIN
maser 1.12.0  (landing page)
Diogo F.T. Veiga
git_last_commit: 254cfbe
git_last_commit_date: 2021-10-26 12:45:00 -0500
nebbiolo2Linux (Ubuntu 20.04.3 LTS) / x86_64  OK    ERROR  skipped
tokay2Windows Server 2012 R2 Standard / x64  OK    ERROR  skippedskipped
machv2macOS 10.14.6 Mojave / x86_64  OK    ERROR  skippedskipped
Package 95/167HostnameOS / ArchINSTALLBUILDCHECKBUILD BIN
MEDIPS 1.46.0  (landing page)
Lukas Chavez
git_last_commit: 9d2b4a5
git_last_commit_date: 2021-10-26 11:57:30 -0500
nebbiolo2Linux (Ubuntu 20.04.3 LTS) / x86_64  OK    OK    OK  UNNEEDED, same version is already published
tokay2Windows Server 2012 R2 Standard / x64  OK    OK    OK    OK  UNNEEDED, same version is already published
machv2macOS 10.14.6 Mojave / x86_64  OK    OK    OK    OK  UNNEEDED, same version is already published
Package 96/167HostnameOS / ArchINSTALLBUILDCHECKBUILD BIN
metagene 2.26.0  (landing page)
Charles Joly Beauparlant
git_last_commit: a09472f
git_last_commit_date: 2021-10-26 12:15:06 -0500
nebbiolo2Linux (Ubuntu 20.04.3 LTS) / x86_64  OK    OK    OK  UNNEEDED, same version is already published
tokay2Windows Server 2012 R2 Standard / x64  OK    OK    OK    OK  UNNEEDED, same version is already published
machv2macOS 10.14.6 Mojave / x86_64  OK    OK    OK    OK  UNNEEDED, same version is already published
Package 97/167HostnameOS / ArchINSTALLBUILDCHECKBUILD BIN
metagene2 1.10.0  (landing page)
Eric Fournier
git_last_commit: f703798
git_last_commit_date: 2021-10-26 12:51:50 -0500
nebbiolo2Linux (Ubuntu 20.04.3 LTS) / x86_64  OK    OK    OK  UNNEEDED, same version is already published
tokay2Windows Server 2012 R2 Standard / x64  OK    OK    OK    OK  UNNEEDED, same version is already published
machv2macOS 10.14.6 Mojave / x86_64  OK    OK    OK    OK  UNNEEDED, same version is already published
Package 98/167HostnameOS / ArchINSTALLBUILDCHECKBUILD BIN
metaseqR2 1.6.1  (landing page)
Panagiotis Moulos
git_last_commit: a87443a
git_last_commit_date: 2021-11-26 09:16:15 -0500
nebbiolo2Linux (Ubuntu 20.04.3 LTS) / x86_64  OK    OK    OK  UNNEEDED, same version is already published
tokay2Windows Server 2012 R2 Standard / x64  OK    OK    OK    OK  UNNEEDED, same version is already published
machv2macOS 10.14.6 Mojave / x86_64  OK    OK    OK    OK  UNNEEDED, same version is already published
Package 99/167HostnameOS / ArchINSTALLBUILDCHECKBUILD BIN
methrix 1.8.0  (landing page)
Anand Mayakonda
git_last_commit: 19065b7
git_last_commit_date: 2021-10-26 12:55:50 -0500
nebbiolo2Linux (Ubuntu 20.04.3 LTS) / x86_64  OK    OK    OK  UNNEEDED, same version is already published
tokay2Windows Server 2012 R2 Standard / x64  OK    OK    OK    OK  UNNEEDED, same version is already published
machv2macOS 10.14.6 Mojave / x86_64  OK    OK    OK    OK  UNNEEDED, same version is already published
Package 100/167HostnameOS / ArchINSTALLBUILDCHECKBUILD BIN
methylKit 1.20.0  (landing page)
Altuna Akalin , Alexander Gosdschan
git_last_commit: a69c0a5
git_last_commit_date: 2021-10-26 12:29:01 -0500
nebbiolo2Linux (Ubuntu 20.04.3 LTS) / x86_64  OK    OK    WARNINGS  UNNEEDED, same version is already published
tokay2Windows Server 2012 R2 Standard / x64  OK    OK    WARNINGS    OK  UNNEEDED, same version is already published
machv2macOS 10.14.6 Mojave / x86_64  OK    OK    WARNINGS    OK  UNNEEDED, same version is already published
Package 101/167HostnameOS / ArchINSTALLBUILDCHECKBUILD BIN
MethylSeekR 1.34.0  (landing page)
Lukas Burger
git_last_commit: 6a74421
git_last_commit_date: 2021-10-26 12:06:33 -0500
nebbiolo2Linux (Ubuntu 20.04.3 LTS) / x86_64  OK    OK    OK  UNNEEDED, same version is already published
tokay2Windows Server 2012 R2 Standard / x64  OK    OK    OK    OK  UNNEEDED, same version is already published
machv2macOS 10.14.6 Mojave / x86_64  OK    OK    OK    OK  UNNEEDED, same version is already published
Package 102/167HostnameOS / ArchINSTALLBUILDCHECKBUILD BIN
motifbreakR 2.8.0  (landing page)
Simon Gert Coetzee
git_last_commit: 58931f1
git_last_commit_date: 2021-10-26 12:22:28 -0500
nebbiolo2Linux (Ubuntu 20.04.3 LTS) / x86_64  OK    OK    WARNINGS  UNNEEDED, same version is already published
tokay2Windows Server 2012 R2 Standard / x64  OK    OK    WARNINGS    OK  UNNEEDED, same version is already published
machv2macOS 10.14.6 Mojave / x86_64  OK    OK    WARNINGS    OK  UNNEEDED, same version is already published
Package 103/167HostnameOS / ArchINSTALLBUILDCHECKBUILD BIN
MotifDb 1.36.0  (landing page)
Paul Shannon
git_last_commit: 7e45029
git_last_commit_date: 2021-10-26 12:04:11 -0500
nebbiolo2Linux (Ubuntu 20.04.3 LTS) / x86_64  OK    OK    WARNINGS  UNNEEDED, same version is already published
tokay2Windows Server 2012 R2 Standard / x64  OK    OK    WARNINGS    OK  UNNEEDED, same version is already published
machv2macOS 10.14.6 Mojave / x86_64  OK    OK    WARNINGS    OK  UNNEEDED, same version is already published
Package 104/167HostnameOS / ArchINSTALLBUILDCHECKBUILD BIN
multicrispr 1.4.0  (landing page)
Aditya Bhagwat
git_last_commit: 8406aec
git_last_commit_date: 2021-10-26 13:00:15 -0500
nebbiolo2Linux (Ubuntu 20.04.3 LTS) / x86_64  OK    OK    OK  UNNEEDED, same version is already published
tokay2Windows Server 2012 R2 Standard / x64  OK    OK    OK    OK  UNNEEDED, same version is already published
machv2macOS 10.14.6 Mojave / x86_64  OK    OK    OK    OK  UNNEEDED, same version is already published
Package 105/167HostnameOS / ArchINSTALLBUILDCHECKBUILD BIN
MungeSumstats 1.2.0  (landing page)
Alan Murphy
git_last_commit: 27fb5d2
git_last_commit_date: 2021-10-26 13:08:48 -0500
nebbiolo2Linux (Ubuntu 20.04.3 LTS) / x86_64  OK    OK    OK  UNNEEDED, same version is already published
tokay2Windows Server 2012 R2 Standard / x64  OK    OK    OK    OK  UNNEEDED, same version is already published
machv2macOS 10.14.6 Mojave / x86_64  OK    OK    OK    OK  UNNEEDED, same version is already published
Package 106/167HostnameOS / ArchINSTALLBUILDCHECKBUILD BIN
NADfinder 1.18.0  (landing page)
Jianhong Ou
git_last_commit: 6f8cb3d
git_last_commit_date: 2021-10-26 12:34:20 -0500
nebbiolo2Linux (Ubuntu 20.04.3 LTS) / x86_64  OK    OK    OK  UNNEEDED, same version is already published
tokay2Windows Server 2012 R2 Standard / x64  OK    OK    OK    OK  UNNEEDED, same version is already published
machv2macOS 10.14.6 Mojave / x86_64  OK    OK    OK    OK  UNNEEDED, same version is already published
Package 107/167HostnameOS / ArchINSTALLBUILDCHECKBUILD BIN
nearBynding 1.4.0  (landing page)
Veronica Busa
git_last_commit: 8fe94e0
git_last_commit_date: 2021-10-26 13:02:45 -0500
nebbiolo2Linux (Ubuntu 20.04.3 LTS) / x86_64  OK    OK    OK  UNNEEDED, same version is already published
tokay2Windows Server 2012 R2 Standard / x64  OK    OK    OK    OK  UNNEEDED, same version is already published
machv2macOS 10.14.6 Mojave / x86_64  OK    OK    OK    OK  UNNEEDED, same version is already published
Package 108/167HostnameOS / ArchINSTALLBUILDCHECKBUILD BIN
NoRCE 1.6.0  (landing page)
Gulden Olgun
git_last_commit: b9eb356
git_last_commit_date: 2021-10-26 12:58:02 -0500
nebbiolo2Linux (Ubuntu 20.04.3 LTS) / x86_64  OK    OK    OK  UNNEEDED, same version is already published
tokay2Windows Server 2012 R2 Standard / x64  OK    OK    ERROR    OK  
machv2macOS 10.14.6 Mojave / x86_64  OK    OK    OK    OK  UNNEEDED, same version is already published
Package 109/167HostnameOS / ArchINSTALLBUILDCHECKBUILD BIN
normr 1.20.0  (landing page)
Johannes Helmuth
git_last_commit: 048cdd3
git_last_commit_date: 2021-10-26 12:28:39 -0500
nebbiolo2Linux (Ubuntu 20.04.3 LTS) / x86_64  OK    OK    OK  UNNEEDED, same version is already published
tokay2Windows Server 2012 R2 Standard / x64  OK    OK    WARNINGS    OK  UNNEEDED, same version is already published
machv2macOS 10.14.6 Mojave / x86_64  OK    OK    OK    OK  UNNEEDED, same version is already published
Package 110/167HostnameOS / ArchINSTALLBUILDCHECKBUILD BIN
NxtIRFcore 1.0.0  (landing page)
Alex Chit Hei Wong
git_last_commit: 933ccae
git_last_commit_date: 2021-10-26 13:13:51 -0500
nebbiolo2Linux (Ubuntu 20.04.3 LTS) / x86_64  OK    OK    OK  UNNEEDED, same version is already published
tokay2Windows Server 2012 R2 Standard / x64  OK    OK    OK    OK  UNNEEDED, same version is already published
machv2macOS 10.14.6 Mojave / x86_64  OK    OK    OK    OK  UNNEEDED, same version is already published
Package 111/167HostnameOS / ArchINSTALLBUILDCHECKBUILD BIN
ODER 1.0.0  (landing page)
David Zhang
git_last_commit: 53a24c4
git_last_commit_date: 2021-10-26 13:13:04 -0500
nebbiolo2Linux (Ubuntu 20.04.3 LTS) / x86_64  OK    OK    OK  UNNEEDED, same version is already published
tokay2Windows Server 2012 R2 Standard / x64  OK    OK    OK    OK  UNNEEDED, same version is already published
machv2macOS 10.14.6 Mojave / x86_64  OK    OK    OK    OK  UNNEEDED, same version is already published
Package 112/167HostnameOS / ArchINSTALLBUILDCHECKBUILD BIN
OMICsPCA 1.12.0  (landing page)
Subhadeep Das
git_last_commit: 5161764
git_last_commit_date: 2021-10-26 12:47:05 -0500
nebbiolo2Linux (Ubuntu 20.04.3 LTS) / x86_64  OK    OK    OK  UNNEEDED, same version is already published
tokay2Windows Server 2012 R2 Standard / x64  OK    OK    OK    OK  UNNEEDED, same version is already published
machv2macOS 10.14.6 Mojave / x86_64  OK    OK    OK    OK  UNNEEDED, same version is already published
Package 113/167HostnameOS / ArchINSTALLBUILDCHECKBUILD BIN
ORFhunteR 1.2.0  (landing page)
Vasily V. Grinev
git_last_commit: f091ec7
git_last_commit_date: 2021-10-26 13:06:38 -0500
nebbiolo2Linux (Ubuntu 20.04.3 LTS) / x86_64  OK    OK    OK  UNNEEDED, same version is already published
tokay2Windows Server 2012 R2 Standard / x64  OK    OK    OK    OK  UNNEEDED, same version is already published
machv2macOS 10.14.6 Mojave / x86_64  OK    OK    OK    OK  UNNEEDED, same version is already published
Package 114/167HostnameOS / ArchINSTALLBUILDCHECKBUILD BIN
ORFik 1.14.5  (landing page)
Haakon Tjeldnes
git_last_commit: cdc337c
git_last_commit_date: 2021-11-04 04:48:24 -0500
nebbiolo2Linux (Ubuntu 20.04.3 LTS) / x86_64  OK    OK    OK  UNNEEDED, same version is already published
tokay2Windows Server 2012 R2 Standard / x64  OK    ERROR  skippedskipped
machv2macOS 10.14.6 Mojave / x86_64  OK    OK    OK    OK  UNNEEDED, same version is already published
Package 115/167HostnameOS / ArchINSTALLBUILDCHECKBUILD BIN
PAST 1.10.0  (landing page)
Thrash Adam
git_last_commit: bf2a213
git_last_commit_date: 2021-10-26 12:52:12 -0500
nebbiolo2Linux (Ubuntu 20.04.3 LTS) / x86_64  OK    OK    WARNINGS  UNNEEDED, same version is already published
tokay2Windows Server 2012 R2 Standard / x64  OK    OK    WARNINGS    OK  UNNEEDED, same version is already published
machv2macOS 10.14.6 Mojave / x86_64  OK    OK    WARNINGS    OK  UNNEEDED, same version is already published
Package 116/167HostnameOS / ArchINSTALLBUILDCHECKBUILD BIN
periodicDNA 1.4.0  (landing page)
Jacques Serizay
git_last_commit: 9944cc9
git_last_commit_date: 2021-10-26 13:02:25 -0500
nebbiolo2Linux (Ubuntu 20.04.3 LTS) / x86_64  OK    OK    OK  UNNEEDED, same version is already published
tokay2Windows Server 2012 R2 Standard / x64  OK    OK    OK    OK  UNNEEDED, same version is already published
machv2macOS 10.14.6 Mojave / x86_64  OK    OK    OK    OK  UNNEEDED, same version is already published
Package 117/167HostnameOS / ArchINSTALLBUILDCHECKBUILD BIN
plyranges 1.14.0  (landing page)
Stuart Lee
git_last_commit: eb60114
git_last_commit_date: 2021-10-26 12:43:21 -0500
nebbiolo2Linux (Ubuntu 20.04.3 LTS) / x86_64  OK    OK    OK  UNNEEDED, same version is already published
tokay2Windows Server 2012 R2 Standard / x64  OK    OK    OK    OK  UNNEEDED, same version is already published
machv2macOS 10.14.6 Mojave / x86_64  OK    OK    OK    OK  UNNEEDED, same version is already published
Package 118/167HostnameOS / ArchINSTALLBUILDCHECKBUILD BIN
pram 1.10.0  (landing page)
Peng Liu
git_last_commit: 65986cf
git_last_commit_date: 2021-10-26 12:50:01 -0500
nebbiolo2Linux (Ubuntu 20.04.3 LTS) / x86_64  OK    OK    OK  UNNEEDED, same version is already published
tokay2Windows Server 2012 R2 Standard / x64  OK    OK    OK    OK  UNNEEDED, same version is already published
machv2macOS 10.14.6 Mojave / x86_64  OK    OK    OK    OK  UNNEEDED, same version is already published
Package 119/167HostnameOS / ArchINSTALLBUILDCHECKBUILD BIN
primirTSS 1.12.0  (landing page)
Pumin Li
git_last_commit: fdc79dc
git_last_commit_date: 2021-10-26 12:46:37 -0500
nebbiolo2Linux (Ubuntu 20.04.3 LTS) / x86_64  OK    OK    WARNINGS  UNNEEDED, same version is already published
tokay2Windows Server 2012 R2 Standard / x64  OK    OK    WARNINGS    OK  UNNEEDED, same version is already published
machv2macOS 10.14.6 Mojave / x86_64  OK    OK    WARNINGS    OK  UNNEEDED, same version is already published
Package 120/167HostnameOS / ArchINSTALLBUILDCHECKBUILD BIN
proBAMr 1.28.0  (landing page)
Xiaojing Wang
git_last_commit: f72b73a
git_last_commit_date: 2021-10-26 12:16:35 -0500
nebbiolo2Linux (Ubuntu 20.04.3 LTS) / x86_64  OK    OK    OK  UNNEEDED, same version is already published
tokay2Windows Server 2012 R2 Standard / x64  OK    OK    OK    OK  UNNEEDED, same version is already published
machv2macOS 10.14.6 Mojave / x86_64  OK    OK    OK    OK  UNNEEDED, same version is already published
Package 121/167HostnameOS / ArchINSTALLBUILDCHECKBUILD BIN
profileplyr 1.10.0  (landing page)
Tom Carroll , Doug Barrows
git_last_commit: 28094e4
git_last_commit_date: 2021-10-26 12:50:53 -0500
nebbiolo2Linux (Ubuntu 20.04.3 LTS) / x86_64  OK    OK    OK  UNNEEDED, same version is already published
tokay2Windows Server 2012 R2 Standard / x64  OK    OK    OK    OK  UNNEEDED, same version is already published
machv2macOS 10.14.6 Mojave / x86_64  OK    OK    OK    OK  UNNEEDED, same version is already published
Package 122/167HostnameOS / ArchINSTALLBUILDCHECKBUILD BIN
PureCN 2.0.1  (landing page)
Markus Riester
git_last_commit: 4e75402
git_last_commit_date: 2021-10-29 15:49:08 -0500
nebbiolo2Linux (Ubuntu 20.04.3 LTS) / x86_64  OK    OK    OK  UNNEEDED, same version is already published
tokay2Windows Server 2012 R2 Standard / x64  OK    OK    OK    OK  UNNEEDED, same version is already published
machv2macOS 10.14.6 Mojave / x86_64  OK    OK    OK    OK  UNNEEDED, same version is already published
Package 123/167HostnameOS / ArchINSTALLBUILDCHECKBUILD BIN
qsea 1.20.0  (landing page)
Matthias Lienhard
git_last_commit: ef9f9f7
git_last_commit_date: 2021-10-26 12:28:44 -0500
nebbiolo2Linux (Ubuntu 20.04.3 LTS) / x86_64  OK    OK    OK  UNNEEDED, same version is already published
tokay2Windows Server 2012 R2 Standard / x64  OK    OK    OK    OK  UNNEEDED, same version is already published
machv2macOS 10.14.6 Mojave / x86_64  OK    OK    OK    OK  UNNEEDED, same version is already published
Package 124/167HostnameOS / ArchINSTALLBUILDCHECKBUILD BIN
QuasR 1.34.0  (landing page)
Michael Stadler
git_last_commit: d22d4ad
git_last_commit_date: 2021-10-26 12:06:13 -0500
nebbiolo2Linux (Ubuntu 20.04.3 LTS) / x86_64  OK    OK    OK  UNNEEDED, same version is already published
tokay2Windows Server 2012 R2 Standard / x64  OK    OK    OK    OK  UNNEEDED, same version is already published
machv2macOS 10.14.6 Mojave / x86_64  OK    OK    OK    OK  UNNEEDED, same version is already published
Package 125/167HostnameOS / ArchINSTALLBUILDCHECKBUILD BIN
r3Cseq 1.40.0  (landing page)
Supat Thongjuea or
git_last_commit: 4ade9b7
git_last_commit_date: 2021-10-26 12:00:54 -0500
nebbiolo2Linux (Ubuntu 20.04.3 LTS) / x86_64  OK    OK    OK  UNNEEDED, same version is already published
tokay2Windows Server 2012 R2 Standard / x64  OK    OK    OK    OK  UNNEEDED, same version is already published
machv2macOS 10.14.6 Mojave / x86_64  OK    OK    OK    OK  UNNEEDED, same version is already published
Package 126/167HostnameOS / ArchINSTALLBUILDCHECKBUILD BIN
RCAS 1.20.0  (landing page)
Bora Uyar
git_last_commit: 1d023c7
git_last_commit_date: 2021-10-26 12:29:09 -0500
nebbiolo2Linux (Ubuntu 20.04.3 LTS) / x86_64  OK    OK    OK  UNNEEDED, same version is already published
tokay2Windows Server 2012 R2 Standard / x64  OK    OK    OK    OK  UNNEEDED, same version is already published
machv2macOS 10.14.6 Mojave / x86_64  OK    OK    OK    OK  UNNEEDED, same version is already published
Package 127/167HostnameOS / ArchINSTALLBUILDCHECKBUILD BIN
recount 1.20.0  (landing page)
Leonardo Collado-Torres
git_last_commit: 4ea2090
git_last_commit_date: 2021-11-22 17:30:01 -0500
nebbiolo2Linux (Ubuntu 20.04.3 LTS) / x86_64  OK    OK    OK  UNNEEDED, same version is already published
tokay2Windows Server 2012 R2 Standard / x64  OK    OK    OK    OK  UNNEEDED, same version is already published
machv2macOS 10.14.6 Mojave / x86_64  OK    OK    OK    OK  UNNEEDED, same version is already published
Package 128/167HostnameOS / ArchINSTALLBUILDCHECKBUILD BIN
recount3 1.4.0  (landing page)
Leonardo Collado-Torres
git_last_commit: e4612a2
git_last_commit_date: 2021-10-26 13:03:44 -0500
nebbiolo2Linux (Ubuntu 20.04.3 LTS) / x86_64  OK    OK    OK  UNNEEDED, same version is already published
tokay2Windows Server 2012 R2 Standard / x64  OK    OK    OK    OK  UNNEEDED, same version is already published
machv2macOS 10.14.6 Mojave / x86_64  OK    OK    OK    OK  UNNEEDED, same version is already published
Package 129/167HostnameOS / ArchINSTALLBUILDCHECKBUILD BIN
recoup 1.22.0  (landing page)
Panagiotis Moulos
git_last_commit: 3eb0470
git_last_commit_date: 2021-10-26 12:26:32 -0500
nebbiolo2Linux (Ubuntu 20.04.3 LTS) / x86_64  OK    OK    OK  UNNEEDED, same version is already published
tokay2Windows Server 2012 R2 Standard / x64  OK    OK    OK    OK  UNNEEDED, same version is already published
machv2macOS 10.14.6 Mojave / x86_64  OK    OK    OK    OK  UNNEEDED, same version is already published
Package 130/167HostnameOS / ArchINSTALLBUILDCHECKBUILD BIN
regioneR 1.26.0  (landing page)
Bernat Gel
git_last_commit: 8fd581a
git_last_commit_date: 2021-10-26 12:19:44 -0500
nebbiolo2Linux (Ubuntu 20.04.3 LTS) / x86_64  OK    ERROR  skipped
tokay2Windows Server 2012 R2 Standard / x64  OK    ERROR  skippedskipped
machv2macOS 10.14.6 Mojave / x86_64  OK    ERROR  skippedskipped
Package 131/167HostnameOS / ArchINSTALLBUILDCHECKBUILD BIN
REMP 1.18.0  (landing page)
Yinan Zheng
git_last_commit: 3164bd7
git_last_commit_date: 2021-10-26 12:32:57 -0500
nebbiolo2Linux (Ubuntu 20.04.3 LTS) / x86_64  OK    OK    OK  UNNEEDED, same version is already published
tokay2Windows Server 2012 R2 Standard / x64  OK    OK    OK    OK  UNNEEDED, same version is already published
machv2macOS 10.14.6 Mojave / x86_64  OK    OK    OK    OK  UNNEEDED, same version is already published
Package 132/167HostnameOS / ArchINSTALLBUILDCHECKBUILD BIN
Repitools 1.40.0  (landing page)
Mark Robinson
git_last_commit: 6f54c77
git_last_commit_date: 2021-10-26 11:59:33 -0500
nebbiolo2Linux (Ubuntu 20.04.3 LTS) / x86_64  OK    OK    OK  UNNEEDED, same version is already published
tokay2Windows Server 2012 R2 Standard / x64  OK    OK    OK    OK  UNNEEDED, same version is already published
machv2macOS 10.14.6 Mojave / x86_64  OK    OK    OK    OK  UNNEEDED, same version is already published
Package 133/167HostnameOS / ArchINSTALLBUILDCHECKBUILD BIN
RGMQL 1.14.1  (landing page)
Simone Pallotta
git_last_commit: bfab815
git_last_commit_date: 2021-11-18 03:45:26 -0500
nebbiolo2Linux (Ubuntu 20.04.3 LTS) / x86_64  OK    OK    WARNINGS  UNNEEDED, same version is already published
tokay2Windows Server 2012 R2 Standard / x64  OK    OK    WARNINGS    OK  UNNEEDED, same version is already published
machv2macOS 10.14.6 Mojave / x86_64... NOT SUPPORTED ...
Package 134/167HostnameOS / ArchINSTALLBUILDCHECKBUILD BIN
RiboProfiling 1.24.0  (landing page)
A. Popa
git_last_commit: 225f775
git_last_commit_date: 2021-10-26 12:23:25 -0500
nebbiolo2Linux (Ubuntu 20.04.3 LTS) / x86_64  OK    OK    WARNINGS  UNNEEDED, same version is already published
tokay2Windows Server 2012 R2 Standard / x64  OK    OK    WARNINGS    OK  UNNEEDED, same version is already published
machv2macOS 10.14.6 Mojave / x86_64  OK    OK    WARNINGS    OK  UNNEEDED, same version is already published
Package 135/167HostnameOS / ArchINSTALLBUILDCHECKBUILD BIN
ribosomeProfilingQC 1.6.1  (landing page)
Jianhong Ou
git_last_commit: 7ab254d
git_last_commit_date: 2021-11-10 16:48:59 -0500
nebbiolo2Linux (Ubuntu 20.04.3 LTS) / x86_64  OK    OK    OK  UNNEEDED, same version is already published
tokay2Windows Server 2012 R2 Standard / x64  OK    OK    OK    OK  UNNEEDED, same version is already published
machv2macOS 10.14.6 Mojave / x86_64  OK    OK    OK    OK  UNNEEDED, same version is already published
Package 136/167HostnameOS / ArchINSTALLBUILDCHECKBUILD BIN
RIPAT 1.4.0  (landing page)
Min-Jeong Baek
git_last_commit: 8b46270
git_last_commit_date: 2021-10-26 13:02:01 -0500
nebbiolo2Linux (Ubuntu 20.04.3 LTS) / x86_64  OK    OK    OK  UNNEEDED, same version is already published
tokay2Windows Server 2012 R2 Standard / x64  OK    OK    OK    OK  UNNEEDED, same version is already published
machv2macOS 10.14.6 Mojave / x86_64  OK    OK    OK    OK  UNNEEDED, same version is already published
Package 137/167HostnameOS / ArchINSTALLBUILDCHECKBUILD BIN
RLSeq 1.0.0  (landing page)
Henry Miller
git_last_commit: 191326e
git_last_commit_date: 2021-10-26 13:14:18 -0500
nebbiolo2Linux (Ubuntu 20.04.3 LTS) / x86_64  OK    OK    ERROR  
tokay2Windows Server 2012 R2 Standard / x64  OK    OK    OK    OK  UNNEEDED, same version is already published
machv2macOS 10.14.6 Mojave / x86_64  OK    OK    OK    OK  UNNEEDED, same version is already published
Package 138/167HostnameOS / ArchINSTALLBUILDCHECKBUILD BIN
rmspc 1.0.0  (landing page)
Meriem Bahda
git_last_commit: 76cce83
git_last_commit_date: 2021-10-26 13:12:00 -0500
nebbiolo2Linux (Ubuntu 20.04.3 LTS) / x86_64  OK    OK    OK  UNNEEDED, same version is already published
tokay2Windows Server 2012 R2 Standard / x64  OK    OK    OK    OK  UNNEEDED, same version is already published
machv2macOS 10.14.6 Mojave / x86_64  OK    OK    OK    OK  UNNEEDED, same version is already published
Package 139/167HostnameOS / ArchINSTALLBUILDCHECKBUILD BIN
RNAmodR 1.8.0  (landing page)
Felix G.M. Ernst
git_last_commit: 33b6760
git_last_commit_date: 2021-10-26 12:52:29 -0500
nebbiolo2Linux (Ubuntu 20.04.3 LTS) / x86_64  OK    OK    OK  UNNEEDED, same version is already published
tokay2Windows Server 2012 R2 Standard / x64  OK    OK    OK    OK  UNNEEDED, same version is already published
machv2macOS 10.14.6 Mojave / x86_64  OK    OK    OK    OK  UNNEEDED, same version is already published
Package 140/167HostnameOS / ArchINSTALLBUILDCHECKBUILD BIN
roar 1.30.0  (landing page)
Elena Grassi
git_last_commit: b16c785
git_last_commit_date: 2021-10-26 12:11:16 -0500
nebbiolo2Linux (Ubuntu 20.04.3 LTS) / x86_64  OK    OK    OK  UNNEEDED, same version is already published
tokay2Windows Server 2012 R2 Standard / x64  OK    OK    OK    OK  UNNEEDED, same version is already published
machv2macOS 10.14.6 Mojave / x86_64  OK    OK    OK    OK  UNNEEDED, same version is already published
Package 141/167HostnameOS / ArchINSTALLBUILDCHECKBUILD BIN
scanMiRApp 1.0.0  (landing page)
Pierre-Luc Germain
git_last_commit: 71c1334
git_last_commit_date: 2021-10-26 13:11:39 -0500
nebbiolo2Linux (Ubuntu 20.04.3 LTS) / x86_64  OK    OK    OK  UNNEEDED, same version is already published
tokay2Windows Server 2012 R2 Standard / x64  OK    OK    OK    OK  UNNEEDED, same version is already published
machv2macOS 10.14.6 Mojave / x86_64  OK    OK    OK    OK  UNNEEDED, same version is already published
Package 142/167HostnameOS / ArchINSTALLBUILDCHECKBUILD BIN
SCANVIS 1.8.0  (landing page)
Phaedra Agius
git_last_commit: d49015e
git_last_commit_date: 2021-10-26 12:53:04 -0500
nebbiolo2Linux (Ubuntu 20.04.3 LTS) / x86_64  OK    OK    ERROR  
tokay2Windows Server 2012 R2 Standard / x64  OK    OK    ERROR    OK  
machv2macOS 10.14.6 Mojave / x86_64  OK    OK    OK    OK  UNNEEDED, same version is already published
Package 143/167HostnameOS / ArchINSTALLBUILDCHECKBUILD BIN
scPipe 1.16.0  (landing page)
Luyi Tian
git_last_commit: 49f8032
git_last_commit_date: 2021-10-26 12:39:05 -0500
nebbiolo2Linux (Ubuntu 20.04.3 LTS) / x86_64  OK    OK    OK  UNNEEDED, same version is already published
tokay2Windows Server 2012 R2 Standard / x64  OK    OK    OK    OK  UNNEEDED, same version is already published
machv2macOS 10.14.6 Mojave / x86_64  OK    OK    OK    OK  UNNEEDED, same version is already published
Package 144/167HostnameOS / ArchINSTALLBUILDCHECKBUILD BIN
scruff 1.12.1  (landing page)
Zhe Wang
git_last_commit: ecade1b
git_last_commit_date: 2021-11-12 18:16:24 -0500
nebbiolo2Linux (Ubuntu 20.04.3 LTS) / x86_64  OK    OK    OK  UNNEEDED, same version is already published
tokay2Windows Server 2012 R2 Standard / x64  OK    OK    OK    OK  UNNEEDED, same version is already published
machv2macOS 10.14.6 Mojave / x86_64  OK    OK    OK    OK  UNNEEDED, same version is already published
Package 145/167HostnameOS / ArchINSTALLBUILDCHECKBUILD BIN
seqCAT 1.16.0  (landing page)
Erik Fasterius
git_last_commit: 5dbbb87
git_last_commit_date: 2021-10-26 12:38:15 -0500
nebbiolo2Linux (Ubuntu 20.04.3 LTS) / x86_64  OK    OK    OK  UNNEEDED, same version is already published
tokay2Windows Server 2012 R2 Standard / x64  OK    OK    OK    OK  UNNEEDED, same version is already published
machv2macOS 10.14.6 Mojave / x86_64  OK    OK    OK    OK  UNNEEDED, same version is already published
Package 146/167HostnameOS / ArchINSTALLBUILDCHECKBUILD BIN
seqsetvis 1.14.0  (landing page)
Joseph R Boyd
git_last_commit: df0d2da
git_last_commit_date: 2021-10-26 12:43:18 -0500
nebbiolo2Linux (Ubuntu 20.04.3 LTS) / x86_64  OK    OK    ERROR  
tokay2Windows Server 2012 R2 Standard / x64  OK    OK    ERROR    OK  
machv2macOS 10.14.6 Mojave / x86_64  OK    OK    ERROR    OK  
Package 147/167HostnameOS / ArchINSTALLBUILDCHECKBUILD BIN
sevenC 1.14.0  (landing page)
Jonas Ibn-Salem
git_last_commit: df326ea
git_last_commit_date: 2021-10-26 12:44:20 -0500
nebbiolo2Linux (Ubuntu 20.04.3 LTS) / x86_64  OK    OK    OK  UNNEEDED, same version is already published
tokay2Windows Server 2012 R2 Standard / x64  OK    OK    OK    OK  UNNEEDED, same version is already published
machv2macOS 10.14.6 Mojave / x86_64  OK    OK    OK    OK  UNNEEDED, same version is already published
Package 148/167HostnameOS / ArchINSTALLBUILDCHECKBUILD BIN
SGSeq 1.28.0  (landing page)
Leonard Goldstein
git_last_commit: 9468314
git_last_commit_date: 2021-10-26 12:17:06 -0500
nebbiolo2Linux (Ubuntu 20.04.3 LTS) / x86_64  OK    OK    OK  UNNEEDED, same version is already published
tokay2Windows Server 2012 R2 Standard / x64  OK    OK    OK    OK  UNNEEDED, same version is already published
machv2macOS 10.14.6 Mojave / x86_64  OK    OK    OK    OK  UNNEEDED, same version is already published
Package 149/167HostnameOS / ArchINSTALLBUILDCHECKBUILD BIN
shinyepico 1.2.0  (landing page)
Octavio Morante-Palacios
git_last_commit: 513ba64
git_last_commit_date: 2021-10-26 13:05:11 -0500
nebbiolo2Linux (Ubuntu 20.04.3 LTS) / x86_64  OK    OK    OK  UNNEEDED, same version is already published
tokay2Windows Server 2012 R2 Standard / x64  OK    OK    OK    OK  UNNEEDED, same version is already published
machv2macOS 10.14.6 Mojave / x86_64  OK    OK    OK    OK  UNNEEDED, same version is already published
Package 150/167HostnameOS / ArchINSTALLBUILDCHECKBUILD BIN
SigsPack 1.8.0  (landing page)
Franziska Schumann
git_last_commit: 1f0ea5f
git_last_commit_date: 2021-10-26 12:53:35 -0500
nebbiolo2Linux (Ubuntu 20.04.3 LTS) / x86_64  OK    OK    OK  UNNEEDED, same version is already published
tokay2Windows Server 2012 R2 Standard / x64  OK    OK    OK    OK  UNNEEDED, same version is already published
machv2macOS 10.14.6 Mojave / x86_64  OK    OK    OK    OK  UNNEEDED, same version is already published
Package 151/167HostnameOS / ArchINSTALLBUILDCHECKBUILD BIN
sitadela 1.2.0  (landing page)
Panagiotis Moulos
git_last_commit: 2fa94c2
git_last_commit_date: 2021-10-26 13:07:48 -0500
nebbiolo2Linux (Ubuntu 20.04.3 LTS) / x86_64  OK    OK    OK  UNNEEDED, same version is already published
tokay2Windows Server 2012 R2 Standard / x64  OK    OK    ERROR    OK  
machv2macOS 10.14.6 Mojave / x86_64  OK    OK    OK    OK  UNNEEDED, same version is already published
Package 152/167HostnameOS / ArchINSTALLBUILDCHECKBUILD BIN
soGGi 1.26.0  (landing page)
Tom Carroll
git_last_commit: 15900b3
git_last_commit_date: 2021-10-26 12:20:13 -0500
nebbiolo2Linux (Ubuntu 20.04.3 LTS) / x86_64  OK    OK    OK  UNNEEDED, same version is already published
tokay2Windows Server 2012 R2 Standard / x64  OK    OK    OK    OK  UNNEEDED, same version is already published
machv2macOS 10.14.6 Mojave / x86_64  OK    OK    OK    OK  UNNEEDED, same version is already published
Package 153/167HostnameOS / ArchINSTALLBUILDCHECKBUILD BIN
srnadiff 1.14.0  (landing page)
Zytnicki Matthias
git_last_commit: bcc5a9d
git_last_commit_date: 2021-10-26 12:41:18 -0500
nebbiolo2Linux (Ubuntu 20.04.3 LTS) / x86_64  OK    OK    OK  UNNEEDED, same version is already published
tokay2Windows Server 2012 R2 Standard / x64  OK    OK    ERROR    OK  
machv2macOS 10.14.6 Mojave / x86_64  OK    OK    OK    OK  UNNEEDED, same version is already published
Package 154/167HostnameOS / ArchINSTALLBUILDCHECKBUILD BIN
StructuralVariantAnnotation 1.10.0  (landing page)
Daniel Cameron
git_last_commit: a433d5f
git_last_commit_date: 2021-10-26 12:52:15 -0500
nebbiolo2Linux (Ubuntu 20.04.3 LTS) / x86_64  OK    OK    OK  UNNEEDED, same version is already published
tokay2Windows Server 2012 R2 Standard / x64  OK    OK    OK    OK  UNNEEDED, same version is already published
machv2macOS 10.14.6 Mojave / x86_64  OK    OK    OK    OK  UNNEEDED, same version is already published
Package 155/167HostnameOS / ArchINSTALLBUILDCHECKBUILD BIN
svaNUMT 1.0.0  (landing page)
Ruining Dong
git_last_commit: 2fc3188
git_last_commit_date: 2021-10-26 13:11:07 -0500
nebbiolo2Linux (Ubuntu 20.04.3 LTS) / x86_64  OK    OK    OK  UNNEEDED, same version is already published
tokay2Windows Server 2012 R2 Standard / x64  OK    OK    OK    OK  UNNEEDED, same version is already published
machv2macOS 10.14.6 Mojave / x86_64  OK    OK    OK    OK  UNNEEDED, same version is already published
Package 156/167HostnameOS / ArchINSTALLBUILDCHECKBUILD BIN
svaRetro 1.0.0  (landing page)
Ruining Dong
git_last_commit: c7b9142
git_last_commit_date: 2021-10-26 13:12:07 -0500
nebbiolo2Linux (Ubuntu 20.04.3 LTS) / x86_64  OK    OK    OK  UNNEEDED, same version is already published
tokay2Windows Server 2012 R2 Standard / x64  OK    OK    OK    OK  UNNEEDED, same version is already published
machv2macOS 10.14.6 Mojave / x86_64  OK    OK    OK    OK  UNNEEDED, same version is already published
Package 157/167HostnameOS / ArchINSTALLBUILDCHECKBUILD BIN
TFBSTools 1.32.0  (landing page)
Ge Tan
git_last_commit: 2355056
git_last_commit_date: 2021-10-26 12:10:37 -0500
nebbiolo2Linux (Ubuntu 20.04.3 LTS) / x86_64  OK    OK    OK  UNNEEDED, same version is already published
tokay2Windows Server 2012 R2 Standard / x64  OK    OK    OK    OK  UNNEEDED, same version is already published
machv2macOS 10.14.6 Mojave / x86_64  OK    OK    OK    OK  UNNEEDED, same version is already published
Package 158/167HostnameOS / ArchINSTALLBUILDCHECKBUILD BIN
trackViewer 1.30.0  (landing page)
Jianhong Ou
git_last_commit: 033811a
git_last_commit_date: 2021-10-26 12:11:38 -0500
nebbiolo2Linux (Ubuntu 20.04.3 LTS) / x86_64  OK    OK    OK  UNNEEDED, same version is already published
tokay2Windows Server 2012 R2 Standard / x64  OK    OK    OK    OK  UNNEEDED, same version is already published
machv2macOS 10.14.6 Mojave / x86_64  OK    OK    OK    OK  UNNEEDED, same version is already published
Package 159/167HostnameOS / ArchINSTALLBUILDCHECKBUILD BIN
transcriptR 1.22.0  (landing page)
Armen R. Karapetyan
git_last_commit: 6605278
git_last_commit_date: 2021-10-26 12:24:18 -0500
nebbiolo2Linux (Ubuntu 20.04.3 LTS) / x86_64  OK    OK    OK  UNNEEDED, same version is already published
tokay2Windows Server 2012 R2 Standard / x64  OK    OK    OK    OK  UNNEEDED, same version is already published
machv2macOS 10.14.6 Mojave / x86_64  OK    OK    OK    OK  UNNEEDED, same version is already published
Package 160/167HostnameOS / ArchINSTALLBUILDCHECKBUILD BIN
TRESS 1.0.0  (landing page)
Zhenxing Guo
git_last_commit: 8a50b92
git_last_commit_date: 2021-10-26 13:13:10 -0500
nebbiolo2Linux (Ubuntu 20.04.3 LTS) / x86_64  OK    OK    OK  UNNEEDED, same version is already published
tokay2Windows Server 2012 R2 Standard / x64  OK    OK    OK    OK  UNNEEDED, same version is already published
machv2macOS 10.14.6 Mojave / x86_64  OK    OK    OK    OK  UNNEEDED, same version is already published
Package 161/167HostnameOS / ArchINSTALLBUILDCHECKBUILD BIN
tRNAscanImport 1.14.0  (landing page)
Felix G.M. Ernst
git_last_commit: 48d7a43
git_last_commit_date: 2021-10-26 12:42:24 -0500
nebbiolo2Linux (Ubuntu 20.04.3 LTS) / x86_64  OK    OK    OK  UNNEEDED, same version is already published
tokay2Windows Server 2012 R2 Standard / x64  OK    OK    OK    OK  UNNEEDED, same version is already published
machv2macOS 10.14.6 Mojave / x86_64  OK    OK    OK    OK  UNNEEDED, same version is already published
Package 162/167HostnameOS / ArchINSTALLBUILDCHECKBUILD BIN
TSRchitect 1.20.0  (landing page)
R. Taylor Raborn
git_last_commit: 3f5e213
git_last_commit_date: 2021-10-26 12:35:22 -0500
nebbiolo2Linux (Ubuntu 20.04.3 LTS) / x86_64  OK    OK    WARNINGS  UNNEEDED, same version is already published
tokay2Windows Server 2012 R2 Standard / x64  OK    OK    WARNINGS    OK  UNNEEDED, same version is already published
machv2macOS 10.14.6 Mojave / x86_64  OK    OK    WARNINGS    OK  UNNEEDED, same version is already published
Package 163/167HostnameOS / ArchINSTALLBUILDCHECKBUILD BIN
txcutr 1.0.0  (landing page)
Mervin Fansler
git_last_commit: 21b6a51
git_last_commit_date: 2021-10-26 13:14:01 -0500
nebbiolo2Linux (Ubuntu 20.04.3 LTS) / x86_64  OK    OK    OK  UNNEEDED, same version is already published
tokay2Windows Server 2012 R2 Standard / x64  OK    OK    OK    OK  UNNEEDED, same version is already published
machv2macOS 10.14.6 Mojave / x86_64  OK    OK    OK    OK  UNNEEDED, same version is already published
Package 164/167HostnameOS / ArchINSTALLBUILDCHECKBUILD BIN
VariantAnnotation 1.40.0  (landing page)
Bioconductor Package Maintainer
git_last_commit: 50ead7c
git_last_commit_date: 2021-10-26 11:59:51 -0500
nebbiolo2Linux (Ubuntu 20.04.3 LTS) / x86_64  OK    OK    OK  UNNEEDED, same version is already published
tokay2Windows Server 2012 R2 Standard / x64  OK    OK    OK    OK  UNNEEDED, same version is already published
machv2macOS 10.14.6 Mojave / x86_64  OK    OK    OK    OK  UNNEEDED, same version is already published
Package 165/167HostnameOS / ArchINSTALLBUILDCHECKBUILD BIN
VariantTools 1.36.0  (landing page)
Michael Lawrence
git_last_commit: 2756ffb
git_last_commit_date: 2021-10-26 12:05:15 -0500
nebbiolo2Linux (Ubuntu 20.04.3 LTS) / x86_64  OK    OK    WARNINGS  UNNEEDED, same version is already published
tokay2Windows Server 2012 R2 Standard / x64  OK    ERROR  skippedskipped
machv2macOS 10.14.6 Mojave / x86_64  OK    OK    WARNINGS    OK  UNNEEDED, same version is already published
Package 166/167HostnameOS / ArchINSTALLBUILDCHECKBUILD BIN
wavClusteR 2.28.0  (landing page)
Federico Comoglio
git_last_commit: 93c12e2
git_last_commit_date: 2021-10-26 12:13:59 -0500
nebbiolo2Linux (Ubuntu 20.04.3 LTS) / x86_64  OK    OK    OK  UNNEEDED, same version is already published
tokay2Windows Server 2012 R2 Standard / x64  OK    OK    OK    OK  UNNEEDED, same version is already published
machv2macOS 10.14.6 Mojave / x86_64  OK    OK    OK    OK  UNNEEDED, same version is already published
Package 167/167HostnameOS / ArchINSTALLBUILDCHECKBUILD BIN
wiggleplotr 1.18.0  (landing page)
Kaur Alasoo
git_last_commit: abca417
git_last_commit_date: 2021-10-26 12:34:13 -0500
nebbiolo2Linux (Ubuntu 20.04.3 LTS) / x86_64  OK    OK    OK  UNNEEDED, same version is already published
tokay2Windows Server 2012 R2 Standard / x64  OK    OK    OK    OK  UNNEEDED, same version is already published
machv2macOS 10.14.6 Mojave / x86_64  OK    OK    OK    OK  UNNEEDED, same version is already published