Back to Multiple platform build/check report for BioC 3.14
ABCDEF[G]HIJKLMNOPQRSTUVWXYZ

This page was generated on 2022-01-19 13:06:38 -0500 (Wed, 19 Jan 2022).

HostnameOSArch (*)R versionInstalled pkgs
nebbiolo2Linux (Ubuntu 20.04.4 LTS)x86_644.1.2 (2021-11-01) -- "Bird Hippie" 4328
tokay2Windows Server 2012 R2 Standardx644.1.2 (2021-11-01) -- "Bird Hippie" 4077
machv2macOS 10.14.6 Mojavex86_644.1.2 (2021-11-01) -- "Bird Hippie" 4138
Click on any hostname to see more info about the system (e.g. compilers)      (*) as reported by 'uname -p', except on Windows and Mac OS X

BUILD BIN results for geneAttribution on tokay2


To the developers/maintainers of the geneAttribution package:
- Please allow up to 24 hours (and sometimes 48 hours) for your latest push to git@git.bioconductor.org:packages/geneAttribution.git to
reflect on this report. See How and When does the builder pull? When will my changes propagate? here for more information.
- Make sure to use the following settings in order to reproduce any error or warning you see on this page.

raw results

Package 718/2083HostnameOS / ArchINSTALLBUILDCHECKBUILD BIN
geneAttribution 1.20.0  (landing page)
Arthur Wuster
Snapshot Date: 2022-01-18 01:55:07 -0500 (Tue, 18 Jan 2022)
git_url: https://git.bioconductor.org/packages/geneAttribution
git_branch: RELEASE_3_14
git_last_commit: 57613fe
git_last_commit_date: 2021-10-26 12:29:48 -0500 (Tue, 26 Oct 2021)
nebbiolo2Linux (Ubuntu 20.04.4 LTS) / x86_64  OK    OK    OK  UNNEEDED, same version is already published
tokay2Windows Server 2012 R2 Standard / x64  OK    OK    OK    OK  UNNEEDED, same version is already published
machv2macOS 10.14.6 Mojave / x86_64  OK    OK    OK    OK  UNNEEDED, same version is already published

Summary

Package: geneAttribution
Version: 1.20.0
Command: rm -rf geneAttribution.buildbin-libdir && mkdir geneAttribution.buildbin-libdir && C:\Users\biocbuild\bbs-3.14-bioc\R\bin\R.exe CMD INSTALL --merge-multiarch --build --library=geneAttribution.buildbin-libdir geneAttribution_1.20.0.tar.gz
StartedAt: 2022-01-19 05:53:06 -0500 (Wed, 19 Jan 2022)
EndedAt: 2022-01-19 05:53:55 -0500 (Wed, 19 Jan 2022)
EllapsedTime: 49.6 seconds
RetCode: 0
Status:   OK  
PackageFile: geneAttribution_1.20.0.zip
PackageFileSize: 74.13 KiB

Command output

##############################################################################
##############################################################################
###
### Running command:
###
###   rm -rf geneAttribution.buildbin-libdir && mkdir geneAttribution.buildbin-libdir && C:\Users\biocbuild\bbs-3.14-bioc\R\bin\R.exe CMD INSTALL --merge-multiarch --build --library=geneAttribution.buildbin-libdir geneAttribution_1.20.0.tar.gz
###
##############################################################################
##############################################################################



install for i386

* installing *source* package 'geneAttribution' ...
** using staged installation
** R
** inst
** byte-compile and prepare package for lazy loading
** help
*** installing help indices
  converting help for package 'geneAttribution'
    finding HTML links ... done
    geneAttribution                         html  
    geneModels                              html  
    loadBed                                 html  
    normP                                   html  
** building package indices
** installing vignettes
** testing if installed package can be loaded from temporary location
** testing if installed package can be loaded from final location
** testing if installed package keeps a record of temporary installation path

install for x64

* installing *source* package 'geneAttribution' ...
** testing if installed package can be loaded
* MD5 sums
packaged installation of 'geneAttribution' as geneAttribution_1.20.0.zip
* DONE (geneAttribution)