Back to Multiple platform build/check report for BioC 3.14
AB[C]DEFGHIJKLMNOPQRSTUVWXYZ

This page was generated on 2021-09-18 12:05:09 -0400 (Sat, 18 Sep 2021).

All results for package CAGEr

To the developers/maintainers of the CAGEr package:
- Please allow up to 24 hours (and sometimes 48 hours) for your latest push to git@git.bioconductor.org:packages/CAGEr.git to
reflect on this report. See How and When does the builder pull? When will my changes propagate? here for more information.
- Make sure to use the following settings in order to reproduce any error or warning you see on this page.

raw results

Package 230/2029HostnameOS / ArchINSTALLBUILDCHECKBUILD BIN
CAGEr 1.99.0  (landing page)
Charles Plessy
Snapshot Date: 2021-09-17 14:50:09 -0400 (Fri, 17 Sep 2021)
git_url: https://git.bioconductor.org/packages/CAGEr
git_branch: master
git_last_commit: d4049ac
git_last_commit_date: 2021-07-04 20:39:25 -0400 (Sun, 04 Jul 2021)
nebbiolo2Linux (Ubuntu 20.04.2 LTS) / x86_64  OK    OK    WARNINGS  UNNEEDED, same version is already published
riesling1Windows Server 2019 Standard / x64  OK    OK    WARNINGS    OK  UNNEEDED, same version is already published
merida1macOS 10.14.6 Mojave / x86_64  OK    OK    WARNINGS    OK  UNNEEDED, same version is already published