Back to Multiple platform build/check report for BioC 3.14
ABCDEFGHIJKL[M]NOPQRSTUVWXYZ

This page was generated on 2022-01-14 13:06:47 -0500 (Fri, 14 Jan 2022).

HostnameOSArch (*)R versionInstalled pkgs
nebbiolo2Linux (Ubuntu 20.04.4 LTS)x86_644.1.2 (2021-11-01) -- "Bird Hippie" 4327
tokay2Windows Server 2012 R2 Standardx644.1.2 (2021-11-01) -- "Bird Hippie" 4076
machv2macOS 10.14.6 Mojavex86_644.1.2 (2021-11-01) -- "Bird Hippie" 4137
Click on any hostname to see more info about the system (e.g. compilers)      (*) as reported by 'uname -p', except on Windows and Mac OS X

BUILD results for multicrispr on tokay2


To the developers/maintainers of the multicrispr package:
- Please allow up to 24 hours (and sometimes 48 hours) for your latest push to git@git.bioconductor.org:packages/multicrispr.git to
reflect on this report. See How and When does the builder pull? When will my changes propagate? here for more information.
- Make sure to use the following settings in order to reproduce any error or warning you see on this page.

raw results

Package 1241/2083HostnameOS / ArchINSTALLBUILDCHECKBUILD BIN
multicrispr 1.4.3  (landing page)
Aditya Bhagwat
Snapshot Date: 2022-01-13 01:55:04 -0500 (Thu, 13 Jan 2022)
git_url: https://git.bioconductor.org/packages/multicrispr
git_branch: RELEASE_3_14
git_last_commit: fae9a9e
git_last_commit_date: 2021-12-23 06:36:17 -0500 (Thu, 23 Dec 2021)
nebbiolo2Linux (Ubuntu 20.04.4 LTS) / x86_64  OK    OK    OK  UNNEEDED, same version is already published
tokay2Windows Server 2012 R2 Standard / x64  OK    OK    OK    OK  UNNEEDED, same version is already published
machv2macOS 10.14.6 Mojave / x86_64  OK    OK    OK    OK  UNNEEDED, same version is already published

Summary

Package: multicrispr
Version: 1.4.3
Command: chmod a+r multicrispr -R && C:\Users\biocbuild\bbs-3.14-bioc\R\bin\R.exe CMD build --keep-empty-dirs --no-resave-data multicrispr
StartedAt: 2022-01-13 12:26:46 -0500 (Thu, 13 Jan 2022)
EndedAt: 2022-01-13 12:29:24 -0500 (Thu, 13 Jan 2022)
EllapsedTime: 157.5 seconds
RetCode: 0
Status:   OK  
PackageFile: multicrispr_1.4.3.tar.gz
PackageFileSize: 1.948 MiB

Command output

##############################################################################
##############################################################################
###
### Running command:
###
###   chmod a+r multicrispr -R && C:\Users\biocbuild\bbs-3.14-bioc\R\bin\R.exe CMD build --keep-empty-dirs --no-resave-data multicrispr
###
##############################################################################
##############################################################################


* checking for file 'multicrispr/DESCRIPTION' ... OK
* preparing 'multicrispr':
* checking DESCRIPTION meta-information ... OK
* installing the package to build vignettes
* creating vignettes ... OK
* checking for LF line-endings in source and make files and shell scripts
* checking for empty or unneeded directories
Omitted 'LazyData' from DESCRIPTION
* building 'multicrispr_1.4.3.tar.gz'