Back to Multiple platform build/check report for BioC 3.14
ABCDEFG[H]IJKLMNOPQRSTUVWXYZ

This page was generated on 2021-10-19 12:04:07 -0400 (Tue, 19 Oct 2021).

All results for package hiAnnotator

To the developers/maintainers of the hiAnnotator package:
- Please allow up to 24 hours (and sometimes 48 hours) for your latest push to git@git.bioconductor.org:packages/hiAnnotator.git to
reflect on this report. See How and When does the builder pull? When will my changes propagate? here for more information.
- Make sure to use the following settings in order to reproduce any error or warning you see on this page.

raw results

Package 853/2060HostnameOS / ArchINSTALLBUILDCHECKBUILD BIN
hiAnnotator 1.27.1  (landing page)
Nirav V Malani
Snapshot Date: 2021-10-18 14:50:10 -0400 (Mon, 18 Oct 2021)
git_url: https://git.bioconductor.org/packages/hiAnnotator
git_branch: master
git_last_commit: 9f52365
git_last_commit_date: 2021-07-27 16:27:19 -0400 (Tue, 27 Jul 2021)
nebbiolo2Linux (Ubuntu 20.04.2 LTS) / x86_64  OK    OK    OK  UNNEEDED, same version is already published
riesling1Windows Server 2019 Standard / x64  OK    OK    OK    OK  UNNEEDED, same version is already published
merida1macOS 10.14.6 Mojave / x86_64  OK    OK    OK    NA  

Results for Bioconductor software packages that depend directly on package hiAnnotator

QUICK STATSOS / ArchINSTALLBUILDCHECKBUILD BIN
nebbiolo2Linux (Ubuntu 20.04.2 LTS) / x86_64
001
001
0001
riesling1Windows Server 2019 Standard / x64
000
000
0000
000
merida1macOS 10.14.6 Mojave / x86_64
001
001
0001
000
Package 1/1HostnameOS / ArchINSTALLBUILDCHECKBUILD BIN
hiReadsProcessor 1.29.1  (landing page)
Nirav V Malani
git_last_commit: 135a920
git_last_commit_date: 2021-07-27 17:00:29 -0400
nebbiolo2Linux (Ubuntu 20.04.2 LTS) / x86_64  OK    OK    OK  UNNEEDED, same version is already published
riesling1Windows Server 2019 Standard / x64... NOT SUPPORTED ...
merida1macOS 10.14.6 Mojave / x86_64  OK    OK    OK    NA