Back to Multiple platform build/check report for BioC 3.14
ABCDEFGHIJKL[M]NOPQRSTUVWXYZ

This page was generated on 2022-01-14 13:06:47 -0500 (Fri, 14 Jan 2022).

HostnameOSArch (*)R versionInstalled pkgs
nebbiolo2Linux (Ubuntu 20.04.4 LTS)x86_644.1.2 (2021-11-01) -- "Bird Hippie" 4327
tokay2Windows Server 2012 R2 Standardx644.1.2 (2021-11-01) -- "Bird Hippie" 4076
machv2macOS 10.14.6 Mojavex86_644.1.2 (2021-11-01) -- "Bird Hippie" 4137
Click on any hostname to see more info about the system (e.g. compilers)      (*) as reported by 'uname -p', except on Windows and Mac OS X

INSTALL results for multicrispr on tokay2


To the developers/maintainers of the multicrispr package:
- Please allow up to 24 hours (and sometimes 48 hours) for your latest push to git@git.bioconductor.org:packages/multicrispr.git to
reflect on this report. See How and When does the builder pull? When will my changes propagate? here for more information.
- Make sure to use the following settings in order to reproduce any error or warning you see on this page.

raw results

Package 1241/2083HostnameOS / ArchINSTALLBUILDCHECKBUILD BIN
multicrispr 1.4.3  (landing page)
Aditya Bhagwat
Snapshot Date: 2022-01-13 01:55:04 -0500 (Thu, 13 Jan 2022)
git_url: https://git.bioconductor.org/packages/multicrispr
git_branch: RELEASE_3_14
git_last_commit: fae9a9e
git_last_commit_date: 2021-12-23 06:36:17 -0500 (Thu, 23 Dec 2021)
nebbiolo2Linux (Ubuntu 20.04.4 LTS) / x86_64  OK    OK    OK  UNNEEDED, same version is already published
tokay2Windows Server 2012 R2 Standard / x64  OK    OK    OK    OK  UNNEEDED, same version is already published
machv2macOS 10.14.6 Mojave / x86_64  OK    OK    OK    OK  UNNEEDED, same version is already published

Summary

Package: multicrispr
Version: 1.4.3
Command: C:\cygwin\bin\curl.exe -O http://155.52.207.166/BBS/3.14/bioc/src/contrib/multicrispr_1.4.3.tar.gz && rm -rf multicrispr.buildbin-libdir && mkdir multicrispr.buildbin-libdir && C:\Users\biocbuild\bbs-3.14-bioc\R\bin\R.exe CMD INSTALL --merge-multiarch --build --library=multicrispr.buildbin-libdir multicrispr_1.4.3.tar.gz && C:\Users\biocbuild\bbs-3.14-bioc\R\bin\R.exe CMD INSTALL multicrispr_1.4.3.zip && rm multicrispr_1.4.3.tar.gz multicrispr_1.4.3.zip
StartedAt: 2022-01-13 07:29:11 -0500 (Thu, 13 Jan 2022)
EndedAt: 2022-01-13 07:31:24 -0500 (Thu, 13 Jan 2022)
EllapsedTime: 132.9 seconds
RetCode: 0
Status:   OK  

Command output

##############################################################################
##############################################################################
###
### Running command:
###
###   C:\cygwin\bin\curl.exe -O http://155.52.207.166/BBS/3.14/bioc/src/contrib/multicrispr_1.4.3.tar.gz && rm -rf multicrispr.buildbin-libdir && mkdir multicrispr.buildbin-libdir && C:\Users\biocbuild\bbs-3.14-bioc\R\bin\R.exe CMD INSTALL --merge-multiarch --build --library=multicrispr.buildbin-libdir multicrispr_1.4.3.tar.gz && C:\Users\biocbuild\bbs-3.14-bioc\R\bin\R.exe CMD INSTALL multicrispr_1.4.3.zip && rm multicrispr_1.4.3.tar.gz multicrispr_1.4.3.zip
###
##############################################################################
##############################################################################


  % Total    % Received % Xferd  Average Speed   Time    Time     Time  Current
                                 Dload  Upload   Total   Spent    Left  Speed

  0     0    0     0    0     0      0      0 --:--:-- --:--:-- --:--:--     0
 89 3842k   89 3442k    0     0  6586k      0 --:--:-- --:--:-- --:--:-- 6581k
100 3842k  100 3842k    0     0  6911k      0 --:--:-- --:--:-- --:--:-- 6910k

install for i386

* installing *source* package 'multicrispr' ...
** using staged installation
** R
** inst
** byte-compile and prepare package for lazy loading
** help
*** installing help indices
  converting help for package 'multicrispr'
    finding HTML links ... done
    add_genome_matches                      html  
    add_inverse_strand                      html  
    add_seq                                 html  
    add_target_matches                      html  
    bed_to_granges                          html  
    char_to_granges                         html  
    double_flank                            html  
    extend_for_pe                           html  
    extend_pe_to_gg                         html  
    extract_matchranges                     html  
    finding level-2 HTML links ... done

    extract_subranges                       html  
    find_gg                                 html  
    find_primespacers                       html  
    find_spacers                            html  
    genes_to_granges                        html  
    gr2dt                                   html  
    has_been_indexed                        html  
    index_genome                            html  
    index_targets                           html  
    plot_intervals                          html  
    plot_karyogram                          html  
    score_ontargets                         html  
    up_flank                                html  
    write_ranges                            html  
** building package indices
** installing vignettes
** testing if installed package can be loaded from temporary location
** testing if installed package can be loaded from final location
** testing if installed package keeps a record of temporary installation path

install for x64

* installing *source* package 'multicrispr' ...
** testing if installed package can be loaded
* MD5 sums
packaged installation of 'multicrispr' as multicrispr_1.4.3.zip
* DONE (multicrispr)
* installing to library 'C:/Users/biocbuild/bbs-3.14-bioc/R/library'
package 'multicrispr' successfully unpacked and MD5 sums checked