Back to Multiple platform build/check report for BioC 3.14
ABCDEFGHIJKL[M]NOPQRSTUVWXYZ

This page was generated on 2022-01-14 13:08:13 -0500 (Fri, 14 Jan 2022).

HostnameOSArch (*)R versionInstalled pkgs
nebbiolo2Linux (Ubuntu 20.04.4 LTS)x86_644.1.2 (2021-11-01) -- "Bird Hippie" 4327
tokay2Windows Server 2012 R2 Standardx644.1.2 (2021-11-01) -- "Bird Hippie" 4076
machv2macOS 10.14.6 Mojavex86_644.1.2 (2021-11-01) -- "Bird Hippie" 4137
Click on any hostname to see more info about the system (e.g. compilers)      (*) as reported by 'uname -p', except on Windows and Mac OS X

BUILD BIN results for multicrispr on machv2


To the developers/maintainers of the multicrispr package:
- Please allow up to 24 hours (and sometimes 48 hours) for your latest push to git@git.bioconductor.org:packages/multicrispr.git to
reflect on this report. See How and When does the builder pull? When will my changes propagate? here for more information.
- Make sure to use the following settings in order to reproduce any error or warning you see on this page.

raw results

Package 1241/2083HostnameOS / ArchINSTALLBUILDCHECKBUILD BIN
multicrispr 1.4.3  (landing page)
Aditya Bhagwat
Snapshot Date: 2022-01-13 01:55:04 -0500 (Thu, 13 Jan 2022)
git_url: https://git.bioconductor.org/packages/multicrispr
git_branch: RELEASE_3_14
git_last_commit: fae9a9e
git_last_commit_date: 2021-12-23 06:36:17 -0500 (Thu, 23 Dec 2021)
nebbiolo2Linux (Ubuntu 20.04.4 LTS) / x86_64  OK    OK    OK  UNNEEDED, same version is already published
tokay2Windows Server 2012 R2 Standard / x64  OK    OK    OK    OK  UNNEEDED, same version is already published
machv2macOS 10.14.6 Mojave / x86_64  OK    OK    OK    OK  UNNEEDED, same version is already published

Summary

Package: multicrispr
Version: 1.4.3
Command: rm -rf multicrispr.buildbin-libdir && mkdir multicrispr.buildbin-libdir && /Users/biocbuild/BBS/utils/build-universal.sh multicrispr_1.4.3.tar.gz /Library/Frameworks/R.framework/Resources/bin/R multicrispr.buildbin-libdir
StartedAt: 2022-01-13 20:38:32 -0500 (Thu, 13 Jan 2022)
EndedAt: 2022-01-13 20:39:32 -0500 (Thu, 13 Jan 2022)
EllapsedTime: 60.8 seconds
RetCode: 0
Status:   OK  
PackageFile: multicrispr_1.4.3.tgz
PackageFileSize: 2.508 MiB

Command output

##############################################################################
##############################################################################
###
### Running command:
###
###   rm -rf multicrispr.buildbin-libdir && mkdir multicrispr.buildbin-libdir && /Users/biocbuild/BBS/utils/build-universal.sh multicrispr_1.4.3.tar.gz /Library/Frameworks/R.framework/Resources/bin/R multicrispr.buildbin-libdir
###
##############################################################################
##############################################################################


>>>>>>> 
>>>>>>> INSTALLATION WITH 'R CMD INSTALL --preclean --no-multiarch --library=multicrispr.buildbin-libdir multicrispr_1.4.3.tar.gz'
>>>>>>> 

* installing *source* package ‘multicrispr’ ...
** using staged installation
** R
** inst
** byte-compile and prepare package for lazy loading
** help
*** installing help indices
** building package indices
** installing vignettes
** testing if installed package can be loaded from temporary location
** testing if installed package can be loaded from final location
** testing if installed package keeps a record of temporary installation path
* DONE (multicrispr)