Back to Multiple platform build/check report for BioC 3.14
ABCDEFG[H]IJKLMNOPQRSTUVWXYZ

This page was generated on 2022-01-26 13:05:29 -0500 (Wed, 26 Jan 2022).

HostnameOSArch (*)R versionInstalled pkgs
nebbiolo2Linux (Ubuntu 20.04.4 LTS)x86_644.1.2 (2021-11-01) -- "Bird Hippie" 4329
tokay2Windows Server 2012 R2 Standardx644.1.2 (2021-11-01) -- "Bird Hippie" 4080
machv2macOS 10.14.6 Mojavex86_644.1.2 (2021-11-01) -- "Bird Hippie" 4141
Click on any hostname to see more info about the system (e.g. compilers)      (*) as reported by 'uname -p', except on Windows and Mac OS X

BUILD results for HelloRanges on nebbiolo2


To the developers/maintainers of the HelloRanges package:
- Please allow up to 24 hours (and sometimes 48 hours) for your latest push to git@git.bioconductor.org:packages/HelloRanges.git to
reflect on this report. See How and When does the builder pull? When will my changes propagate? here for more information.
- Make sure to use the following settings in order to reproduce any error or warning you see on this page.

raw results

Package 859/2083HostnameOS / ArchINSTALLBUILDCHECKBUILD BIN
HelloRanges 1.20.0  (landing page)
Michael Lawrence
Snapshot Date: 2022-01-25 01:55:07 -0500 (Tue, 25 Jan 2022)
git_url: https://git.bioconductor.org/packages/HelloRanges
git_branch: RELEASE_3_14
git_last_commit: 5f4a86d
git_last_commit_date: 2021-10-26 12:30:55 -0500 (Tue, 26 Oct 2021)
nebbiolo2Linux (Ubuntu 20.04.4 LTS) / x86_64  OK    OK    WARNINGS  UNNEEDED, same version is already published
tokay2Windows Server 2012 R2 Standard / x64  OK    OK    WARNINGS    OK  UNNEEDED, same version is already published
machv2macOS 10.14.6 Mojave / x86_64  OK    OK    WARNINGS    OK  UNNEEDED, same version is already published

Summary

Package: HelloRanges
Version: 1.20.0
Command: /home/biocbuild/bbs-3.14-bioc/R/bin/R CMD build --keep-empty-dirs --no-resave-data HelloRanges
StartedAt: 2022-01-25 04:36:38 -0500 (Tue, 25 Jan 2022)
EndedAt: 2022-01-25 04:40:04 -0500 (Tue, 25 Jan 2022)
EllapsedTime: 206.3 seconds
RetCode: 0
Status:   OK  
PackageFile: HelloRanges_1.20.0.tar.gz
PackageFileSize: 942.3 KiB

Command output

##############################################################################
##############################################################################
###
### Running command:
###
###   /home/biocbuild/bbs-3.14-bioc/R/bin/R CMD build --keep-empty-dirs --no-resave-data HelloRanges
###
##############################################################################
##############################################################################


* checking for file ‘HelloRanges/DESCRIPTION’ ... OK
* preparing ‘HelloRanges’:
* checking DESCRIPTION meta-information ... OK
* installing the package to build vignettes
* creating vignettes ... OK
* checking for LF line-endings in source and make files and shell scripts
* checking for empty or unneeded directories
* building ‘HelloRanges_1.20.0.tar.gz’