Back to Multiple platform build/check report for BioC 3.14
[A]BCDEFGHIJKLMNOPQRSTUVWXYZ

This page was generated on 2021-09-28 12:04:21 -0400 (Tue, 28 Sep 2021).

All results for package ALPS

To the developers/maintainers of the ALPS package:
- Please allow up to 24 hours (and sometimes 48 hours) for your latest push to git@git.bioconductor.org:packages/ALPS.git to
reflect on this report. See How and When does the builder pull? When will my changes propagate? here for more information.
- Make sure to use the following settings in order to reproduce any error or warning you see on this page.

raw results

Package 45/2034HostnameOS / ArchINSTALLBUILDCHECKBUILD BIN
ALPS 1.7.1  (landing page)
Venu Thatikonda
Snapshot Date: 2021-09-27 14:50:07 -0400 (Mon, 27 Sep 2021)
git_url: https://git.bioconductor.org/packages/ALPS
git_branch: master
git_last_commit: 6f38b5d
git_last_commit_date: 2021-06-21 10:37:10 -0400 (Mon, 21 Jun 2021)
nebbiolo2Linux (Ubuntu 20.04.2 LTS) / x86_64  OK    ERROR  skipped
riesling1Windows Server 2019 Standard / x64  OK    ERROR  skippedskipped
merida1macOS 10.14.6 Mojave / x86_64  OK    ERROR  skippedskipped