Back to Multiple platform build/check report for BioC 3.14
ABCDEFGHIJKLMN[O]PQRSTUVWXYZ

This page was generated on 2022-01-21 13:06:47 -0500 (Fri, 21 Jan 2022).

HostnameOSArch (*)R versionInstalled pkgs
nebbiolo2Linux (Ubuntu 20.04.4 LTS)x86_644.1.2 (2021-11-01) -- "Bird Hippie" 4329
tokay2Windows Server 2012 R2 Standardx644.1.2 (2021-11-01) -- "Bird Hippie" 4079
machv2macOS 10.14.6 Mojavex86_644.1.2 (2021-11-01) -- "Bird Hippie" 4140
Click on any hostname to see more info about the system (e.g. compilers)      (*) as reported by 'uname -p', except on Windows and Mac OS X

BUILD BIN results for OMICsPCA on tokay2


To the developers/maintainers of the OMICsPCA package:
- Please allow up to 24 hours (and sometimes 48 hours) for your latest push to git@git.bioconductor.org:packages/OMICsPCA.git to
reflect on this report. See How and When does the builder pull? When will my changes propagate? here for more information.
- Make sure to use the following settings in order to reproduce any error or warning you see on this page.

raw results

Package 1327/2083HostnameOS / ArchINSTALLBUILDCHECKBUILD BIN
OMICsPCA 1.12.0  (landing page)
Subhadeep Das
Snapshot Date: 2022-01-20 01:55:04 -0500 (Thu, 20 Jan 2022)
git_url: https://git.bioconductor.org/packages/OMICsPCA
git_branch: RELEASE_3_14
git_last_commit: 5161764
git_last_commit_date: 2021-10-26 12:47:05 -0500 (Tue, 26 Oct 2021)
nebbiolo2Linux (Ubuntu 20.04.4 LTS) / x86_64  OK    OK    OK  UNNEEDED, same version is already published
tokay2Windows Server 2012 R2 Standard / x64  OK    OK    OK    OK  UNNEEDED, same version is already published
machv2macOS 10.14.6 Mojave / x86_64  OK    OK    OK    OK  UNNEEDED, same version is already published

Summary

Package: OMICsPCA
Version: 1.12.0
Command: rm -rf OMICsPCA.buildbin-libdir && mkdir OMICsPCA.buildbin-libdir && C:\Users\biocbuild\bbs-3.14-bioc\R\bin\R.exe CMD INSTALL --merge-multiarch --build --library=OMICsPCA.buildbin-libdir OMICsPCA_1.12.0.tar.gz
StartedAt: 2022-01-21 06:42:04 -0500 (Fri, 21 Jan 2022)
EndedAt: 2022-01-21 06:43:23 -0500 (Fri, 21 Jan 2022)
EllapsedTime: 78.9 seconds
RetCode: 0
Status:   OK  
PackageFile: OMICsPCA_1.12.0.zip
PackageFileSize: 1.676 MiB

Command output

##############################################################################
##############################################################################
###
### Running command:
###
###   rm -rf OMICsPCA.buildbin-libdir && mkdir OMICsPCA.buildbin-libdir && C:\Users\biocbuild\bbs-3.14-bioc\R\bin\R.exe CMD INSTALL --merge-multiarch --build --library=OMICsPCA.buildbin-libdir OMICsPCA_1.12.0.tar.gz
###
##############################################################################
##############################################################################



install for i386

* installing *source* package 'OMICsPCA' ...
** using staged installation
** R
** inst
** byte-compile and prepare package for lazy loading
** help
*** installing help indices
  converting help for package 'OMICsPCA'
    finding HTML links ... done
    analyse_individuals                     html  
    analyse_integrated_individuals          html  
    analyse_integrated_variables            html  
    analyse_variables                       html  
    chart_correlation                       html  
    cluster                                 html  
    cluster_boxplot                         html  
    cluster_parameters                      html  
    create_group                            html  
    descriptor                              html  
    extract                                 html  
    extract_assay                           html  
    integrate_pca                           html  
    integrate_variables                     html  
    intersect                               html  
    merge_cells                             html  
    plot_density                            html  
    plot_density_3D                         html  
    plot_integrated_density                 html  
    plot_integrated_density_3D              html  
    prepare_dataset                         html  
** building package indices
** installing vignettes
** testing if installed package can be loaded from temporary location
** testing if installed package can be loaded from final location
** testing if installed package keeps a record of temporary installation path

install for x64

* installing *source* package 'OMICsPCA' ...
** testing if installed package can be loaded
* MD5 sums
packaged installation of 'OMICsPCA' as OMICsPCA_1.12.0.zip
* DONE (OMICsPCA)