Back to Multiple platform build/check report for BioC 3.15
ABCDEFGHIJK[L]MNOPQRSTUVWXYZ

This page was generated on 2022-06-24 12:07:40 -0400 (Fri, 24 Jun 2022).

HostnameOSArch (*)R versionInstalled pkgs
nebbiolo1Linux (Ubuntu 20.04.4 LTS)x86_644.2.0 (2022-04-22) -- "Vigorous Calisthenics" 4380
palomino3Windows Server 2022 Datacenterx644.2.0 (2022-04-22 ucrt) -- "Vigorous Calisthenics" 4156
merida1macOS 10.14.6 Mojavex86_644.2.0 (2022-04-22) -- "Vigorous Calisthenics" 4221
Click on any hostname to see more info about the system (e.g. compilers)      (*) as reported by 'uname -p', except on Windows and Mac OS X

BUILD BIN results for ldblock on merida1


To the developers/maintainers of the ldblock package:
- Please allow up to 24 hours (and sometimes 48 hours) for your latest push to git@git.bioconductor.org:packages/ldblock.git to
reflect on this report. See How and When does the builder pull? When will my changes propagate? for more information.
- Make sure to use the following settings in order to reproduce any error or warning you see on this page.

raw results

Package 1014/2140HostnameOS / ArchINSTALLBUILDCHECKBUILD BIN
ldblock 1.26.0  (landing page)
VJ Carey
Snapshot Date: 2022-06-23 13:55:15 -0400 (Thu, 23 Jun 2022)
git_url: https://git.bioconductor.org/packages/ldblock
git_branch: RELEASE_3_15
git_last_commit: 7a5cd9d
git_last_commit_date: 2022-04-26 11:27:01 -0400 (Tue, 26 Apr 2022)
nebbiolo1Linux (Ubuntu 20.04.4 LTS) / x86_64  OK    OK    OK  UNNEEDED, same version is already published
palomino3Windows Server 2022 Datacenter / x64  OK    OK    OK    OK  UNNEEDED, same version is already published
merida1macOS 10.14.6 Mojave / x86_64  OK    OK    OK    OK  UNNEEDED, same version is already published

Summary

Package: ldblock
Version: 1.26.0
Command: rm -rf ldblock.buildbin-libdir && mkdir ldblock.buildbin-libdir && /Users/biocbuild/BBS/utils/build-universal.sh ldblock_1.26.0.tar.gz /Library/Frameworks/R.framework/Resources/bin/R ldblock.buildbin-libdir
StartedAt: 2022-06-24 11:41:26 -0400 (Fri, 24 Jun 2022)
EndedAt: 2022-06-24 11:43:14 -0400 (Fri, 24 Jun 2022)
EllapsedTime: 107.3 seconds
RetCode: 0
Status:   OK  
PackageFile: ldblock_1.26.0.tgz
PackageFileSize: 40.42 MiB

Command output

##############################################################################
##############################################################################
###
### Running command:
###
###   rm -rf ldblock.buildbin-libdir && mkdir ldblock.buildbin-libdir && /Users/biocbuild/BBS/utils/build-universal.sh ldblock_1.26.0.tar.gz /Library/Frameworks/R.framework/Resources/bin/R ldblock.buildbin-libdir
###
##############################################################################
##############################################################################


>>>>>>> 
>>>>>>> INSTALLATION WITH 'R CMD INSTALL --preclean --no-multiarch --library=ldblock.buildbin-libdir ldblock_1.26.0.tar.gz'
>>>>>>> 

* installing *source* package ‘ldblock’ ...
** using staged installation
** R
** data
*** moving datasets to lazyload DB
** inst
** byte-compile and prepare package for lazy loading
** help
*** installing help indices
** building package indices
** installing vignettes
** testing if installed package can be loaded from temporary location
** testing if installed package can be loaded from final location
** testing if installed package keeps a record of temporary installation path
* DONE (ldblock)