Back to Multiple platform build/check report for BioC 3.14
ABCDEFGHIJKL[M]NOPQRSTUVWXYZ

This page was generated on 2021-10-23 14:07:07 -0400 (Sat, 23 Oct 2021).

BUILD results for msImpute on merida1

To the developers/maintainers of the msImpute package:
- Please allow up to 24 hours (and sometimes 48 hours) for your latest push to git@git.bioconductor.org:packages/msImpute.git to
reflect on this report. See How and When does the builder pull? When will my changes propagate? here for more information.
- Make sure to use the following settings in order to reproduce any error or warning you see on this page.

raw results

Package 1219/2083HostnameOS / ArchINSTALLBUILDCHECKBUILD BIN
msImpute 1.3.3  (landing page)
Soroor Hediyeh-zadeh
Snapshot Date: 2021-10-22 14:50:11 -0400 (Fri, 22 Oct 2021)
git_url: https://git.bioconductor.org/packages/msImpute
git_branch: master
git_last_commit: 82d28b7
git_last_commit_date: 2021-10-12 02:43:45 -0400 (Tue, 12 Oct 2021)
nebbiolo2Linux (Ubuntu 20.04.2 LTS) / x86_64  OK    OK    OK  UNNEEDED, same version is already published
riesling1Windows Server 2019 Standard / x64  OK    OK    OK    OK  UNNEEDED, same version is already published
merida1macOS 10.14.6 Mojave / x86_64  OK    OK    OK    OK  UNNEEDED, same version is already published

Summary

Package: msImpute
Version: 1.3.3
Command: /Library/Frameworks/R.framework/Resources/bin/R CMD build --keep-empty-dirs --no-resave-data msImpute
StartedAt: 2021-10-22 21:29:44 -0400 (Fri, 22 Oct 2021)
EndedAt: 2021-10-22 21:31:20 -0400 (Fri, 22 Oct 2021)
EllapsedTime: 95.5 seconds
RetCode: 0
Status:   OK  
PackageFile: msImpute_1.3.3.tar.gz
PackageFileSize: 1.703 MiB

Command output

##############################################################################
##############################################################################
###
### Running command:
###
###   /Library/Frameworks/R.framework/Resources/bin/R CMD build --keep-empty-dirs --no-resave-data msImpute
###
##############################################################################
##############################################################################


* checking for file ‘msImpute/DESCRIPTION’ ... OK
* preparing ‘msImpute’:
* checking DESCRIPTION meta-information ... OK
* installing the package to build vignettes
* creating vignettes ... OK
* checking for LF line-endings in source and make files and shell scripts
* checking for empty or unneeded directories
  NB: this package now depends on R (>= 3.5.0)
  WARNING: Added dependency on R >= 3.5.0 because serialized objects in
  serialize/load version 3 cannot be read in older versions of R.
  File(s) containing such objects:
    ‘msImpute/data/pxd007959.RData’ ‘msImpute/data/pxd010943.RData’
    ‘msImpute/data/pxd014777.RData’
* building ‘msImpute_1.3.3.tar.gz’