Back to Multiple platform build/check report for BioC 3.14
ABCDEFGHIJKLMNO[P]QRSTUVWXYZ

This page was generated on 2021-10-23 14:07:11 -0400 (Sat, 23 Oct 2021).

BUILD BIN results for pipeComp on merida1

To the developers/maintainers of the pipeComp package:
- Please allow up to 24 hours (and sometimes 48 hours) for your latest push to git@git.bioconductor.org:packages/pipeComp.git to
reflect on this report. See How and When does the builder pull? When will my changes propagate? here for more information.
- Make sure to use the following settings in order to reproduce any error or warning you see on this page.

raw results

Package 1422/2083HostnameOS / ArchINSTALLBUILDCHECKBUILD BIN
pipeComp 1.3.0  (landing page)
Pierre-Luc Germain
Snapshot Date: 2021-10-22 14:50:11 -0400 (Fri, 22 Oct 2021)
git_url: https://git.bioconductor.org/packages/pipeComp
git_branch: master
git_last_commit: 7c4eb6e
git_last_commit_date: 2021-05-19 12:53:31 -0400 (Wed, 19 May 2021)
nebbiolo2Linux (Ubuntu 20.04.2 LTS) / x86_64  OK    OK    OK  UNNEEDED, same version is already published
riesling1Windows Server 2019 Standard / x64  OK    OK    OK    OK  UNNEEDED, same version is already published
merida1macOS 10.14.6 Mojave / x86_64  OK    OK    OK    OK  UNNEEDED, same version is already published

Summary

Package: pipeComp
Version: 1.3.0
Command: rm -rf pipeComp.buildbin-libdir && mkdir pipeComp.buildbin-libdir && /Users/biocbuild/BBS/utils/build-universal.sh pipeComp_1.3.0.tar.gz /Library/Frameworks/R.framework/Resources/bin/R pipeComp.buildbin-libdir
StartedAt: 2021-10-23 12:53:58 -0400 (Sat, 23 Oct 2021)
EndedAt: 2021-10-23 12:55:00 -0400 (Sat, 23 Oct 2021)
EllapsedTime: 62.4 seconds
RetCode: 0
Status:   OK  
PackageFile: pipeComp_1.3.0.tgz
PackageFileSize: 3.943 MiB

Command output

##############################################################################
##############################################################################
###
### Running command:
###
###   rm -rf pipeComp.buildbin-libdir && mkdir pipeComp.buildbin-libdir && /Users/biocbuild/BBS/utils/build-universal.sh pipeComp_1.3.0.tar.gz /Library/Frameworks/R.framework/Resources/bin/R pipeComp.buildbin-libdir
###
##############################################################################
##############################################################################


>>>>>>> 
>>>>>>> INSTALLATION WITH 'R CMD INSTALL --preclean --no-multiarch --library=pipeComp.buildbin-libdir pipeComp_1.3.0.tar.gz'
>>>>>>> 

* installing *source* package ‘pipeComp’ ...
** using staged installation
** R
** data
** inst
** byte-compile and prepare package for lazy loading
** help
*** installing help indices
** building package indices
** installing vignettes
** testing if installed package can be loaded from temporary location
** testing if installed package can be loaded from final location
** testing if installed package keeps a record of temporary installation path
* DONE (pipeComp)