Back to Multiple platform build/check report for BioC 3.14
A[B]CDEFGHIJKLMNOPQRSTUVWXYZ

This page was generated on 2021-10-23 14:06:52 -0400 (Sat, 23 Oct 2021).

BUILD results for BayesSpace on merida1

To the developers/maintainers of the BayesSpace package:
- Please allow up to 24 hours (and sometimes 48 hours) for your latest push to git@git.bioconductor.org:packages/BayesSpace.git to
reflect on this report. See How and When does the builder pull? When will my changes propagate? here for more information.
- Make sure to use the following settings in order to reproduce any error or warning you see on this page.

raw results

Package 125/2083HostnameOS / ArchINSTALLBUILDCHECKBUILD BIN
BayesSpace 1.3.1  (landing page)
Matt Stone
Snapshot Date: 2021-10-22 14:50:11 -0400 (Fri, 22 Oct 2021)
git_url: https://git.bioconductor.org/packages/BayesSpace
git_branch: master
git_last_commit: f7aeef9
git_last_commit_date: 2021-10-06 10:38:23 -0400 (Wed, 06 Oct 2021)
nebbiolo2Linux (Ubuntu 20.04.2 LTS) / x86_64  OK    OK    OK  UNNEEDED, same version is already published
riesling1Windows Server 2019 Standard / x64  OK    OK    OK    OK  UNNEEDED, same version is already published
merida1macOS 10.14.6 Mojave / x86_64  OK    OK    OK    OK  UNNEEDED, same version is already published

Summary

Package: BayesSpace
Version: 1.3.1
Command: /Library/Frameworks/R.framework/Resources/bin/R CMD build --keep-empty-dirs --no-resave-data BayesSpace
StartedAt: 2021-10-22 18:36:43 -0400 (Fri, 22 Oct 2021)
EndedAt: 2021-10-22 18:40:19 -0400 (Fri, 22 Oct 2021)
EllapsedTime: 215.6 seconds
RetCode: 0
Status:   OK  
PackageFile: BayesSpace_1.3.1.tar.gz
PackageFileSize: 1.106 MiB

Command output

##############################################################################
##############################################################################
###
### Running command:
###
###   /Library/Frameworks/R.framework/Resources/bin/R CMD build --keep-empty-dirs --no-resave-data BayesSpace
###
##############################################################################
##############################################################################


* checking for file ‘BayesSpace/DESCRIPTION’ ... OK
* preparing ‘BayesSpace’:
* checking DESCRIPTION meta-information ... OK
* cleaning src
* installing the package to build vignettes
* creating vignettes ... OK
* cleaning src
* checking for LF line-endings in source and make files and shell scripts
* checking for empty or unneeded directories
* building ‘BayesSpace_1.3.1.tar.gz’