Back to Multiple platform build/check report for BioC 3.14
ABC[D]EFGHIJKLMNOPQRSTUVWXYZ

This page was generated on 2021-10-23 14:06:57 -0400 (Sat, 23 Oct 2021).

BUILD results for Dino on merida1

To the developers/maintainers of the Dino package:
- Please allow up to 24 hours (and sometimes 48 hours) for your latest push to git@git.bioconductor.org:packages/Dino.git to
reflect on this report. See How and When does the builder pull? When will my changes propagate? here for more information.
- Make sure to use the following settings in order to reproduce any error or warning you see on this page.

raw results

Package 513/2083HostnameOS / ArchINSTALLBUILDCHECKBUILD BIN
Dino 0.99.11  (landing page)
Jared Brown
Snapshot Date: 2021-10-22 14:50:11 -0400 (Fri, 22 Oct 2021)
git_url: https://git.bioconductor.org/packages/Dino
git_branch: master
git_last_commit: effd323
git_last_commit_date: 2021-06-21 14:18:26 -0400 (Mon, 21 Jun 2021)
nebbiolo2Linux (Ubuntu 20.04.2 LTS) / x86_64  OK    OK    OK  UNNEEDED, same version is already published
riesling1Windows Server 2019 Standard / x64  OK    OK    OK    OK  UNNEEDED, same version is already published
merida1macOS 10.14.6 Mojave / x86_64  OK    OK    OK    OK  UNNEEDED, same version is already published

Summary

Package: Dino
Version: 0.99.11
Command: /Library/Frameworks/R.framework/Resources/bin/R CMD build --keep-empty-dirs --no-resave-data Dino
StartedAt: 2021-10-22 19:42:27 -0400 (Fri, 22 Oct 2021)
EndedAt: 2021-10-22 19:44:44 -0400 (Fri, 22 Oct 2021)
EllapsedTime: 136.9 seconds
RetCode: 0
Status:   OK  
PackageFile: Dino_0.99.11.tar.gz
PackageFileSize: 1.263 MiB

Command output

##############################################################################
##############################################################################
###
### Running command:
###
###   /Library/Frameworks/R.framework/Resources/bin/R CMD build --keep-empty-dirs --no-resave-data Dino
###
##############################################################################
##############################################################################


* checking for file ‘Dino/DESCRIPTION’ ... OK
* preparing ‘Dino’:
* checking DESCRIPTION meta-information ... OK
* installing the package to build vignettes
* creating vignettes ... OK
* checking for LF line-endings in source and make files and shell scripts
* checking for empty or unneeded directories
* looking to see if a ‘data/datalist’ file should be added
* building ‘Dino_0.99.11.tar.gz’