Back to Multiple platform build/check report for BioC 3.14
ABCDEFGHIJKL[M]NOPQRSTUVWXYZ

This page was generated on 2021-10-23 14:07:08 -0400 (Sat, 23 Oct 2021).

BUILD results for mumosa on merida1

To the developers/maintainers of the mumosa package:
- Please allow up to 24 hours (and sometimes 48 hours) for your latest push to git@git.bioconductor.org:packages/mumosa.git to
reflect on this report. See How and When does the builder pull? When will my changes propagate? here for more information.
- Make sure to use the following settings in order to reproduce any error or warning you see on this page.

raw results

Package 1251/2083HostnameOS / ArchINSTALLBUILDCHECKBUILD BIN
mumosa 1.1.0  (landing page)
Aaron Lun
Snapshot Date: 2021-10-22 14:50:11 -0400 (Fri, 22 Oct 2021)
git_url: https://git.bioconductor.org/packages/mumosa
git_branch: master
git_last_commit: ad2fc31
git_last_commit_date: 2021-05-19 12:58:39 -0400 (Wed, 19 May 2021)
nebbiolo2Linux (Ubuntu 20.04.2 LTS) / x86_64  OK    OK    OK  UNNEEDED, same version is already published
riesling1Windows Server 2019 Standard / x64  OK    OK    OK    OK  UNNEEDED, same version is already published
merida1macOS 10.14.6 Mojave / x86_64  OK    OK    OK    OK  UNNEEDED, same version is already published

Summary

Package: mumosa
Version: 1.1.0
Command: /Library/Frameworks/R.framework/Resources/bin/R CMD build --keep-empty-dirs --no-resave-data mumosa
StartedAt: 2021-10-22 21:33:50 -0400 (Fri, 22 Oct 2021)
EndedAt: 2021-10-22 21:36:27 -0400 (Fri, 22 Oct 2021)
EllapsedTime: 157.1 seconds
RetCode: 0
Status:   OK  
PackageFile: mumosa_1.1.0.tar.gz
PackageFileSize: 601.9 KiB

Command output

##############################################################################
##############################################################################
###
### Running command:
###
###   /Library/Frameworks/R.framework/Resources/bin/R CMD build --keep-empty-dirs --no-resave-data mumosa
###
##############################################################################
##############################################################################


* checking for file ‘mumosa/DESCRIPTION’ ... OK
* preparing ‘mumosa’:
* checking DESCRIPTION meta-information ... OK
* installing the package to build vignettes
* creating vignettes ... OK
* checking for LF line-endings in source and make files and shell scripts
* checking for empty or unneeded directories
* building ‘mumosa_1.1.0.tar.gz’