Back to Multiple platform build/check report for BioC 3.16
ABCDEFGHIJKLMNOPQR[S]TUVWXYZ

This page was generated on 2022-07-04 11:06:50 -0400 (Mon, 04 Jul 2022).

HostnameOSArch (*)R versionInstalled pkgs
nebbiolo2Linux (Ubuntu 20.04.4 LTS)x86_644.2.0 Patched (2022-06-02 r82447) -- "Vigorous Calisthenics" 4343
palomino4Windows Server 2022 Datacenterx644.2.0 Patched (2022-06-02 r82447 ucrt) -- "Vigorous Calisthenics" 4148
lconwaymacOS 12.2.1 Montereyx86_644.2.0 Patched (2022-05-29 r82424) -- "Vigorous Calisthenics" 4160
Click on any hostname to see more info about the system (e.g. compilers)      (*) as reported by 'uname -p', except on Windows and Mac OS X

BUILD BIN results for scran on palomino4


To the developers/maintainers of the scran package:
- Please allow up to 24 hours (and sometimes 48 hours) for your latest push to git@git.bioconductor.org:packages/scran.git to
reflect on this report. See How and When does the builder pull? When will my changes propagate? for more information.
- Make sure to use the following settings in order to reproduce any error or warning you see on this page.

raw results

Package 1770/2124HostnameOS / ArchINSTALLBUILDCHECKBUILD BIN
scran 1.25.0  (landing page)
Aaron Lun
Snapshot Date: 2022-07-03 14:00:03 -0400 (Sun, 03 Jul 2022)
git_url: https://git.bioconductor.org/packages/scran
git_branch: master
git_last_commit: 935072d
git_last_commit_date: 2022-04-26 11:31:31 -0400 (Tue, 26 Apr 2022)
nebbiolo2Linux (Ubuntu 20.04.4 LTS) / x86_64  OK    OK    WARNINGS  UNNEEDED, same version is already published
palomino4Windows Server 2022 Datacenter / x64  OK    OK    WARNINGS    OK  UNNEEDED, same version is already published
lconwaymacOS 12.2.1 Monterey / x86_64  OK    OK    WARNINGS    OK  UNNEEDED, same version is already published

Summary

Package: scran
Version: 1.25.0
Command: rm -rf scran.buildbin-libdir && mkdir scran.buildbin-libdir && F:\biocbuild\bbs-3.16-bioc\R\bin\R.exe CMD INSTALL --merge-multiarch --build --library=scran.buildbin-libdir scran_1.25.0.tar.gz
StartedAt: 2022-07-04 08:19:38 -0400 (Mon, 04 Jul 2022)
EndedAt: 2022-07-04 08:21:20 -0400 (Mon, 04 Jul 2022)
EllapsedTime: 102.5 seconds
RetCode: 0
Status:   OK  
PackageFile: scran_1.25.0.zip
PackageFileSize: 1.753 MiB

Command output

##############################################################################
##############################################################################
###
### Running command:
###
###   rm -rf scran.buildbin-libdir && mkdir scran.buildbin-libdir && F:\biocbuild\bbs-3.16-bioc\R\bin\R.exe CMD INSTALL --merge-multiarch --build --library=scran.buildbin-libdir scran_1.25.0.tar.gz
###
##############################################################################
##############################################################################


only one architecture so ignoring '--merge-multiarch'
* installing *source* package 'scran' ...
** using staged installation
** libs
g++  -std=gnu++11 -I"F:/biocbuild/bbs-3.16-bioc/R/include" -DNDEBUG  -I'F:/biocbuild/bbs-3.16-bioc/R/library/Rcpp/include' -I'F:/biocbuild/bbs-3.16-bioc/R/library/beachmat/include' -I'F:/biocbuild/bbs-3.16-bioc/R/library/BH/include' -I'F:/biocbuild/bbs-3.16-bioc/R/library/dqrng/include' -I'F:/biocbuild/bbs-3.16-bioc/R/library/scuttle/include'   -I"C:/rtools42/x86_64-w64-mingw32.static.posix/include"     -O2 -Wall  -mfpmath=sse -msse2 -mstackrealign  -c RcppExports.cpp -o RcppExports.o
g++  -std=gnu++11 -I"F:/biocbuild/bbs-3.16-bioc/R/include" -DNDEBUG  -I'F:/biocbuild/bbs-3.16-bioc/R/library/Rcpp/include' -I'F:/biocbuild/bbs-3.16-bioc/R/library/beachmat/include' -I'F:/biocbuild/bbs-3.16-bioc/R/library/BH/include' -I'F:/biocbuild/bbs-3.16-bioc/R/library/dqrng/include' -I'F:/biocbuild/bbs-3.16-bioc/R/library/scuttle/include'   -I"C:/rtools42/x86_64-w64-mingw32.static.posix/include"     -O2 -Wall  -mfpmath=sse -msse2 -mstackrealign  -c choose_effect_size.cpp -o choose_effect_size.o
choose_effect_size.cpp: In instantiation of 'size_t instantiate_list(Rcpp::List, std::vector<T>&, std::string) [with V = Rcpp::Vector<13>; size_t = long long unsigned int; Rcpp::List = Rcpp::Vector<19>; std::string = std::__cxx11::basic_string<char>]':
choose_effect_size.cpp:38:67:   required from here
choose_effect_size.cpp:13:23: warning: comparison of integer expressions of different signedness: 'size_t' {aka 'long long unsigned int'} and 'R_xlen_t' {aka 'long long int'} [-Wsign-compare]
   13 |     for (size_t c=0; c<input.size(); ++c) {
      |                      ~^~~~~~~~~~~~~
choose_effect_size.cpp: In instantiation of 'size_t instantiate_list(Rcpp::List, std::vector<T>&, std::string) [with V = Rcpp::Vector<14, Rcpp::PreserveStorage>; size_t = long long unsigned int; Rcpp::List = Rcpp::Vector<19>; std::string = std::__cxx11::basic_string<char>]':
choose_effect_size.cpp:67:70:   required from here
choose_effect_size.cpp:13:23: warning: comparison of integer expressions of different signedness: 'size_t' {aka 'long long unsigned int'} and 'R_xlen_t' {aka 'long long int'} [-Wsign-compare]
g++  -std=gnu++11 -I"F:/biocbuild/bbs-3.16-bioc/R/include" -DNDEBUG  -I'F:/biocbuild/bbs-3.16-bioc/R/library/Rcpp/include' -I'F:/biocbuild/bbs-3.16-bioc/R/library/beachmat/include' -I'F:/biocbuild/bbs-3.16-bioc/R/library/BH/include' -I'F:/biocbuild/bbs-3.16-bioc/R/library/dqrng/include' -I'F:/biocbuild/bbs-3.16-bioc/R/library/scuttle/include'   -I"C:/rtools42/x86_64-w64-mingw32.static.posix/include"     -O2 -Wall  -mfpmath=sse -msse2 -mstackrealign  -c combine_rho.cpp -o combine_rho.o
g++  -std=gnu++11 -I"F:/biocbuild/bbs-3.16-bioc/R/include" -DNDEBUG  -I'F:/biocbuild/bbs-3.16-bioc/R/library/Rcpp/include' -I'F:/biocbuild/bbs-3.16-bioc/R/library/beachmat/include' -I'F:/biocbuild/bbs-3.16-bioc/R/library/BH/include' -I'F:/biocbuild/bbs-3.16-bioc/R/library/dqrng/include' -I'F:/biocbuild/bbs-3.16-bioc/R/library/scuttle/include'   -I"C:/rtools42/x86_64-w64-mingw32.static.posix/include"     -O2 -Wall  -mfpmath=sse -msse2 -mstackrealign  -c compute_blocked_stats.cpp -o compute_blocked_stats.o
In file included from F:/biocbuild/bbs-3.16-bioc/R/library/beachmat/include/beachmat3/lin_matrix.h:12,
                 from F:/biocbuild/bbs-3.16-bioc/R/library/beachmat/include/beachmat3/read_lin_block.h:11,
                 from F:/biocbuild/bbs-3.16-bioc/R/library/beachmat/include/beachmat3/beachmat.h:24,
                 from compute_blocked_stats.cpp:2:
F:/biocbuild/bbs-3.16-bioc/R/library/beachmat/include/beachmat3/Csparse_reader.h: In instantiation of 'beachmat::SparseArraySeed_reader<V, TIT>::SparseArraySeed_reader(Rcpp::RObject) [with V = Rcpp::Vector<13>; TIT = const int*; Rcpp::RObject = Rcpp::RObject_Impl<Rcpp::PreserveStorage>]':
F:/biocbuild/bbs-3.16-bioc/R/library/beachmat/include/beachmat3/lin_matrix.h:561:56:   required from 'beachmat::lin_SparseArraySeed<V, TIT>::lin_SparseArraySeed(Rcpp::RObject) [with V = Rcpp::Vector<13>; TIT = const int*; Rcpp::RObject = Rcpp::RObject_Impl<Rcpp::PreserveStorage>]'
F:/biocbuild/bbs-3.16-bioc/R/library/beachmat/include/beachmat3/read_lin_block.h:36:39:   required from 'std::unique_ptr<_Codecvt> beachmat::read_lin_sparse_block_raw(Rcpp::RObject) [with M = beachmat::lin_matrix; Rcpp::RObject = Rcpp::RObject_Impl<Rcpp::PreserveStorage>]'
F:/biocbuild/bbs-3.16-bioc/R/library/beachmat/include/beachmat3/read_lin_block.h:65:63:   required from here
F:/biocbuild/bbs-3.16-bioc/R/library/beachmat/include/beachmat3/Csparse_reader.h:535:17: warning: comparison of integer expressions of different signedness: 'const size_t' {aka 'const long long unsigned int'} and 'R_xlen_t' {aka 'long long int'} [-Wsign-compare]
  535 |         if (nnz != x.size()) {
      |             ~~~~^~~~~~~~~~~
F:/biocbuild/bbs-3.16-bioc/R/library/beachmat/include/beachmat3/Csparse_reader.h:551:45: warning: comparison of integer expressions of different signedness: 'int' and 'const size_t' {aka 'const long long unsigned int'} [-Wsign-compare]
  551 |                     if (lastR <= 0 || lastR > NR || lastC <= 0 || lastC > NC) {
      |                                       ~~~~~~^~~~
F:/biocbuild/bbs-3.16-bioc/R/library/beachmat/include/beachmat3/Csparse_reader.h:551:73: warning: comparison of integer expressions of different signedness: 'int' and 'const size_t' {aka 'const long long unsigned int'} [-Wsign-compare]
  551 |                     if (lastR <= 0 || lastR > NR || lastC <= 0 || lastC > NC) {
      |                                                                   ~~~~~~^~~~
F:/biocbuild/bbs-3.16-bioc/R/library/beachmat/include/beachmat3/Csparse_reader.h:593:35: warning: comparison of integer expressions of different signedness: 'int' and 'const size_t' {aka 'const long long unsigned int'} [-Wsign-compare]
  593 |                 for (int v = 0; v < nnz; ++v, ++rowIt, ++colIt, ++xIt) {
      |                                 ~~^~~~~
F:/biocbuild/bbs-3.16-bioc/R/library/beachmat/include/beachmat3/Csparse_reader.h: In instantiation of 'beachmat::SparseArraySeed_reader<V, TIT>::SparseArraySeed_reader(Rcpp::RObject) [with V = Rcpp::Vector<14, Rcpp::PreserveStorage>; TIT = const double*; Rcpp::RObject = Rcpp::RObject_Impl<Rcpp::PreserveStorage>]':
F:/biocbuild/bbs-3.16-bioc/R/library/beachmat/include/beachmat3/lin_matrix.h:561:56:   required from 'beachmat::lin_SparseArraySeed<V, TIT>::lin_SparseArraySeed(Rcpp::RObject) [with V = Rcpp::Vector<14, Rcpp::PreserveStorage>; TIT = const double*; Rcpp::RObject = Rcpp::RObject_Impl<Rcpp::PreserveStorage>]'
F:/biocbuild/bbs-3.16-bioc/R/library/beachmat/include/beachmat3/read_lin_block.h:38:39:   required from 'std::unique_ptr<_Codecvt> beachmat::read_lin_sparse_block_raw(Rcpp::RObject) [with M = beachmat::lin_matrix; Rcpp::RObject = Rcpp::RObject_Impl<Rcpp::PreserveStorage>]'
F:/biocbuild/bbs-3.16-bioc/R/library/beachmat/include/beachmat3/read_lin_block.h:65:63:   required from here
F:/biocbuild/bbs-3.16-bioc/R/library/beachmat/include/beachmat3/Csparse_reader.h:535:17: warning: comparison of integer expressions of different signedness: 'const size_t' {aka 'const long long unsigned int'} and 'R_xlen_t' {aka 'long long int'} [-Wsign-compare]
  535 |         if (nnz != x.size()) {
      |             ~~~~^~~~~~~~~~~
F:/biocbuild/bbs-3.16-bioc/R/library/beachmat/include/beachmat3/Csparse_reader.h:551:45: warning: comparison of integer expressions of different signedness: 'int' and 'const size_t' {aka 'const long long unsigned int'} [-Wsign-compare]
  551 |                     if (lastR <= 0 || lastR > NR || lastC <= 0 || lastC > NC) {
      |                                       ~~~~~~^~~~
F:/biocbuild/bbs-3.16-bioc/R/library/beachmat/include/beachmat3/Csparse_reader.h:551:73: warning: comparison of integer expressions of different signedness: 'int' and 'const size_t' {aka 'const long long unsigned int'} [-Wsign-compare]
  551 |                     if (lastR <= 0 || lastR > NR || lastC <= 0 || lastC > NC) {
      |                                                                   ~~~~~~^~~~
F:/biocbuild/bbs-3.16-bioc/R/library/beachmat/include/beachmat3/Csparse_reader.h:593:35: warning: comparison of integer expressions of different signedness: 'int' and 'const size_t' {aka 'const long long unsigned int'} [-Wsign-compare]
  593 |                 for (int v = 0; v < nnz; ++v, ++rowIt, ++colIt, ++xIt) {
      |                                 ~~^~~~~
F:/biocbuild/bbs-3.16-bioc/R/library/beachmat/include/beachmat3/Csparse_reader.h: In instantiation of 'beachmat::SparseArraySeed_reader<V, TIT>::SparseArraySeed_reader(Rcpp::RObject) [with V = Rcpp::Vector<10, Rcpp::PreserveStorage>; TIT = const int*; Rcpp::RObject = Rcpp::RObject_Impl<Rcpp::PreserveStorage>]':
F:/biocbuild/bbs-3.16-bioc/R/library/beachmat/include/beachmat3/lin_matrix.h:561:56:   required from 'beachmat::lin_SparseArraySeed<V, TIT>::lin_SparseArraySeed(Rcpp::RObject) [with V = Rcpp::Vector<10, Rcpp::PreserveStorage>; TIT = const int*; Rcpp::RObject = Rcpp::RObject_Impl<Rcpp::PreserveStorage>]'
F:/biocbuild/bbs-3.16-bioc/R/library/beachmat/include/beachmat3/read_lin_block.h:40:39:   required from 'std::unique_ptr<_Codecvt> beachmat::read_lin_sparse_block_raw(Rcpp::RObject) [with M = beachmat::lin_matrix; Rcpp::RObject = Rcpp::RObject_Impl<Rcpp::PreserveStorage>]'
F:/biocbuild/bbs-3.16-bioc/R/library/beachmat/include/beachmat3/read_lin_block.h:65:63:   required from here
F:/biocbuild/bbs-3.16-bioc/R/library/beachmat/include/beachmat3/Csparse_reader.h:535:17: warning: comparison of integer expressions of different signedness: 'const size_t' {aka 'const long long unsigned int'} and 'R_xlen_t' {aka 'long long int'} [-Wsign-compare]
  535 |         if (nnz != x.size()) {
      |             ~~~~^~~~~~~~~~~
F:/biocbuild/bbs-3.16-bioc/R/library/beachmat/include/beachmat3/Csparse_reader.h:551:45: warning: comparison of integer expressions of different signedness: 'int' and 'const size_t' {aka 'const long long unsigned int'} [-Wsign-compare]
  551 |                     if (lastR <= 0 || lastR > NR || lastC <= 0 || lastC > NC) {
      |                                       ~~~~~~^~~~
F:/biocbuild/bbs-3.16-bioc/R/library/beachmat/include/beachmat3/Csparse_reader.h:551:73: warning: comparison of integer expressions of different signedness: 'int' and 'const size_t' {aka 'const long long unsigned int'} [-Wsign-compare]
  551 |                     if (lastR <= 0 || lastR > NR || lastC <= 0 || lastC > NC) {
      |                                                                   ~~~~~~^~~~
F:/biocbuild/bbs-3.16-bioc/R/library/beachmat/include/beachmat3/Csparse_reader.h:593:35: warning: comparison of integer expressions of different signedness: 'int' and 'const size_t' {aka 'const long long unsigned int'} [-Wsign-compare]
  593 |                 for (int v = 0; v < nnz; ++v, ++rowIt, ++colIt, ++xIt) {
      |                                 ~~^~~~~
F:/biocbuild/bbs-3.16-bioc/R/library/beachmat/include/beachmat3/Csparse_reader.h: In instantiation of 'beachmat::sparse_index<OUT, I> beachmat::Csparse_core<TIT, I, P>::get_row(size_t, ALT, I*, size_t, size_t) [with OUT = const int*; ALT = int*; TIT = const double*; I = int; P = long long unsigned int; size_t = long long unsigned int]':
F:/biocbuild/bbs-3.16-bioc/R/library/beachmat/include/beachmat3/Csparse_reader.h:650:42:   required from 'beachmat::sparse_index<OUT, int> beachmat::SparseArraySeed_reader<V, TIT>::get_row(size_t, ALT, int*, size_t, size_t) [with OUT = const int*; ALT = int*; V = Rcpp::Vector<14, Rcpp::PreserveStorage>; TIT = const double*; size_t = long long unsigned int]'
F:/biocbuild/bbs-3.16-bioc/R/library/beachmat/include/beachmat3/lin_matrix.h:596:51:   required from 'beachmat::sparse_index<const int*, int> beachmat::lin_SparseArraySeed<V, TIT>::get_row(size_t, int*, int*, size_t, size_t) [with V = Rcpp::Vector<14, Rcpp::PreserveStorage>; TIT = const double*; size_t = long long unsigned int]'
F:/biocbuild/bbs-3.16-bioc/R/library/beachmat/include/beachmat3/lin_matrix.h:595:35:   required from here
F:/biocbuild/bbs-3.16-bioc/R/library/beachmat/include/beachmat3/Csparse_reader.h:250:22: warning: comparison of integer expressions of different signedness: 'const int' and 'const long long unsigned int' [-Wsign-compare]
  250 |             if (idex != *pIt && static_cast<size_t>(i[idex]) == r) {
      |                 ~~~~~^~~~~~~
F:/biocbuild/bbs-3.16-bioc/R/library/beachmat/include/beachmat3/Csparse_reader.h: In instantiation of 'beachmat::sparse_index<OUT, I> beachmat::Csparse_core<TIT, I, P>::get_row(size_t, ALT, I*, size_t, size_t) [with OUT = const double*; ALT = double*; TIT = const double*; I = int; P = long long unsigned int; size_t = long long unsigned int]':
F:/biocbuild/bbs-3.16-bioc/R/library/beachmat/include/beachmat3/Csparse_reader.h:650:42:   required from 'beachmat::sparse_index<OUT, int> beachmat::SparseArraySeed_reader<V, TIT>::get_row(size_t, ALT, int*, size_t, size_t) [with OUT = const double*; ALT = double*; V = Rcpp::Vector<14, Rcpp::PreserveStorage>; TIT = const double*; size_t = long long unsigned int]'
F:/biocbuild/bbs-3.16-bioc/R/library/beachmat/include/beachmat3/lin_matrix.h:602:54:   required from 'beachmat::sparse_index<const double*, int> beachmat::lin_SparseArraySeed<V, TIT>::get_row(size_t, double*, int*, size_t, size_t) [with V = Rcpp::Vector<14, Rcpp::PreserveStorage>; TIT = const double*; size_t = long long unsigned int]'
F:/biocbuild/bbs-3.16-bioc/R/library/beachmat/include/beachmat3/lin_matrix.h:601:38:   required from here
F:/biocbuild/bbs-3.16-bioc/R/library/beachmat/include/beachmat3/Csparse_reader.h:250:22: warning: comparison of integer expressions of different signedness: 'const int' and 'const long long unsigned int' [-Wsign-compare]
F:/biocbuild/bbs-3.16-bioc/R/library/beachmat/include/beachmat3/Csparse_reader.h: In instantiation of 'beachmat::sparse_index<OUT, I> beachmat::Csparse_core<TIT, I, P>::get_row(size_t, ALT, I*, size_t, size_t) [with OUT = const int*; ALT = int*; TIT = const int*; I = int; P = long long unsigned int; size_t = long long unsigned int]':
F:/biocbuild/bbs-3.16-bioc/R/library/beachmat/include/beachmat3/Csparse_reader.h:650:42:   required from 'beachmat::sparse_index<OUT, int> beachmat::SparseArraySeed_reader<V, TIT>::get_row(size_t, ALT, int*, size_t, size_t) [with OUT = const int*; ALT = int*; V = Rcpp::Vector<10, Rcpp::PreserveStorage>; TIT = const int*; size_t = long long unsigned int]'
F:/biocbuild/bbs-3.16-bioc/R/library/beachmat/include/beachmat3/lin_matrix.h:596:51:   required from 'beachmat::sparse_index<const int*, int> beachmat::lin_SparseArraySeed<V, TIT>::get_row(size_t, int*, int*, size_t, size_t) [with V = Rcpp::Vector<10, Rcpp::PreserveStorage>; TIT = const int*; size_t = long long unsigned int]'
F:/biocbuild/bbs-3.16-bioc/R/library/beachmat/include/beachmat3/lin_matrix.h:595:35:   required from here
F:/biocbuild/bbs-3.16-bioc/R/library/beachmat/include/beachmat3/Csparse_reader.h:250:22: warning: comparison of integer expressions of different signedness: 'const int' and 'const long long unsigned int' [-Wsign-compare]
F:/biocbuild/bbs-3.16-bioc/R/library/beachmat/include/beachmat3/Csparse_reader.h: In instantiation of 'beachmat::sparse_index<OUT, I> beachmat::Csparse_core<TIT, I, P>::get_row(size_t, ALT, I*, size_t, size_t) [with OUT = const double*; ALT = double*; TIT = const int*; I = int; P = long long unsigned int; size_t = long long unsigned int]':
F:/biocbuild/bbs-3.16-bioc/R/library/beachmat/include/beachmat3/Csparse_reader.h:650:42:   required from 'beachmat::sparse_index<OUT, int> beachmat::SparseArraySeed_reader<V, TIT>::get_row(size_t, ALT, int*, size_t, size_t) [with OUT = const double*; ALT = double*; V = Rcpp::Vector<10, Rcpp::PreserveStorage>; TIT = const int*; size_t = long long unsigned int]'
F:/biocbuild/bbs-3.16-bioc/R/library/beachmat/include/beachmat3/lin_matrix.h:602:54:   required from 'beachmat::sparse_index<const double*, int> beachmat::lin_SparseArraySeed<V, TIT>::get_row(size_t, double*, int*, size_t, size_t) [with V = Rcpp::Vector<10, Rcpp::PreserveStorage>; TIT = const int*; size_t = long long unsigned int]'
F:/biocbuild/bbs-3.16-bioc/R/library/beachmat/include/beachmat3/lin_matrix.h:601:38:   required from here
F:/biocbuild/bbs-3.16-bioc/R/library/beachmat/include/beachmat3/Csparse_reader.h:250:22: warning: comparison of integer expressions of different signedness: 'const int' and 'const long long unsigned int' [-Wsign-compare]
g++  -std=gnu++11 -I"F:/biocbuild/bbs-3.16-bioc/R/include" -DNDEBUG  -I'F:/biocbuild/bbs-3.16-bioc/R/library/Rcpp/include' -I'F:/biocbuild/bbs-3.16-bioc/R/library/beachmat/include' -I'F:/biocbuild/bbs-3.16-bioc/R/library/BH/include' -I'F:/biocbuild/bbs-3.16-bioc/R/library/dqrng/include' -I'F:/biocbuild/bbs-3.16-bioc/R/library/scuttle/include'   -I"C:/rtools42/x86_64-w64-mingw32.static.posix/include"     -O2 -Wall  -mfpmath=sse -msse2 -mstackrealign  -c compute_residual_stats.cpp -o compute_residual_stats.o
In file included from F:/biocbuild/bbs-3.16-bioc/R/library/beachmat/include/beachmat3/lin_matrix.h:12,
                 from F:/biocbuild/bbs-3.16-bioc/R/library/beachmat/include/beachmat3/read_lin_block.h:11,
                 from F:/biocbuild/bbs-3.16-bioc/R/library/beachmat/include/beachmat3/beachmat.h:24,
                 from compute_residual_stats.cpp:2:
F:/biocbuild/bbs-3.16-bioc/R/library/beachmat/include/beachmat3/Csparse_reader.h: In instantiation of 'beachmat::SparseArraySeed_reader<V, TIT>::SparseArraySeed_reader(Rcpp::RObject) [with V = Rcpp::Vector<13>; TIT = const int*; Rcpp::RObject = Rcpp::RObject_Impl<Rcpp::PreserveStorage>]':
F:/biocbuild/bbs-3.16-bioc/R/library/beachmat/include/beachmat3/lin_matrix.h:561:56:   required from 'beachmat::lin_SparseArraySeed<V, TIT>::lin_SparseArraySeed(Rcpp::RObject) [with V = Rcpp::Vector<13>; TIT = const int*; Rcpp::RObject = Rcpp::RObject_Impl<Rcpp::PreserveStorage>]'
F:/biocbuild/bbs-3.16-bioc/R/library/beachmat/include/beachmat3/read_lin_block.h:36:39:   required from 'std::unique_ptr<_Codecvt> beachmat::read_lin_sparse_block_raw(Rcpp::RObject) [with M = beachmat::lin_matrix; Rcpp::RObject = Rcpp::RObject_Impl<Rcpp::PreserveStorage>]'
F:/biocbuild/bbs-3.16-bioc/R/library/beachmat/include/beachmat3/read_lin_block.h:65:63:   required from here
F:/biocbuild/bbs-3.16-bioc/R/library/beachmat/include/beachmat3/Csparse_reader.h:535:17: warning: comparison of integer expressions of different signedness: 'const size_t' {aka 'const long long unsigned int'} and 'R_xlen_t' {aka 'long long int'} [-Wsign-compare]
  535 |         if (nnz != x.size()) {
      |             ~~~~^~~~~~~~~~~
F:/biocbuild/bbs-3.16-bioc/R/library/beachmat/include/beachmat3/Csparse_reader.h:551:45: warning: comparison of integer expressions of different signedness: 'int' and 'const size_t' {aka 'const long long unsigned int'} [-Wsign-compare]
  551 |                     if (lastR <= 0 || lastR > NR || lastC <= 0 || lastC > NC) {
      |                                       ~~~~~~^~~~
F:/biocbuild/bbs-3.16-bioc/R/library/beachmat/include/beachmat3/Csparse_reader.h:551:73: warning: comparison of integer expressions of different signedness: 'int' and 'const size_t' {aka 'const long long unsigned int'} [-Wsign-compare]
  551 |                     if (lastR <= 0 || lastR > NR || lastC <= 0 || lastC > NC) {
      |                                                                   ~~~~~~^~~~
F:/biocbuild/bbs-3.16-bioc/R/library/beachmat/include/beachmat3/Csparse_reader.h:593:35: warning: comparison of integer expressions of different signedness: 'int' and 'const size_t' {aka 'const long long unsigned int'} [-Wsign-compare]
  593 |                 for (int v = 0; v < nnz; ++v, ++rowIt, ++colIt, ++xIt) {
      |                                 ~~^~~~~
F:/biocbuild/bbs-3.16-bioc/R/library/beachmat/include/beachmat3/Csparse_reader.h: In instantiation of 'beachmat::SparseArraySeed_reader<V, TIT>::SparseArraySeed_reader(Rcpp::RObject) [with V = Rcpp::Vector<14, Rcpp::PreserveStorage>; TIT = const double*; Rcpp::RObject = Rcpp::RObject_Impl<Rcpp::PreserveStorage>]':
F:/biocbuild/bbs-3.16-bioc/R/library/beachmat/include/beachmat3/lin_matrix.h:561:56:   required from 'beachmat::lin_SparseArraySeed<V, TIT>::lin_SparseArraySeed(Rcpp::RObject) [with V = Rcpp::Vector<14, Rcpp::PreserveStorage>; TIT = const double*; Rcpp::RObject = Rcpp::RObject_Impl<Rcpp::PreserveStorage>]'
F:/biocbuild/bbs-3.16-bioc/R/library/beachmat/include/beachmat3/read_lin_block.h:38:39:   required from 'std::unique_ptr<_Codecvt> beachmat::read_lin_sparse_block_raw(Rcpp::RObject) [with M = beachmat::lin_matrix; Rcpp::RObject = Rcpp::RObject_Impl<Rcpp::PreserveStorage>]'
F:/biocbuild/bbs-3.16-bioc/R/library/beachmat/include/beachmat3/read_lin_block.h:65:63:   required from here
F:/biocbuild/bbs-3.16-bioc/R/library/beachmat/include/beachmat3/Csparse_reader.h:535:17: warning: comparison of integer expressions of different signedness: 'const size_t' {aka 'const long long unsigned int'} and 'R_xlen_t' {aka 'long long int'} [-Wsign-compare]
  535 |         if (nnz != x.size()) {
      |             ~~~~^~~~~~~~~~~
F:/biocbuild/bbs-3.16-bioc/R/library/beachmat/include/beachmat3/Csparse_reader.h:551:45: warning: comparison of integer expressions of different signedness: 'int' and 'const size_t' {aka 'const long long unsigned int'} [-Wsign-compare]
  551 |                     if (lastR <= 0 || lastR > NR || lastC <= 0 || lastC > NC) {
      |                                       ~~~~~~^~~~
F:/biocbuild/bbs-3.16-bioc/R/library/beachmat/include/beachmat3/Csparse_reader.h:551:73: warning: comparison of integer expressions of different signedness: 'int' and 'const size_t' {aka 'const long long unsigned int'} [-Wsign-compare]
  551 |                     if (lastR <= 0 || lastR > NR || lastC <= 0 || lastC > NC) {
      |                                                                   ~~~~~~^~~~
F:/biocbuild/bbs-3.16-bioc/R/library/beachmat/include/beachmat3/Csparse_reader.h:593:35: warning: comparison of integer expressions of different signedness: 'int' and 'const size_t' {aka 'const long long unsigned int'} [-Wsign-compare]
  593 |                 for (int v = 0; v < nnz; ++v, ++rowIt, ++colIt, ++xIt) {
      |                                 ~~^~~~~
F:/biocbuild/bbs-3.16-bioc/R/library/beachmat/include/beachmat3/Csparse_reader.h: In instantiation of 'beachmat::SparseArraySeed_reader<V, TIT>::SparseArraySeed_reader(Rcpp::RObject) [with V = Rcpp::Vector<10, Rcpp::PreserveStorage>; TIT = const int*; Rcpp::RObject = Rcpp::RObject_Impl<Rcpp::PreserveStorage>]':
F:/biocbuild/bbs-3.16-bioc/R/library/beachmat/include/beachmat3/lin_matrix.h:561:56:   required from 'beachmat::lin_SparseArraySeed<V, TIT>::lin_SparseArraySeed(Rcpp::RObject) [with V = Rcpp::Vector<10, Rcpp::PreserveStorage>; TIT = const int*; Rcpp::RObject = Rcpp::RObject_Impl<Rcpp::PreserveStorage>]'
F:/biocbuild/bbs-3.16-bioc/R/library/beachmat/include/beachmat3/read_lin_block.h:40:39:   required from 'std::unique_ptr<_Codecvt> beachmat::read_lin_sparse_block_raw(Rcpp::RObject) [with M = beachmat::lin_matrix; Rcpp::RObject = Rcpp::RObject_Impl<Rcpp::PreserveStorage>]'
F:/biocbuild/bbs-3.16-bioc/R/library/beachmat/include/beachmat3/read_lin_block.h:65:63:   required from here
F:/biocbuild/bbs-3.16-bioc/R/library/beachmat/include/beachmat3/Csparse_reader.h:535:17: warning: comparison of integer expressions of different signedness: 'const size_t' {aka 'const long long unsigned int'} and 'R_xlen_t' {aka 'long long int'} [-Wsign-compare]
  535 |         if (nnz != x.size()) {
      |             ~~~~^~~~~~~~~~~
F:/biocbuild/bbs-3.16-bioc/R/library/beachmat/include/beachmat3/Csparse_reader.h:551:45: warning: comparison of integer expressions of different signedness: 'int' and 'const size_t' {aka 'const long long unsigned int'} [-Wsign-compare]
  551 |                     if (lastR <= 0 || lastR > NR || lastC <= 0 || lastC > NC) {
      |                                       ~~~~~~^~~~
F:/biocbuild/bbs-3.16-bioc/R/library/beachmat/include/beachmat3/Csparse_reader.h:551:73: warning: comparison of integer expressions of different signedness: 'int' and 'const size_t' {aka 'const long long unsigned int'} [-Wsign-compare]
  551 |                     if (lastR <= 0 || lastR > NR || lastC <= 0 || lastC > NC) {
      |                                                                   ~~~~~~^~~~
F:/biocbuild/bbs-3.16-bioc/R/library/beachmat/include/beachmat3/Csparse_reader.h:593:35: warning: comparison of integer expressions of different signedness: 'int' and 'const size_t' {aka 'const long long unsigned int'} [-Wsign-compare]
  593 |                 for (int v = 0; v < nnz; ++v, ++rowIt, ++colIt, ++xIt) {
      |                                 ~~^~~~~
F:/biocbuild/bbs-3.16-bioc/R/library/beachmat/include/beachmat3/Csparse_reader.h: In instantiation of 'beachmat::sparse_index<OUT, I> beachmat::Csparse_core<TIT, I, P>::get_row(size_t, ALT, I*, size_t, size_t) [with OUT = const int*; ALT = int*; TIT = const double*; I = int; P = long long unsigned int; size_t = long long unsigned int]':
F:/biocbuild/bbs-3.16-bioc/R/library/beachmat/include/beachmat3/Csparse_reader.h:650:42:   required from 'beachmat::sparse_index<OUT, int> beachmat::SparseArraySeed_reader<V, TIT>::get_row(size_t, ALT, int*, size_t, size_t) [with OUT = const int*; ALT = int*; V = Rcpp::Vector<14, Rcpp::PreserveStorage>; TIT = const double*; size_t = long long unsigned int]'
F:/biocbuild/bbs-3.16-bioc/R/library/beachmat/include/beachmat3/lin_matrix.h:596:51:   required from 'beachmat::sparse_index<const int*, int> beachmat::lin_SparseArraySeed<V, TIT>::get_row(size_t, int*, int*, size_t, size_t) [with V = Rcpp::Vector<14, Rcpp::PreserveStorage>; TIT = const double*; size_t = long long unsigned int]'
F:/biocbuild/bbs-3.16-bioc/R/library/beachmat/include/beachmat3/lin_matrix.h:595:35:   required from here
F:/biocbuild/bbs-3.16-bioc/R/library/beachmat/include/beachmat3/Csparse_reader.h:250:22: warning: comparison of integer expressions of different signedness: 'const int' and 'const long long unsigned int' [-Wsign-compare]
  250 |             if (idex != *pIt && static_cast<size_t>(i[idex]) == r) {
      |                 ~~~~~^~~~~~~
F:/biocbuild/bbs-3.16-bioc/R/library/beachmat/include/beachmat3/Csparse_reader.h: In instantiation of 'beachmat::sparse_index<OUT, I> beachmat::Csparse_core<TIT, I, P>::get_row(size_t, ALT, I*, size_t, size_t) [with OUT = const double*; ALT = double*; TIT = const double*; I = int; P = long long unsigned int; size_t = long long unsigned int]':
F:/biocbuild/bbs-3.16-bioc/R/library/beachmat/include/beachmat3/Csparse_reader.h:650:42:   required from 'beachmat::sparse_index<OUT, int> beachmat::SparseArraySeed_reader<V, TIT>::get_row(size_t, ALT, int*, size_t, size_t) [with OUT = const double*; ALT = double*; V = Rcpp::Vector<14, Rcpp::PreserveStorage>; TIT = const double*; size_t = long long unsigned int]'
F:/biocbuild/bbs-3.16-bioc/R/library/beachmat/include/beachmat3/lin_matrix.h:602:54:   required from 'beachmat::sparse_index<const double*, int> beachmat::lin_SparseArraySeed<V, TIT>::get_row(size_t, double*, int*, size_t, size_t) [with V = Rcpp::Vector<14, Rcpp::PreserveStorage>; TIT = const double*; size_t = long long unsigned int]'
F:/biocbuild/bbs-3.16-bioc/R/library/beachmat/include/beachmat3/lin_matrix.h:601:38:   required from here
F:/biocbuild/bbs-3.16-bioc/R/library/beachmat/include/beachmat3/Csparse_reader.h:250:22: warning: comparison of integer expressions of different signedness: 'const int' and 'const long long unsigned int' [-Wsign-compare]
F:/biocbuild/bbs-3.16-bioc/R/library/beachmat/include/beachmat3/Csparse_reader.h: In instantiation of 'beachmat::sparse_index<OUT, I> beachmat::Csparse_core<TIT, I, P>::get_row(size_t, ALT, I*, size_t, size_t) [with OUT = const int*; ALT = int*; TIT = const int*; I = int; P = long long unsigned int; size_t = long long unsigned int]':
F:/biocbuild/bbs-3.16-bioc/R/library/beachmat/include/beachmat3/Csparse_reader.h:650:42:   required from 'beachmat::sparse_index<OUT, int> beachmat::SparseArraySeed_reader<V, TIT>::get_row(size_t, ALT, int*, size_t, size_t) [with OUT = const int*; ALT = int*; V = Rcpp::Vector<10, Rcpp::PreserveStorage>; TIT = const int*; size_t = long long unsigned int]'
F:/biocbuild/bbs-3.16-bioc/R/library/beachmat/include/beachmat3/lin_matrix.h:596:51:   required from 'beachmat::sparse_index<const int*, int> beachmat::lin_SparseArraySeed<V, TIT>::get_row(size_t, int*, int*, size_t, size_t) [with V = Rcpp::Vector<10, Rcpp::PreserveStorage>; TIT = const int*; size_t = long long unsigned int]'
F:/biocbuild/bbs-3.16-bioc/R/library/beachmat/include/beachmat3/lin_matrix.h:595:35:   required from here
F:/biocbuild/bbs-3.16-bioc/R/library/beachmat/include/beachmat3/Csparse_reader.h:250:22: warning: comparison of integer expressions of different signedness: 'const int' and 'const long long unsigned int' [-Wsign-compare]
F:/biocbuild/bbs-3.16-bioc/R/library/beachmat/include/beachmat3/Csparse_reader.h: In instantiation of 'beachmat::sparse_index<OUT, I> beachmat::Csparse_core<TIT, I, P>::get_row(size_t, ALT, I*, size_t, size_t) [with OUT = const double*; ALT = double*; TIT = const int*; I = int; P = long long unsigned int; size_t = long long unsigned int]':
F:/biocbuild/bbs-3.16-bioc/R/library/beachmat/include/beachmat3/Csparse_reader.h:650:42:   required from 'beachmat::sparse_index<OUT, int> beachmat::SparseArraySeed_reader<V, TIT>::get_row(size_t, ALT, int*, size_t, size_t) [with OUT = const double*; ALT = double*; V = Rcpp::Vector<10, Rcpp::PreserveStorage>; TIT = const int*; size_t = long long unsigned int]'
F:/biocbuild/bbs-3.16-bioc/R/library/beachmat/include/beachmat3/lin_matrix.h:602:54:   required from 'beachmat::sparse_index<const double*, int> beachmat::lin_SparseArraySeed<V, TIT>::get_row(size_t, double*, int*, size_t, size_t) [with V = Rcpp::Vector<10, Rcpp::PreserveStorage>; TIT = const int*; size_t = long long unsigned int]'
F:/biocbuild/bbs-3.16-bioc/R/library/beachmat/include/beachmat3/lin_matrix.h:601:38:   required from here
F:/biocbuild/bbs-3.16-bioc/R/library/beachmat/include/beachmat3/Csparse_reader.h:250:22: warning: comparison of integer expressions of different signedness: 'const int' and 'const long long unsigned int' [-Wsign-compare]
g++  -std=gnu++11 -I"F:/biocbuild/bbs-3.16-bioc/R/include" -DNDEBUG  -I'F:/biocbuild/bbs-3.16-bioc/R/library/Rcpp/include' -I'F:/biocbuild/bbs-3.16-bioc/R/library/beachmat/include' -I'F:/biocbuild/bbs-3.16-bioc/R/library/BH/include' -I'F:/biocbuild/bbs-3.16-bioc/R/library/dqrng/include' -I'F:/biocbuild/bbs-3.16-bioc/R/library/scuttle/include'   -I"C:/rtools42/x86_64-w64-mingw32.static.posix/include"     -O2 -Wall  -mfpmath=sse -msse2 -mstackrealign  -c compute_rho_null.cpp -o compute_rho_null.o
In file included from F:/biocbuild/bbs-3.16-bioc/R/library/BH/include/boost/mpl/aux_/na_assert.hpp:23,
                 from F:/biocbuild/bbs-3.16-bioc/R/library/BH/include/boost/mpl/arg.hpp:25,
                 from F:/biocbuild/bbs-3.16-bioc/R/library/BH/include/boost/mpl/placeholders.hpp:24,
                 from F:/biocbuild/bbs-3.16-bioc/R/library/BH/include/boost/iterator/iterator_categories.hpp:16,
                 from F:/biocbuild/bbs-3.16-bioc/R/library/BH/include/boost/iterator/iterator_concepts.hpp:10,
                 from F:/biocbuild/bbs-3.16-bioc/R/library/BH/include/boost/range/concepts.hpp:20,
                 from F:/biocbuild/bbs-3.16-bioc/R/library/BH/include/boost/range/size_type.hpp:20,
                 from F:/biocbuild/bbs-3.16-bioc/R/library/BH/include/boost/range/size.hpp:21,
                 from F:/biocbuild/bbs-3.16-bioc/R/library/BH/include/boost/random/hyperexponential_distribution.hpp:29,
                 from F:/biocbuild/bbs-3.16-bioc/R/library/BH/include/boost/random.hpp:70,
                 from rand_custom.h:6,
                 from compute_rho_null.cpp:3:
F:/biocbuild/bbs-3.16-bioc/R/library/BH/include/boost/mpl/assert.hpp:194:21: warning: unnecessary parentheses in declaration of 'assert_arg' [-Wparentheses]
  194 | failed ************ (Pred::************
      |                     ^
F:/biocbuild/bbs-3.16-bioc/R/library/BH/include/boost/mpl/assert.hpp:199:21: warning: unnecessary parentheses in declaration of 'assert_not_arg' [-Wparentheses]
  199 | failed ************ (boost::mpl::not_<Pred>::************
      |                     ^
g++  -std=gnu++11 -I"F:/biocbuild/bbs-3.16-bioc/R/include" -DNDEBUG  -I'F:/biocbuild/bbs-3.16-bioc/R/library/Rcpp/include' -I'F:/biocbuild/bbs-3.16-bioc/R/library/beachmat/include' -I'F:/biocbuild/bbs-3.16-bioc/R/library/BH/include' -I'F:/biocbuild/bbs-3.16-bioc/R/library/dqrng/include' -I'F:/biocbuild/bbs-3.16-bioc/R/library/scuttle/include'   -I"C:/rtools42/x86_64-w64-mingw32.static.posix/include"     -O2 -Wall  -mfpmath=sse -msse2 -mstackrealign  -c cyclone_scores.cpp -o cyclone_scores.o
In file included from F:/biocbuild/bbs-3.16-bioc/R/library/BH/include/boost/mpl/aux_/na_assert.hpp:23,
                 from F:/biocbuild/bbs-3.16-bioc/R/library/BH/include/boost/mpl/arg.hpp:25,
                 from F:/biocbuild/bbs-3.16-bioc/R/library/BH/include/boost/mpl/placeholders.hpp:24,
                 from F:/biocbuild/bbs-3.16-bioc/R/library/BH/include/boost/iterator/iterator_categories.hpp:16,
                 from F:/biocbuild/bbs-3.16-bioc/R/library/BH/include/boost/iterator/iterator_concepts.hpp:10,
                 from F:/biocbuild/bbs-3.16-bioc/R/library/BH/include/boost/range/concepts.hpp:20,
                 from F:/biocbuild/bbs-3.16-bioc/R/library/BH/include/boost/range/algorithm.hpp:29,
                 from cyclone_scores.cpp:4:
F:/biocbuild/bbs-3.16-bioc/R/library/BH/include/boost/mpl/assert.hpp:194:21: warning: unnecessary parentheses in declaration of 'assert_arg' [-Wparentheses]
  194 | failed ************ (Pred::************
      |                     ^
F:/biocbuild/bbs-3.16-bioc/R/library/BH/include/boost/mpl/assert.hpp:199:21: warning: unnecessary parentheses in declaration of 'assert_not_arg' [-Wparentheses]
  199 | failed ************ (boost::mpl::not_<Pred>::************
      |                     ^
In file included from F:/biocbuild/bbs-3.16-bioc/R/library/beachmat/include/beachmat3/lin_matrix.h:12,
                 from F:/biocbuild/bbs-3.16-bioc/R/library/beachmat/include/beachmat3/read_lin_block.h:11,
                 from F:/biocbuild/bbs-3.16-bioc/R/library/beachmat/include/beachmat3/beachmat.h:24,
                 from cyclone_scores.cpp:3:
F:/biocbuild/bbs-3.16-bioc/R/library/beachmat/include/beachmat3/Csparse_reader.h: In instantiation of 'beachmat::SparseArraySeed_reader<V, TIT>::SparseArraySeed_reader(Rcpp::RObject) [with V = Rcpp::Vector<13>; TIT = const int*; Rcpp::RObject = Rcpp::RObject_Impl<Rcpp::PreserveStorage>]':
F:/biocbuild/bbs-3.16-bioc/R/library/beachmat/include/beachmat3/lin_matrix.h:561:56:   required from 'beachmat::lin_SparseArraySeed<V, TIT>::lin_SparseArraySeed(Rcpp::RObject) [with V = Rcpp::Vector<13>; TIT = const int*; Rcpp::RObject = Rcpp::RObject_Impl<Rcpp::PreserveStorage>]'
F:/biocbuild/bbs-3.16-bioc/R/library/beachmat/include/beachmat3/read_lin_block.h:36:39:   required from 'std::unique_ptr<_Codecvt> beachmat::read_lin_sparse_block_raw(Rcpp::RObject) [with M = beachmat::lin_matrix; Rcpp::RObject = Rcpp::RObject_Impl<Rcpp::PreserveStorage>]'
F:/biocbuild/bbs-3.16-bioc/R/library/beachmat/include/beachmat3/read_lin_block.h:65:63:   required from here
F:/biocbuild/bbs-3.16-bioc/R/library/beachmat/include/beachmat3/Csparse_reader.h:535:17: warning: comparison of integer expressions of different signedness: 'const size_t' {aka 'const long long unsigned int'} and 'R_xlen_t' {aka 'long long int'} [-Wsign-compare]
  535 |         if (nnz != x.size()) {
      |             ~~~~^~~~~~~~~~~
F:/biocbuild/bbs-3.16-bioc/R/library/beachmat/include/beachmat3/Csparse_reader.h:551:45: warning: comparison of integer expressions of different signedness: 'int' and 'const size_t' {aka 'const long long unsigned int'} [-Wsign-compare]
  551 |                     if (lastR <= 0 || lastR > NR || lastC <= 0 || lastC > NC) {
      |                                       ~~~~~~^~~~
F:/biocbuild/bbs-3.16-bioc/R/library/beachmat/include/beachmat3/Csparse_reader.h:551:73: warning: comparison of integer expressions of different signedness: 'int' and 'const size_t' {aka 'const long long unsigned int'} [-Wsign-compare]
  551 |                     if (lastR <= 0 || lastR > NR || lastC <= 0 || lastC > NC) {
      |                                                                   ~~~~~~^~~~
F:/biocbuild/bbs-3.16-bioc/R/library/beachmat/include/beachmat3/Csparse_reader.h:593:35: warning: comparison of integer expressions of different signedness: 'int' and 'const size_t' {aka 'const long long unsigned int'} [-Wsign-compare]
  593 |                 for (int v = 0; v < nnz; ++v, ++rowIt, ++colIt, ++xIt) {
      |                                 ~~^~~~~
F:/biocbuild/bbs-3.16-bioc/R/library/beachmat/include/beachmat3/Csparse_reader.h: In instantiation of 'beachmat::SparseArraySeed_reader<V, TIT>::SparseArraySeed_reader(Rcpp::RObject) [with V = Rcpp::Vector<14, Rcpp::PreserveStorage>; TIT = const double*; Rcpp::RObject = Rcpp::RObject_Impl<Rcpp::PreserveStorage>]':
F:/biocbuild/bbs-3.16-bioc/R/library/beachmat/include/beachmat3/lin_matrix.h:561:56:   required from 'beachmat::lin_SparseArraySeed<V, TIT>::lin_SparseArraySeed(Rcpp::RObject) [with V = Rcpp::Vector<14, Rcpp::PreserveStorage>; TIT = const double*; Rcpp::RObject = Rcpp::RObject_Impl<Rcpp::PreserveStorage>]'
F:/biocbuild/bbs-3.16-bioc/R/library/beachmat/include/beachmat3/read_lin_block.h:38:39:   required from 'std::unique_ptr<_Codecvt> beachmat::read_lin_sparse_block_raw(Rcpp::RObject) [with M = beachmat::lin_matrix; Rcpp::RObject = Rcpp::RObject_Impl<Rcpp::PreserveStorage>]'
F:/biocbuild/bbs-3.16-bioc/R/library/beachmat/include/beachmat3/read_lin_block.h:65:63:   required from here
F:/biocbuild/bbs-3.16-bioc/R/library/beachmat/include/beachmat3/Csparse_reader.h:535:17: warning: comparison of integer expressions of different signedness: 'const size_t' {aka 'const long long unsigned int'} and 'R_xlen_t' {aka 'long long int'} [-Wsign-compare]
  535 |         if (nnz != x.size()) {
      |             ~~~~^~~~~~~~~~~
F:/biocbuild/bbs-3.16-bioc/R/library/beachmat/include/beachmat3/Csparse_reader.h:551:45: warning: comparison of integer expressions of different signedness: 'int' and 'const size_t' {aka 'const long long unsigned int'} [-Wsign-compare]
  551 |                     if (lastR <= 0 || lastR > NR || lastC <= 0 || lastC > NC) {
      |                                       ~~~~~~^~~~
F:/biocbuild/bbs-3.16-bioc/R/library/beachmat/include/beachmat3/Csparse_reader.h:551:73: warning: comparison of integer expressions of different signedness: 'int' and 'const size_t' {aka 'const long long unsigned int'} [-Wsign-compare]
  551 |                     if (lastR <= 0 || lastR > NR || lastC <= 0 || lastC > NC) {
      |                                                                   ~~~~~~^~~~
F:/biocbuild/bbs-3.16-bioc/R/library/beachmat/include/beachmat3/Csparse_reader.h:593:35: warning: comparison of integer expressions of different signedness: 'int' and 'const size_t' {aka 'const long long unsigned int'} [-Wsign-compare]
  593 |                 for (int v = 0; v < nnz; ++v, ++rowIt, ++colIt, ++xIt) {
      |                                 ~~^~~~~
F:/biocbuild/bbs-3.16-bioc/R/library/beachmat/include/beachmat3/Csparse_reader.h: In instantiation of 'beachmat::SparseArraySeed_reader<V, TIT>::SparseArraySeed_reader(Rcpp::RObject) [with V = Rcpp::Vector<10, Rcpp::PreserveStorage>; TIT = const int*; Rcpp::RObject = Rcpp::RObject_Impl<Rcpp::PreserveStorage>]':
F:/biocbuild/bbs-3.16-bioc/R/library/beachmat/include/beachmat3/lin_matrix.h:561:56:   required from 'beachmat::lin_SparseArraySeed<V, TIT>::lin_SparseArraySeed(Rcpp::RObject) [with V = Rcpp::Vector<10, Rcpp::PreserveStorage>; TIT = const int*; Rcpp::RObject = Rcpp::RObject_Impl<Rcpp::PreserveStorage>]'
F:/biocbuild/bbs-3.16-bioc/R/library/beachmat/include/beachmat3/read_lin_block.h:40:39:   required from 'std::unique_ptr<_Codecvt> beachmat::read_lin_sparse_block_raw(Rcpp::RObject) [with M = beachmat::lin_matrix; Rcpp::RObject = Rcpp::RObject_Impl<Rcpp::PreserveStorage>]'
F:/biocbuild/bbs-3.16-bioc/R/library/beachmat/include/beachmat3/read_lin_block.h:65:63:   required from here
F:/biocbuild/bbs-3.16-bioc/R/library/beachmat/include/beachmat3/Csparse_reader.h:535:17: warning: comparison of integer expressions of different signedness: 'const size_t' {aka 'const long long unsigned int'} and 'R_xlen_t' {aka 'long long int'} [-Wsign-compare]
  535 |         if (nnz != x.size()) {
      |             ~~~~^~~~~~~~~~~
F:/biocbuild/bbs-3.16-bioc/R/library/beachmat/include/beachmat3/Csparse_reader.h:551:45: warning: comparison of integer expressions of different signedness: 'int' and 'const size_t' {aka 'const long long unsigned int'} [-Wsign-compare]
  551 |                     if (lastR <= 0 || lastR > NR || lastC <= 0 || lastC > NC) {
      |                                       ~~~~~~^~~~
F:/biocbuild/bbs-3.16-bioc/R/library/beachmat/include/beachmat3/Csparse_reader.h:551:73: warning: comparison of integer expressions of different signedness: 'int' and 'const size_t' {aka 'const long long unsigned int'} [-Wsign-compare]
  551 |                     if (lastR <= 0 || lastR > NR || lastC <= 0 || lastC > NC) {
      |                                                                   ~~~~~~^~~~
F:/biocbuild/bbs-3.16-bioc/R/library/beachmat/include/beachmat3/Csparse_reader.h:593:35: warning: comparison of integer expressions of different signedness: 'int' and 'const size_t' {aka 'const long long unsigned int'} [-Wsign-compare]
  593 |                 for (int v = 0; v < nnz; ++v, ++rowIt, ++colIt, ++xIt) {
      |                                 ~~^~~~~
F:/biocbuild/bbs-3.16-bioc/R/library/beachmat/include/beachmat3/Csparse_reader.h: In instantiation of 'beachmat::sparse_index<OUT, I> beachmat::Csparse_core<TIT, I, P>::get_row(size_t, ALT, I*, size_t, size_t) [with OUT = const int*; ALT = int*; TIT = const double*; I = int; P = long long unsigned int; size_t = long long unsigned int]':
F:/biocbuild/bbs-3.16-bioc/R/library/beachmat/include/beachmat3/Csparse_reader.h:650:42:   required from 'beachmat::sparse_index<OUT, int> beachmat::SparseArraySeed_reader<V, TIT>::get_row(size_t, ALT, int*, size_t, size_t) [with OUT = const int*; ALT = int*; V = Rcpp::Vector<14, Rcpp::PreserveStorage>; TIT = const double*; size_t = long long unsigned int]'
F:/biocbuild/bbs-3.16-bioc/R/library/beachmat/include/beachmat3/lin_matrix.h:596:51:   required from 'beachmat::sparse_index<const int*, int> beachmat::lin_SparseArraySeed<V, TIT>::get_row(size_t, int*, int*, size_t, size_t) [with V = Rcpp::Vector<14, Rcpp::PreserveStorage>; TIT = const double*; size_t = long long unsigned int]'
F:/biocbuild/bbs-3.16-bioc/R/library/beachmat/include/beachmat3/lin_matrix.h:595:35:   required from here
F:/biocbuild/bbs-3.16-bioc/R/library/beachmat/include/beachmat3/Csparse_reader.h:250:22: warning: comparison of integer expressions of different signedness: 'const int' and 'const long long unsigned int' [-Wsign-compare]
  250 |             if (idex != *pIt && static_cast<size_t>(i[idex]) == r) {
      |                 ~~~~~^~~~~~~
F:/biocbuild/bbs-3.16-bioc/R/library/beachmat/include/beachmat3/Csparse_reader.h: In instantiation of 'beachmat::sparse_index<OUT, I> beachmat::Csparse_core<TIT, I, P>::get_row(size_t, ALT, I*, size_t, size_t) [with OUT = const double*; ALT = double*; TIT = const double*; I = int; P = long long unsigned int; size_t = long long unsigned int]':
F:/biocbuild/bbs-3.16-bioc/R/library/beachmat/include/beachmat3/Csparse_reader.h:650:42:   required from 'beachmat::sparse_index<OUT, int> beachmat::SparseArraySeed_reader<V, TIT>::get_row(size_t, ALT, int*, size_t, size_t) [with OUT = const double*; ALT = double*; V = Rcpp::Vector<14, Rcpp::PreserveStorage>; TIT = const double*; size_t = long long unsigned int]'
F:/biocbuild/bbs-3.16-bioc/R/library/beachmat/include/beachmat3/lin_matrix.h:602:54:   required from 'beachmat::sparse_index<const double*, int> beachmat::lin_SparseArraySeed<V, TIT>::get_row(size_t, double*, int*, size_t, size_t) [with V = Rcpp::Vector<14, Rcpp::PreserveStorage>; TIT = const double*; size_t = long long unsigned int]'
F:/biocbuild/bbs-3.16-bioc/R/library/beachmat/include/beachmat3/lin_matrix.h:601:38:   required from here
F:/biocbuild/bbs-3.16-bioc/R/library/beachmat/include/beachmat3/Csparse_reader.h:250:22: warning: comparison of integer expressions of different signedness: 'const int' and 'const long long unsigned int' [-Wsign-compare]
F:/biocbuild/bbs-3.16-bioc/R/library/beachmat/include/beachmat3/Csparse_reader.h: In instantiation of 'beachmat::sparse_index<OUT, I> beachmat::Csparse_core<TIT, I, P>::get_row(size_t, ALT, I*, size_t, size_t) [with OUT = const int*; ALT = int*; TIT = const int*; I = int; P = long long unsigned int; size_t = long long unsigned int]':
F:/biocbuild/bbs-3.16-bioc/R/library/beachmat/include/beachmat3/Csparse_reader.h:650:42:   required from 'beachmat::sparse_index<OUT, int> beachmat::SparseArraySeed_reader<V, TIT>::get_row(size_t, ALT, int*, size_t, size_t) [with OUT = const int*; ALT = int*; V = Rcpp::Vector<10, Rcpp::PreserveStorage>; TIT = const int*; size_t = long long unsigned int]'
F:/biocbuild/bbs-3.16-bioc/R/library/beachmat/include/beachmat3/lin_matrix.h:596:51:   required from 'beachmat::sparse_index<const int*, int> beachmat::lin_SparseArraySeed<V, TIT>::get_row(size_t, int*, int*, size_t, size_t) [with V = Rcpp::Vector<10, Rcpp::PreserveStorage>; TIT = const int*; size_t = long long unsigned int]'
F:/biocbuild/bbs-3.16-bioc/R/library/beachmat/include/beachmat3/lin_matrix.h:595:35:   required from here
F:/biocbuild/bbs-3.16-bioc/R/library/beachmat/include/beachmat3/Csparse_reader.h:250:22: warning: comparison of integer expressions of different signedness: 'const int' and 'const long long unsigned int' [-Wsign-compare]
F:/biocbuild/bbs-3.16-bioc/R/library/beachmat/include/beachmat3/Csparse_reader.h: In instantiation of 'beachmat::sparse_index<OUT, I> beachmat::Csparse_core<TIT, I, P>::get_row(size_t, ALT, I*, size_t, size_t) [with OUT = const double*; ALT = double*; TIT = const int*; I = int; P = long long unsigned int; size_t = long long unsigned int]':
F:/biocbuild/bbs-3.16-bioc/R/library/beachmat/include/beachmat3/Csparse_reader.h:650:42:   required from 'beachmat::sparse_index<OUT, int> beachmat::SparseArraySeed_reader<V, TIT>::get_row(size_t, ALT, int*, size_t, size_t) [with OUT = const double*; ALT = double*; V = Rcpp::Vector<10, Rcpp::PreserveStorage>; TIT = const int*; size_t = long long unsigned int]'
F:/biocbuild/bbs-3.16-bioc/R/library/beachmat/include/beachmat3/lin_matrix.h:602:54:   required from 'beachmat::sparse_index<const double*, int> beachmat::lin_SparseArraySeed<V, TIT>::get_row(size_t, double*, int*, size_t, size_t) [with V = Rcpp::Vector<10, Rcpp::PreserveStorage>; TIT = const int*; size_t = long long unsigned int]'
F:/biocbuild/bbs-3.16-bioc/R/library/beachmat/include/beachmat3/lin_matrix.h:601:38:   required from here
F:/biocbuild/bbs-3.16-bioc/R/library/beachmat/include/beachmat3/Csparse_reader.h:250:22: warning: comparison of integer expressions of different signedness: 'const int' and 'const long long unsigned int' [-Wsign-compare]
g++  -std=gnu++11 -I"F:/biocbuild/bbs-3.16-bioc/R/include" -DNDEBUG  -I'F:/biocbuild/bbs-3.16-bioc/R/library/Rcpp/include' -I'F:/biocbuild/bbs-3.16-bioc/R/library/beachmat/include' -I'F:/biocbuild/bbs-3.16-bioc/R/library/BH/include' -I'F:/biocbuild/bbs-3.16-bioc/R/library/dqrng/include' -I'F:/biocbuild/bbs-3.16-bioc/R/library/scuttle/include'   -I"C:/rtools42/x86_64-w64-mingw32.static.posix/include"     -O2 -Wall  -mfpmath=sse -msse2 -mstackrealign  -c overlap_exprs.cpp -o overlap_exprs.o
overlap_exprs.cpp: In function 'Rcpp::NumericMatrix overlap_exprs_paired(Rcpp::RObject, Rcpp::IntegerVector, Rcpp::IntegerVector, Rcpp::List, double)':
overlap_exprs.cpp:214:27: warning: comparison of integer expressions of different signedness: 'size_t' {aka 'long long unsigned int'} and 'R_xlen_t' {aka 'long long int'} [-Wsign-compare]
  214 |         for (size_t i=0; i<left.size(); ++i, ++oIt) {
      |                          ~^~~~~~~~~~~~
overlap_exprs.cpp:202:18: warning: unused variable 'ngroups' [-Wunused-variable]
  202 |     const size_t ngroups=groups.size();
      |                  ^~~~~~~
In file included from F:/biocbuild/bbs-3.16-bioc/R/library/beachmat/include/beachmat3/lin_matrix.h:12,
                 from F:/biocbuild/bbs-3.16-bioc/R/library/beachmat/include/beachmat3/read_lin_block.h:11,
                 from F:/biocbuild/bbs-3.16-bioc/R/library/beachmat/include/beachmat3/beachmat.h:24,
                 from overlap_exprs.cpp:3:
F:/biocbuild/bbs-3.16-bioc/R/library/beachmat/include/beachmat3/Csparse_reader.h: In instantiation of 'beachmat::SparseArraySeed_reader<V, TIT>::SparseArraySeed_reader(Rcpp::RObject) [with V = Rcpp::Vector<13>; TIT = const int*; Rcpp::RObject = Rcpp::RObject_Impl<Rcpp::PreserveStorage>]':
F:/biocbuild/bbs-3.16-bioc/R/library/beachmat/include/beachmat3/lin_matrix.h:561:56:   required from 'beachmat::lin_SparseArraySeed<V, TIT>::lin_SparseArraySeed(Rcpp::RObject) [with V = Rcpp::Vector<13>; TIT = const int*; Rcpp::RObject = Rcpp::RObject_Impl<Rcpp::PreserveStorage>]'
F:/biocbuild/bbs-3.16-bioc/R/library/beachmat/include/beachmat3/read_lin_block.h:36:39:   required from 'std::unique_ptr<_Codecvt> beachmat::read_lin_sparse_block_raw(Rcpp::RObject) [with M = beachmat::lin_matrix; Rcpp::RObject = Rcpp::RObject_Impl<Rcpp::PreserveStorage>]'
F:/biocbuild/bbs-3.16-bioc/R/library/beachmat/include/beachmat3/read_lin_block.h:65:63:   required from here
F:/biocbuild/bbs-3.16-bioc/R/library/beachmat/include/beachmat3/Csparse_reader.h:535:17: warning: comparison of integer expressions of different signedness: 'const size_t' {aka 'const long long unsigned int'} and 'R_xlen_t' {aka 'long long int'} [-Wsign-compare]
  535 |         if (nnz != x.size()) {
      |             ~~~~^~~~~~~~~~~
F:/biocbuild/bbs-3.16-bioc/R/library/beachmat/include/beachmat3/Csparse_reader.h:551:45: warning: comparison of integer expressions of different signedness: 'int' and 'const size_t' {aka 'const long long unsigned int'} [-Wsign-compare]
  551 |                     if (lastR <= 0 || lastR > NR || lastC <= 0 || lastC > NC) {
      |                                       ~~~~~~^~~~
F:/biocbuild/bbs-3.16-bioc/R/library/beachmat/include/beachmat3/Csparse_reader.h:551:73: warning: comparison of integer expressions of different signedness: 'int' and 'const size_t' {aka 'const long long unsigned int'} [-Wsign-compare]
  551 |                     if (lastR <= 0 || lastR > NR || lastC <= 0 || lastC > NC) {
      |                                                                   ~~~~~~^~~~
F:/biocbuild/bbs-3.16-bioc/R/library/beachmat/include/beachmat3/Csparse_reader.h:593:35: warning: comparison of integer expressions of different signedness: 'int' and 'const size_t' {aka 'const long long unsigned int'} [-Wsign-compare]
  593 |                 for (int v = 0; v < nnz; ++v, ++rowIt, ++colIt, ++xIt) {
      |                                 ~~^~~~~
F:/biocbuild/bbs-3.16-bioc/R/library/beachmat/include/beachmat3/Csparse_reader.h: In instantiation of 'beachmat::SparseArraySeed_reader<V, TIT>::SparseArraySeed_reader(Rcpp::RObject) [with V = Rcpp::Vector<14, Rcpp::PreserveStorage>; TIT = const double*; Rcpp::RObject = Rcpp::RObject_Impl<Rcpp::PreserveStorage>]':
F:/biocbuild/bbs-3.16-bioc/R/library/beachmat/include/beachmat3/lin_matrix.h:561:56:   required from 'beachmat::lin_SparseArraySeed<V, TIT>::lin_SparseArraySeed(Rcpp::RObject) [with V = Rcpp::Vector<14, Rcpp::PreserveStorage>; TIT = const double*; Rcpp::RObject = Rcpp::RObject_Impl<Rcpp::PreserveStorage>]'
F:/biocbuild/bbs-3.16-bioc/R/library/beachmat/include/beachmat3/read_lin_block.h:38:39:   required from 'std::unique_ptr<_Codecvt> beachmat::read_lin_sparse_block_raw(Rcpp::RObject) [with M = beachmat::lin_matrix; Rcpp::RObject = Rcpp::RObject_Impl<Rcpp::PreserveStorage>]'
F:/biocbuild/bbs-3.16-bioc/R/library/beachmat/include/beachmat3/read_lin_block.h:65:63:   required from here
F:/biocbuild/bbs-3.16-bioc/R/library/beachmat/include/beachmat3/Csparse_reader.h:535:17: warning: comparison of integer expressions of different signedness: 'const size_t' {aka 'const long long unsigned int'} and 'R_xlen_t' {aka 'long long int'} [-Wsign-compare]
  535 |         if (nnz != x.size()) {
      |             ~~~~^~~~~~~~~~~
F:/biocbuild/bbs-3.16-bioc/R/library/beachmat/include/beachmat3/Csparse_reader.h:551:45: warning: comparison of integer expressions of different signedness: 'int' and 'const size_t' {aka 'const long long unsigned int'} [-Wsign-compare]
  551 |                     if (lastR <= 0 || lastR > NR || lastC <= 0 || lastC > NC) {
      |                                       ~~~~~~^~~~
F:/biocbuild/bbs-3.16-bioc/R/library/beachmat/include/beachmat3/Csparse_reader.h:551:73: warning: comparison of integer expressions of different signedness: 'int' and 'const size_t' {aka 'const long long unsigned int'} [-Wsign-compare]
  551 |                     if (lastR <= 0 || lastR > NR || lastC <= 0 || lastC > NC) {
      |                                                                   ~~~~~~^~~~
F:/biocbuild/bbs-3.16-bioc/R/library/beachmat/include/beachmat3/Csparse_reader.h:593:35: warning: comparison of integer expressions of different signedness: 'int' and 'const size_t' {aka 'const long long unsigned int'} [-Wsign-compare]
  593 |                 for (int v = 0; v < nnz; ++v, ++rowIt, ++colIt, ++xIt) {
      |                                 ~~^~~~~
F:/biocbuild/bbs-3.16-bioc/R/library/beachmat/include/beachmat3/Csparse_reader.h: In instantiation of 'beachmat::SparseArraySeed_reader<V, TIT>::SparseArraySeed_reader(Rcpp::RObject) [with V = Rcpp::Vector<10, Rcpp::PreserveStorage>; TIT = const int*; Rcpp::RObject = Rcpp::RObject_Impl<Rcpp::PreserveStorage>]':
F:/biocbuild/bbs-3.16-bioc/R/library/beachmat/include/beachmat3/lin_matrix.h:561:56:   required from 'beachmat::lin_SparseArraySeed<V, TIT>::lin_SparseArraySeed(Rcpp::RObject) [with V = Rcpp::Vector<10, Rcpp::PreserveStorage>; TIT = const int*; Rcpp::RObject = Rcpp::RObject_Impl<Rcpp::PreserveStorage>]'
F:/biocbuild/bbs-3.16-bioc/R/library/beachmat/include/beachmat3/read_lin_block.h:40:39:   required from 'std::unique_ptr<_Codecvt> beachmat::read_lin_sparse_block_raw(Rcpp::RObject) [with M = beachmat::lin_matrix; Rcpp::RObject = Rcpp::RObject_Impl<Rcpp::PreserveStorage>]'
F:/biocbuild/bbs-3.16-bioc/R/library/beachmat/include/beachmat3/read_lin_block.h:65:63:   required from here
F:/biocbuild/bbs-3.16-bioc/R/library/beachmat/include/beachmat3/Csparse_reader.h:535:17: warning: comparison of integer expressions of different signedness: 'const size_t' {aka 'const long long unsigned int'} and 'R_xlen_t' {aka 'long long int'} [-Wsign-compare]
  535 |         if (nnz != x.size()) {
      |             ~~~~^~~~~~~~~~~
F:/biocbuild/bbs-3.16-bioc/R/library/beachmat/include/beachmat3/Csparse_reader.h:551:45: warning: comparison of integer expressions of different signedness: 'int' and 'const size_t' {aka 'const long long unsigned int'} [-Wsign-compare]
  551 |                     if (lastR <= 0 || lastR > NR || lastC <= 0 || lastC > NC) {
      |                                       ~~~~~~^~~~
F:/biocbuild/bbs-3.16-bioc/R/library/beachmat/include/beachmat3/Csparse_reader.h:551:73: warning: comparison of integer expressions of different signedness: 'int' and 'const size_t' {aka 'const long long unsigned int'} [-Wsign-compare]
  551 |                     if (lastR <= 0 || lastR > NR || lastC <= 0 || lastC > NC) {
      |                                                                   ~~~~~~^~~~
F:/biocbuild/bbs-3.16-bioc/R/library/beachmat/include/beachmat3/Csparse_reader.h:593:35: warning: comparison of integer expressions of different signedness: 'int' and 'const size_t' {aka 'const long long unsigned int'} [-Wsign-compare]
  593 |                 for (int v = 0; v < nnz; ++v, ++rowIt, ++colIt, ++xIt) {
      |                                 ~~^~~~~
F:/biocbuild/bbs-3.16-bioc/R/library/beachmat/include/beachmat3/Csparse_reader.h: In instantiation of 'beachmat::sparse_index<OUT, I> beachmat::Csparse_core<TIT, I, P>::get_row(size_t, ALT, I*, size_t, size_t) [with OUT = const int*; ALT = int*; TIT = const double*; I = int; P = long long unsigned int; size_t = long long unsigned int]':
F:/biocbuild/bbs-3.16-bioc/R/library/beachmat/include/beachmat3/Csparse_reader.h:650:42:   required from 'beachmat::sparse_index<OUT, int> beachmat::SparseArraySeed_reader<V, TIT>::get_row(size_t, ALT, int*, size_t, size_t) [with OUT = const int*; ALT = int*; V = Rcpp::Vector<14, Rcpp::PreserveStorage>; TIT = const double*; size_t = long long unsigned int]'
F:/biocbuild/bbs-3.16-bioc/R/library/beachmat/include/beachmat3/lin_matrix.h:596:51:   required from 'beachmat::sparse_index<const int*, int> beachmat::lin_SparseArraySeed<V, TIT>::get_row(size_t, int*, int*, size_t, size_t) [with V = Rcpp::Vector<14, Rcpp::PreserveStorage>; TIT = const double*; size_t = long long unsigned int]'
F:/biocbuild/bbs-3.16-bioc/R/library/beachmat/include/beachmat3/lin_matrix.h:595:35:   required from here
F:/biocbuild/bbs-3.16-bioc/R/library/beachmat/include/beachmat3/Csparse_reader.h:250:22: warning: comparison of integer expressions of different signedness: 'const int' and 'const long long unsigned int' [-Wsign-compare]
  250 |             if (idex != *pIt && static_cast<size_t>(i[idex]) == r) {
      |                 ~~~~~^~~~~~~
F:/biocbuild/bbs-3.16-bioc/R/library/beachmat/include/beachmat3/Csparse_reader.h: In instantiation of 'beachmat::sparse_index<OUT, I> beachmat::Csparse_core<TIT, I, P>::get_row(size_t, ALT, I*, size_t, size_t) [with OUT = const double*; ALT = double*; TIT = const double*; I = int; P = long long unsigned int; size_t = long long unsigned int]':
F:/biocbuild/bbs-3.16-bioc/R/library/beachmat/include/beachmat3/Csparse_reader.h:650:42:   required from 'beachmat::sparse_index<OUT, int> beachmat::SparseArraySeed_reader<V, TIT>::get_row(size_t, ALT, int*, size_t, size_t) [with OUT = const double*; ALT = double*; V = Rcpp::Vector<14, Rcpp::PreserveStorage>; TIT = const double*; size_t = long long unsigned int]'
F:/biocbuild/bbs-3.16-bioc/R/library/beachmat/include/beachmat3/lin_matrix.h:602:54:   required from 'beachmat::sparse_index<const double*, int> beachmat::lin_SparseArraySeed<V, TIT>::get_row(size_t, double*, int*, size_t, size_t) [with V = Rcpp::Vector<14, Rcpp::PreserveStorage>; TIT = const double*; size_t = long long unsigned int]'
F:/biocbuild/bbs-3.16-bioc/R/library/beachmat/include/beachmat3/lin_matrix.h:601:38:   required from here
F:/biocbuild/bbs-3.16-bioc/R/library/beachmat/include/beachmat3/Csparse_reader.h:250:22: warning: comparison of integer expressions of different signedness: 'const int' and 'const long long unsigned int' [-Wsign-compare]
F:/biocbuild/bbs-3.16-bioc/R/library/beachmat/include/beachmat3/Csparse_reader.h: In instantiation of 'beachmat::sparse_index<OUT, I> beachmat::Csparse_core<TIT, I, P>::get_row(size_t, ALT, I*, size_t, size_t) [with OUT = const int*; ALT = int*; TIT = const int*; I = int; P = long long unsigned int; size_t = long long unsigned int]':
F:/biocbuild/bbs-3.16-bioc/R/library/beachmat/include/beachmat3/Csparse_reader.h:650:42:   required from 'beachmat::sparse_index<OUT, int> beachmat::SparseArraySeed_reader<V, TIT>::get_row(size_t, ALT, int*, size_t, size_t) [with OUT = const int*; ALT = int*; V = Rcpp::Vector<10, Rcpp::PreserveStorage>; TIT = const int*; size_t = long long unsigned int]'
F:/biocbuild/bbs-3.16-bioc/R/library/beachmat/include/beachmat3/lin_matrix.h:596:51:   required from 'beachmat::sparse_index<const int*, int> beachmat::lin_SparseArraySeed<V, TIT>::get_row(size_t, int*, int*, size_t, size_t) [with V = Rcpp::Vector<10, Rcpp::PreserveStorage>; TIT = const int*; size_t = long long unsigned int]'
F:/biocbuild/bbs-3.16-bioc/R/library/beachmat/include/beachmat3/lin_matrix.h:595:35:   required from here
F:/biocbuild/bbs-3.16-bioc/R/library/beachmat/include/beachmat3/Csparse_reader.h:250:22: warning: comparison of integer expressions of different signedness: 'const int' and 'const long long unsigned int' [-Wsign-compare]
F:/biocbuild/bbs-3.16-bioc/R/library/beachmat/include/beachmat3/Csparse_reader.h: In instantiation of 'beachmat::sparse_index<OUT, I> beachmat::Csparse_core<TIT, I, P>::get_row(size_t, ALT, I*, size_t, size_t) [with OUT = const double*; ALT = double*; TIT = const int*; I = int; P = long long unsigned int; size_t = long long unsigned int]':
F:/biocbuild/bbs-3.16-bioc/R/library/beachmat/include/beachmat3/Csparse_reader.h:650:42:   required from 'beachmat::sparse_index<OUT, int> beachmat::SparseArraySeed_reader<V, TIT>::get_row(size_t, ALT, int*, size_t, size_t) [with OUT = const double*; ALT = double*; V = Rcpp::Vector<10, Rcpp::PreserveStorage>; TIT = const int*; size_t = long long unsigned int]'
F:/biocbuild/bbs-3.16-bioc/R/library/beachmat/include/beachmat3/lin_matrix.h:602:54:   required from 'beachmat::sparse_index<const double*, int> beachmat::lin_SparseArraySeed<V, TIT>::get_row(size_t, double*, int*, size_t, size_t) [with V = Rcpp::Vector<10, Rcpp::PreserveStorage>; TIT = const int*; size_t = long long unsigned int]'
F:/biocbuild/bbs-3.16-bioc/R/library/beachmat/include/beachmat3/lin_matrix.h:601:38:   required from here
F:/biocbuild/bbs-3.16-bioc/R/library/beachmat/include/beachmat3/Csparse_reader.h:250:22: warning: comparison of integer expressions of different signedness: 'const int' and 'const long long unsigned int' [-Wsign-compare]
g++  -std=gnu++11 -I"F:/biocbuild/bbs-3.16-bioc/R/include" -DNDEBUG  -I'F:/biocbuild/bbs-3.16-bioc/R/library/Rcpp/include' -I'F:/biocbuild/bbs-3.16-bioc/R/library/beachmat/include' -I'F:/biocbuild/bbs-3.16-bioc/R/library/BH/include' -I'F:/biocbuild/bbs-3.16-bioc/R/library/dqrng/include' -I'F:/biocbuild/bbs-3.16-bioc/R/library/scuttle/include'   -I"C:/rtools42/x86_64-w64-mingw32.static.posix/include"     -O2 -Wall  -mfpmath=sse -msse2 -mstackrealign  -c rand_custom.cpp -o rand_custom.o
In file included from F:/biocbuild/bbs-3.16-bioc/R/library/BH/include/boost/mpl/aux_/na_assert.hpp:23,
                 from F:/biocbuild/bbs-3.16-bioc/R/library/BH/include/boost/mpl/arg.hpp:25,
                 from F:/biocbuild/bbs-3.16-bioc/R/library/BH/include/boost/mpl/placeholders.hpp:24,
                 from F:/biocbuild/bbs-3.16-bioc/R/library/BH/include/boost/iterator/iterator_categories.hpp:16,
                 from F:/biocbuild/bbs-3.16-bioc/R/library/BH/include/boost/iterator/iterator_concepts.hpp:10,
                 from F:/biocbuild/bbs-3.16-bioc/R/library/BH/include/boost/range/concepts.hpp:20,
                 from F:/biocbuild/bbs-3.16-bioc/R/library/BH/include/boost/range/size_type.hpp:20,
                 from F:/biocbuild/bbs-3.16-bioc/R/library/BH/include/boost/range/size.hpp:21,
                 from F:/biocbuild/bbs-3.16-bioc/R/library/BH/include/boost/random/hyperexponential_distribution.hpp:29,
                 from F:/biocbuild/bbs-3.16-bioc/R/library/BH/include/boost/random.hpp:70,
                 from rand_custom.h:6,
                 from rand_custom.cpp:1:
F:/biocbuild/bbs-3.16-bioc/R/library/BH/include/boost/mpl/assert.hpp:194:21: warning: unnecessary parentheses in declaration of 'assert_arg' [-Wparentheses]
  194 | failed ************ (Pred::************
      |                     ^
F:/biocbuild/bbs-3.16-bioc/R/library/BH/include/boost/mpl/assert.hpp:199:21: warning: unnecessary parentheses in declaration of 'assert_not_arg' [-Wparentheses]
  199 | failed ************ (boost::mpl::not_<Pred>::************
      |                     ^
g++ -shared -s -static-libgcc -o scran.dll tmp.def RcppExports.o choose_effect_size.o combine_rho.o compute_blocked_stats.o compute_residual_stats.o compute_rho_null.o cyclone_scores.o overlap_exprs.o rand_custom.o -LF:/biocbuild/bbs-3.16-bioc/R/bin/x64 -lRlapack -LF:/biocbuild/bbs-3.16-bioc/R/bin/x64 -lRblas -lgfortran -lm -lquadmath -LC:/rtools42/x86_64-w64-mingw32.static.posix/lib/x64 -LC:/rtools42/x86_64-w64-mingw32.static.posix/lib -LF:/biocbuild/bbs-3.16-bioc/R/bin/x64 -lR
installing to F:/biocbuild/bbs-3.16-bioc/meat/scran.buildbin-libdir/00LOCK-scran/00new/scran/libs/x64
** R
** inst
** byte-compile and prepare package for lazy loading
** help
*** installing help indices
** building package indices
** installing vignettes
** testing if installed package can be loaded from temporary location
** testing if installed package can be loaded from final location
** testing if installed package keeps a record of temporary installation path
* MD5 sums
packaged installation of 'scran' as scran_1.25.0.zip
* DONE (scran)