Back to Multiple platform build/check report for BioC 3.16
ABCDEFGHIJKLMNOPQR[S]TUVWXYZ

This page was generated on 2022-06-24 11:07:14 -0400 (Fri, 24 Jun 2022).

HostnameOSArch (*)R versionInstalled pkgs
nebbiolo2Linux (Ubuntu 20.04.4 LTS)x86_644.2.0 Patched (2022-06-02 r82447) -- "Vigorous Calisthenics" 4331
palomino4Windows Server 2022 Datacenterx644.2.0 Patched (2022-06-02 r82447 ucrt) -- "Vigorous Calisthenics" 4136
lconwaymacOS 12.2.1 Montereyx86_644.2.0 Patched (2022-05-29 r82424) -- "Vigorous Calisthenics" 4147
Click on any hostname to see more info about the system (e.g. compilers)      (*) as reported by 'uname -p', except on Windows and Mac OS X

INSTALL results for singleCellTK on palomino4


To the developers/maintainers of the singleCellTK package:
- Please allow up to 24 hours (and sometimes 48 hours) for your latest push to git@git.bioconductor.org:packages/singleCellTK.git to
reflect on this report. See How and When does the builder pull? When will my changes propagate? for more information.
- Make sure to use the following settings in order to reproduce any error or warning you see on this page.

raw results

Package 1836/2118HostnameOS / ArchINSTALLBUILDCHECKBUILD BIN
singleCellTK 2.7.0  (landing page)
Yichen Wang
Snapshot Date: 2022-06-23 14:00:04 -0400 (Thu, 23 Jun 2022)
git_url: https://git.bioconductor.org/packages/singleCellTK
git_branch: master
git_last_commit: 289be130
git_last_commit_date: 2022-04-26 11:48:48 -0400 (Tue, 26 Apr 2022)
nebbiolo2Linux (Ubuntu 20.04.4 LTS) / x86_64  OK    OK    ERROR  
palomino4Windows Server 2022 Datacenter / x64  OK    OK    ERROR    OK  
lconwaymacOS 12.2.1 Monterey / x86_64  OK    OK    ERROR    OK  

Summary

Package: singleCellTK
Version: 2.7.0
Command: C:\cygwin\bin\curl.exe -O http://155.52.207.166/BBS/3.16/bioc/src/contrib/singleCellTK_2.7.0.tar.gz && rm -rf singleCellTK.buildbin-libdir && mkdir singleCellTK.buildbin-libdir && F:\biocbuild\bbs-3.16-bioc\R\bin\R.exe CMD INSTALL --merge-multiarch --build --library=singleCellTK.buildbin-libdir singleCellTK_2.7.0.tar.gz && F:\biocbuild\bbs-3.16-bioc\R\bin\R.exe CMD INSTALL singleCellTK_2.7.0.zip && rm singleCellTK_2.7.0.tar.gz singleCellTK_2.7.0.zip
StartedAt: 2022-06-23 16:50:16 -0400 (Thu, 23 Jun 2022)
EndedAt: 2022-06-23 16:51:19 -0400 (Thu, 23 Jun 2022)
EllapsedTime: 63.3 seconds
RetCode: 0
Status:   OK  

Command output

##############################################################################
##############################################################################
###
### Running command:
###
###   C:\cygwin\bin\curl.exe -O http://155.52.207.166/BBS/3.16/bioc/src/contrib/singleCellTK_2.7.0.tar.gz && rm -rf singleCellTK.buildbin-libdir && mkdir singleCellTK.buildbin-libdir && F:\biocbuild\bbs-3.16-bioc\R\bin\R.exe CMD INSTALL --merge-multiarch --build --library=singleCellTK.buildbin-libdir singleCellTK_2.7.0.tar.gz && F:\biocbuild\bbs-3.16-bioc\R\bin\R.exe CMD INSTALL singleCellTK_2.7.0.zip && rm singleCellTK_2.7.0.tar.gz singleCellTK_2.7.0.zip
###
##############################################################################
##############################################################################


  % Total    % Received % Xferd  Average Speed   Time    Time     Time  Current
                                 Dload  Upload   Total   Spent    Left  Speed

  0     0    0     0    0     0      0      0 --:--:-- --:--:-- --:--:--     0
 19 39.5M   19 7817k    0     0  10.0M      0  0:00:03 --:--:--  0:00:03 10.0M
 49 39.5M   49 19.4M    0     0  11.0M      0  0:00:03  0:00:01  0:00:02 11.0M
 96 39.5M   96 38.2M    0     0  13.8M      0  0:00:02  0:00:02 --:--:-- 13.8M
100 39.5M  100 39.5M    0     0  14.0M      0  0:00:02  0:00:02 --:--:-- 14.0M
only one architecture so ignoring '--merge-multiarch'
* installing *source* package 'singleCellTK' ...
** using staged installation
** R
** data
** exec
** inst
** byte-compile and prepare package for lazy loading
** help
*** installing help indices
** building package indices
** installing vignettes
** testing if installed package can be loaded from temporary location
** testing if installed package can be loaded from final location
** testing if installed package keeps a record of temporary installation path
* MD5 sums
packaged installation of 'singleCellTK' as singleCellTK_2.7.0.zip
* DONE (singleCellTK)
* installing to library 'F:/biocbuild/bbs-3.16-bioc/R/library'
package 'singleCellTK' successfully unpacked and MD5 sums checked