Back to Multiple platform build/check report for BioC 3.16:   simplified   long
ABC[D]EFGHIJKLMNOPQRSTUVWXYZ

This page was generated on 2023-02-03 11:04:47 -0500 (Fri, 03 Feb 2023).

HostnameOSArch (*)R versionInstalled pkgs
nebbiolo2Linux (Ubuntu 20.04.5 LTS)x86_644.2.2 (2022-10-31) -- "Innocent and Trusting" 4511
palomino4Windows Server 2022 Datacenterx644.2.2 (2022-10-31 ucrt) -- "Innocent and Trusting" 4289
lconwaymacOS 12.5.1 Montereyx86_644.2.2 (2022-10-31) -- "Innocent and Trusting" 4318
Click on any hostname to see more info about the system (e.g. compilers)      (*) as reported by 'uname -p', except on Windows and Mac OS X

All results for package DelayedArray


To the developers/maintainers of the DelayedArray package:
- Please allow up to 24 hours (and sometimes 48 hours) for your latest push to git@git.bioconductor.org:packages/DelayedArray.git to
reflect on this report. See How and When does the builder pull? When will my changes propagate? for more information.
- Make sure to use the following settings in order to reproduce any error or warning you see on this page.

raw results

Package 503/2183HostnameOS / ArchINSTALLBUILDCHECKBUILD BIN
DelayedArray 0.24.0  (landing page)
Hervé Pagès
Snapshot Date: 2023-02-02 14:00:04 -0500 (Thu, 02 Feb 2023)
git_url: https://git.bioconductor.org/packages/DelayedArray
git_branch: RELEASE_3_16
git_last_commit: 68ee3d0
git_last_commit_date: 2022-11-01 11:14:54 -0500 (Tue, 01 Nov 2022)
nebbiolo2Linux (Ubuntu 20.04.5 LTS) / x86_64  OK    OK    WARNINGS  UNNEEDED, same version is already published
palomino4Windows Server 2022 Datacenter / x64  OK    ERROR  skippedskipped
lconwaymacOS 12.5.1 Monterey / x86_64  OK    OK    WARNINGS    OK  UNNEEDED, same version is already published

Results for Bioconductor software packages that depend directly on package DelayedArray

QUICK STATSOS / ArchINSTALLBUILDCHECKBUILD BIN
nebbiolo2Linux (Ubuntu 20.04.5 LTS) / x86_64
0079
0079
021067
palomino4Windows Server 2022 Datacenter / x64
0079
0277
021065
0077
lconwaymacOS 12.5.1 Monterey / x86_64
0079
0178
011067
0078
Package 1/79HostnameOS / ArchINSTALLBUILDCHECKBUILD BIN
AUCell 1.20.2  (landing page)
Sara Aibar
git_last_commit: 1822d37
git_last_commit_date: 2022-12-01 10:43:21 -0500
nebbiolo2Linux (Ubuntu 20.04.5 LTS) / x86_64  OK    OK    OK  UNNEEDED, same version is already published
palomino4Windows Server 2022 Datacenter / x64  OK    OK    OK    OK  UNNEEDED, same version is already published
lconwaymacOS 12.5.1 Monterey / x86_64  OK    OK    OK    OK  UNNEEDED, same version is already published
Package 2/79HostnameOS / ArchINSTALLBUILDCHECKBUILD BIN
batchelor 1.14.1  (landing page)
Aaron Lun
git_last_commit: a1f3e84
git_last_commit_date: 2023-01-02 20:16:37 -0500
nebbiolo2Linux (Ubuntu 20.04.5 LTS) / x86_64  OK    OK    OK  UNNEEDED, same version is already published
palomino4Windows Server 2022 Datacenter / x64  OK    OK    OK    OK  UNNEEDED, same version is already published
lconwaymacOS 12.5.1 Monterey / x86_64  OK    OK    OK    OK  UNNEEDED, same version is already published
Package 3/79HostnameOS / ArchINSTALLBUILDCHECKBUILD BIN
beachmat 2.14.0  (landing page)
Aaron Lun
git_last_commit: 5a4b85f
git_last_commit_date: 2022-11-01 11:15:58 -0500
nebbiolo2Linux (Ubuntu 20.04.5 LTS) / x86_64  OK    OK    OK  UNNEEDED, same version is already published
palomino4Windows Server 2022 Datacenter / x64  OK    OK    OK    OK  UNNEEDED, same version is already published
lconwaymacOS 12.5.1 Monterey / x86_64  OK    OK    OK    OK  UNNEEDED, same version is already published
Package 4/79HostnameOS / ArchINSTALLBUILDCHECKBUILD BIN
bigPint 1.14.0  (landing page)
Lindsay Rutter
git_last_commit: ce713bc
git_last_commit_date: 2022-11-01 11:19:09 -0500
nebbiolo2Linux (Ubuntu 20.04.5 LTS) / x86_64  OK    OK    WARNINGS  UNNEEDED, same version is already published
palomino4Windows Server 2022 Datacenter / x64  OK    OK    WARNINGS    OK  UNNEEDED, same version is already published
lconwaymacOS 12.5.1 Monterey / x86_64  OK    OK    WARNINGS    OK  UNNEEDED, same version is already published
Package 5/79HostnameOS / ArchINSTALLBUILDCHECKBUILD BIN
BiocSingular 1.14.0  (landing page)
Aaron Lun
git_last_commit: 6dc42b3
git_last_commit_date: 2022-11-01 11:19:16 -0500
nebbiolo2Linux (Ubuntu 20.04.5 LTS) / x86_64  OK    OK    OK  UNNEEDED, same version is already published
palomino4Windows Server 2022 Datacenter / x64  OK    OK    OK    OK  UNNEEDED, same version is already published
lconwaymacOS 12.5.1 Monterey / x86_64  OK    OK    OK    OK  UNNEEDED, same version is already published
Package 6/79HostnameOS / ArchINSTALLBUILDCHECKBUILD BIN
bsseq 1.34.0  (landing page)
Kasper Daniel Hansen
git_last_commit: 98239c0
git_last_commit_date: 2022-11-01 11:07:09 -0500
nebbiolo2Linux (Ubuntu 20.04.5 LTS) / x86_64  OK    OK    OK  UNNEEDED, same version is already published
palomino4Windows Server 2022 Datacenter / x64  OK    OK    OK    OK  UNNEEDED, same version is already published
lconwaymacOS 12.5.1 Monterey / x86_64  OK    OK    OK    OK  UNNEEDED, same version is already published
Package 7/79HostnameOS / ArchINSTALLBUILDCHECKBUILD BIN
CAGEr 2.4.0  (landing page)
Charles Plessy
git_last_commit: 4ce371f
git_last_commit_date: 2022-11-01 11:07:54 -0500
nebbiolo2Linux (Ubuntu 20.04.5 LTS) / x86_64  OK    OK    OK  UNNEEDED, same version is already published
palomino4Windows Server 2022 Datacenter / x64  OK    OK    OK    OK  UNNEEDED, same version is already published
lconwaymacOS 12.5.1 Monterey / x86_64  OK    OK    OK    OK  UNNEEDED, same version is already published
Package 8/79HostnameOS / ArchINSTALLBUILDCHECKBUILD BIN
celaref 1.16.0  (landing page)
Sarah Williams
git_last_commit: 2556728
git_last_commit_date: 2022-11-01 11:18:14 -0500
nebbiolo2Linux (Ubuntu 20.04.5 LTS) / x86_64  OK    OK    OK  UNNEEDED, same version is already published
palomino4Windows Server 2022 Datacenter / x64  OK    OK    OK    OK  UNNEEDED, same version is already published
lconwaymacOS 12.5.1 Monterey / x86_64  OK    OK    OK    OK  UNNEEDED, same version is already published
Package 9/79HostnameOS / ArchINSTALLBUILDCHECKBUILD BIN
celda 1.14.2  (landing page)
Joshua Campbell
git_last_commit: b0beb97
git_last_commit_date: 2023-01-19 11:15:20 -0500
nebbiolo2Linux (Ubuntu 20.04.5 LTS) / x86_64  OK    OK    OK  UNNEEDED, same version is already published
palomino4Windows Server 2022 Datacenter / x64  OK    OK    OK    OK  UNNEEDED, same version is already published
lconwaymacOS 12.5.1 Monterey / x86_64  OK    OK    OK    OK  UNNEEDED, same version is already published
Package 10/79HostnameOS / ArchINSTALLBUILDCHECKBUILD BIN
Cepo 1.4.0  (landing page)
Hani Jieun Kim
git_last_commit: 7410238
git_last_commit_date: 2022-11-01 11:26:00 -0500
nebbiolo2Linux (Ubuntu 20.04.5 LTS) / x86_64  OK    OK    WARNINGS  UNNEEDED, same version is already published
palomino4Windows Server 2022 Datacenter / x64  OK    OK    WARNINGS    OK  UNNEEDED, same version is already published
lconwaymacOS 12.5.1 Monterey / x86_64  OK    OK    WARNINGS    OK  UNNEEDED, same version is already published
Package 11/79HostnameOS / ArchINSTALLBUILDCHECKBUILD BIN
ChromSCape 1.8.0  (landing page)
Pacome Prompsy
git_last_commit: d32bd33
git_last_commit_date: 2022-11-01 11:23:01 -0500
nebbiolo2Linux (Ubuntu 20.04.5 LTS) / x86_64  OK    OK    OK  UNNEEDED, same version is already published
palomino4Windows Server 2022 Datacenter / x64  OK    OK    OK    OK  UNNEEDED, same version is already published
lconwaymacOS 12.5.1 Monterey / x86_64  OK    OK    OK    OK  UNNEEDED, same version is already published
Package 12/79HostnameOS / ArchINSTALLBUILDCHECKBUILD BIN
clusterExperiment 2.18.2  (landing page)
Elizabeth Purdom
git_last_commit: eae8335
git_last_commit_date: 2023-01-19 11:15:47 -0500
nebbiolo2Linux (Ubuntu 20.04.5 LTS) / x86_64  OK    OK    WARNINGS  UNNEEDED, same version is already published
palomino4Windows Server 2022 Datacenter / x64  OK    OK    WARNINGS    OK  UNNEEDED, same version is already published
lconwaymacOS 12.5.1 Monterey / x86_64  OK    OK    WARNINGS    OK  UNNEEDED, same version is already published
Package 13/79HostnameOS / ArchINSTALLBUILDCHECKBUILD BIN
compartmap 1.16.0  (landing page)
Benjamin Johnson
git_last_commit: 146416b
git_last_commit_date: 2022-11-01 11:18:52 -0500
nebbiolo2Linux (Ubuntu 20.04.5 LTS) / x86_64  OK    OK    OK  UNNEEDED, same version is already published
palomino4Windows Server 2022 Datacenter / x64  OK    OK    OK    OK  UNNEEDED, same version is already published
lconwaymacOS 12.5.1 Monterey / x86_64  OK    OK    OK    OK  UNNEEDED, same version is already published
Package 14/79HostnameOS / ArchINSTALLBUILDCHECKBUILD BIN
CRISPRseek 1.38.0  (landing page)
Lihua Julie Zhu
git_last_commit: 9f03208
git_last_commit_date: 2022-11-01 11:09:00 -0500
nebbiolo2Linux (Ubuntu 20.04.5 LTS) / x86_64  OK    OK    OK  UNNEEDED, same version is already published
palomino4Windows Server 2022 Datacenter / x64  OK    OK    OK    OK  UNNEEDED, same version is already published
lconwaymacOS 12.5.1 Monterey / x86_64  OK    OK    OK    OK  UNNEEDED, same version is already published
Package 15/79HostnameOS / ArchINSTALLBUILDCHECKBUILD BIN
cytomapper 1.10.1  (landing page)
Nils Eling
git_last_commit: 73da749
git_last_commit_date: 2023-01-19 07:28:12 -0500
nebbiolo2Linux (Ubuntu 20.04.5 LTS) / x86_64  OK    OK    OK  UNNEEDED, same version is already published
palomino4Windows Server 2022 Datacenter / x64  OK    OK    OK    OK  UNNEEDED, same version is already published
lconwaymacOS 12.5.1 Monterey / x86_64  OK    OK    OK    OK  UNNEEDED, same version is already published
Package 16/79HostnameOS / ArchINSTALLBUILDCHECKBUILD BIN
DelayedDataFrame 1.14.0  (landing page)
Qian Liu
git_last_commit: 811fc38
git_last_commit_date: 2022-11-01 11:18:59 -0500
nebbiolo2Linux (Ubuntu 20.04.5 LTS) / x86_64  OK    OK    OK  UNNEEDED, same version is already published
palomino4Windows Server 2022 Datacenter / x64  OK    OK    OK    OK  UNNEEDED, same version is already published
lconwaymacOS 12.5.1 Monterey / x86_64  OK    OK    OK    OK  UNNEEDED, same version is already published
Package 17/79HostnameOS / ArchINSTALLBUILDCHECKBUILD BIN
DelayedMatrixStats 1.20.0  (landing page)
Peter Hickey
git_last_commit: 1ed1425
git_last_commit_date: 2022-11-01 11:16:36 -0500
nebbiolo2Linux (Ubuntu 20.04.5 LTS) / x86_64  OK    OK    OK  UNNEEDED, same version is already published
palomino4Windows Server 2022 Datacenter / x64  OK    OK    OK    OK  UNNEEDED, same version is already published
lconwaymacOS 12.5.1 Monterey / x86_64  OK    OK    OK    OK  UNNEEDED, same version is already published
Package 18/79HostnameOS / ArchINSTALLBUILDCHECKBUILD BIN
DelayedRandomArray 1.6.0  (landing page)
Aaron Lun
git_last_commit: 3de3ebc
git_last_commit_date: 2022-11-01 11:24:44 -0500
nebbiolo2Linux (Ubuntu 20.04.5 LTS) / x86_64  OK    OK    OK  UNNEEDED, same version is already published
palomino4Windows Server 2022 Datacenter / x64  OK    OK    OK    OK  UNNEEDED, same version is already published
lconwaymacOS 12.5.1 Monterey / x86_64  OK    OK    OK    OK  UNNEEDED, same version is already published
Package 19/79HostnameOS / ArchINSTALLBUILDCHECKBUILD BIN
DelayedTensor 1.4.0  (landing page)
Koki Tsuyuzaki
git_last_commit: ceff25c
git_last_commit_date: 2022-11-01 11:25:11 -0500
nebbiolo2Linux (Ubuntu 20.04.5 LTS) / x86_64  OK    OK    WARNINGS  UNNEEDED, same version is already published
palomino4Windows Server 2022 Datacenter / x64  OK    OK    WARNINGS    OK  UNNEEDED, same version is already published
lconwaymacOS 12.5.1 Monterey / x86_64  OK    OK    WARNINGS    OK  UNNEEDED, same version is already published
Package 20/79HostnameOS / ArchINSTALLBUILDCHECKBUILD BIN
DEScan2 1.18.2  (landing page)
Dario Righelli
git_last_commit: e0e40a5
git_last_commit_date: 2023-01-19 11:16:08 -0500
nebbiolo2Linux (Ubuntu 20.04.5 LTS) / x86_64  OK    OK    OK  UNNEEDED, same version is already published
palomino4Windows Server 2022 Datacenter / x64  OK    OK    OK    OK  UNNEEDED, same version is already published
lconwaymacOS 12.5.1 Monterey / x86_64  OK    OK    OK    OK  UNNEEDED, same version is already published
Package 21/79HostnameOS / ArchINSTALLBUILDCHECKBUILD BIN
DropletUtils 1.18.1  (landing page)
Jonathan Griffiths
git_last_commit: ff37775
git_last_commit_date: 2022-11-22 02:59:05 -0500
nebbiolo2Linux (Ubuntu 20.04.5 LTS) / x86_64  OK    OK    OK  UNNEEDED, same version is already published
palomino4Windows Server 2022 Datacenter / x64  OK    OK    OK    OK  UNNEEDED, same version is already published
lconwaymacOS 12.5.1 Monterey / x86_64  OK    OK    OK    OK  UNNEEDED, same version is already published
Package 22/79HostnameOS / ArchINSTALLBUILDCHECKBUILD BIN
ELMER 2.22.0  (landing page)
Tiago Chedraoui Silva
git_last_commit: a3d5369
git_last_commit_date: 2022-11-01 11:11:45 -0500
nebbiolo2Linux (Ubuntu 20.04.5 LTS) / x86_64  OK    OK    WARNINGS  UNNEEDED, same version is already published
palomino4Windows Server 2022 Datacenter / x64  OK    OK    WARNINGS    OK  UNNEEDED, same version is already published
lconwaymacOS 12.5.1 Monterey / x86_64  OK    OK    WARNINGS    OK  UNNEEDED, same version is already published
Package 23/79HostnameOS / ArchINSTALLBUILDCHECKBUILD BIN
EWCE 1.6.0  (landing page)
Alan Murphy
git_last_commit: e37a8f2
git_last_commit_date: 2022-11-01 11:24:37 -0500
nebbiolo2Linux (Ubuntu 20.04.5 LTS) / x86_64  OK    OK    OK  UNNEEDED, same version is already published
palomino4Windows Server 2022 Datacenter / x64  OK    OK    OK    OK  UNNEEDED, same version is already published
lconwaymacOS 12.5.1 Monterey / x86_64  OK    OK    OK    OK  UNNEEDED, same version is already published
Package 24/79HostnameOS / ArchINSTALLBUILDCHECKBUILD BIN
flowWorkspace 4.10.1  (landing page)
Greg Finak , Mike Jiang
git_last_commit: af121c6
git_last_commit_date: 2022-12-28 21:02:10 -0500
nebbiolo2Linux (Ubuntu 20.04.5 LTS) / x86_64  OK    OK    WARNINGS  UNNEEDED, same version is already published
palomino4Windows Server 2022 Datacenter / x64  OK    OK    WARNINGS    OK  UNNEEDED, same version is already published
lconwaymacOS 12.5.1 Monterey / x86_64  OK    OK    WARNINGS    OK  UNNEEDED, same version is already published
Package 25/79HostnameOS / ArchINSTALLBUILDCHECKBUILD BIN
FRASER 1.10.2  (landing page)
Christian Mertes
git_last_commit: 411304e
git_last_commit_date: 2023-01-19 11:17:01 -0500
nebbiolo2Linux (Ubuntu 20.04.5 LTS) / x86_64  OK    OK    OK  UNNEEDED, same version is already published
palomino4Windows Server 2022 Datacenter / x64  OK    OK    OK    OK  UNNEEDED, same version is already published
lconwaymacOS 12.5.1 Monterey / x86_64  OK    OK    OK    OK  UNNEEDED, same version is already published
Package 26/79HostnameOS / ArchINSTALLBUILDCHECKBUILD BIN
GDSArray 1.18.0  (landing page)
Qian Liu
git_last_commit: ed70604
git_last_commit_date: 2022-11-01 11:17:29 -0500
nebbiolo2Linux (Ubuntu 20.04.5 LTS) / x86_64  OK    OK    OK  UNNEEDED, same version is already published
palomino4Windows Server 2022 Datacenter / x64  OK    OK    OK    OK  UNNEEDED, same version is already published
lconwaymacOS 12.5.1 Monterey / x86_64  OK    OK    OK    OK  UNNEEDED, same version is already published
Package 27/79HostnameOS / ArchINSTALLBUILDCHECKBUILD BIN
GenomicScores 2.10.0  (landing page)
Robert Castelo
git_last_commit: c2e29da
git_last_commit_date: 2022-11-01 11:15:32 -0500
nebbiolo2Linux (Ubuntu 20.04.5 LTS) / x86_64  OK    OK    OK  UNNEEDED, same version is already published
palomino4Windows Server 2022 Datacenter / x64  OK    OK    OK    OK  UNNEEDED, same version is already published
lconwaymacOS 12.5.1 Monterey / x86_64  OK    OK    OK    OK  UNNEEDED, same version is already published
Package 28/79HostnameOS / ArchINSTALLBUILDCHECKBUILD BIN
glmGamPoi 1.10.2  (landing page)
Constantin Ahlmann-Eltze
git_last_commit: efcb989
git_last_commit_date: 2023-01-19 11:17:12 -0500
nebbiolo2Linux (Ubuntu 20.04.5 LTS) / x86_64  OK    OK    OK  UNNEEDED, same version is already published
palomino4Windows Server 2022 Datacenter / x64  OK    OK    OK    OK  UNNEEDED, same version is already published
lconwaymacOS 12.5.1 Monterey / x86_64  OK    ERROR  skippedskipped
Package 29/79HostnameOS / ArchINSTALLBUILDCHECKBUILD BIN
GSVA 1.46.0  (landing page)
Robert Castelo
git_last_commit: 4036d9f
git_last_commit_date: 2022-11-01 11:05:54 -0500
nebbiolo2Linux (Ubuntu 20.04.5 LTS) / x86_64  OK    OK    OK  UNNEEDED, same version is already published
palomino4Windows Server 2022 Datacenter / x64  OK    OK    OK    OK  UNNEEDED, same version is already published
lconwaymacOS 12.5.1 Monterey / x86_64  OK    OK    OK    OK  UNNEEDED, same version is already published
Package 30/79HostnameOS / ArchINSTALLBUILDCHECKBUILD BIN
HDF5Array 1.26.0  (landing page)
Hervé Pagès
git_last_commit: 38b7bd6
git_last_commit_date: 2022-11-01 11:13:03 -0500
nebbiolo2Linux (Ubuntu 20.04.5 LTS) / x86_64  OK    OK    OK  UNNEEDED, same version is already published
palomino4Windows Server 2022 Datacenter / x64  OK    OK    OK    OK  UNNEEDED, same version is already published
lconwaymacOS 12.5.1 Monterey / x86_64  OK    OK    OK    OK  UNNEEDED, same version is already published
Package 31/79HostnameOS / ArchINSTALLBUILDCHECKBUILD BIN
hipathia 2.14.0  (landing page)
Marta R. Hidalgo
git_last_commit: 491ab66
git_last_commit_date: 2022-11-01 11:17:38 -0500
nebbiolo2Linux (Ubuntu 20.04.5 LTS) / x86_64  OK    OK    OK  UNNEEDED, same version is already published
palomino4Windows Server 2022 Datacenter / x64  OK    ERROR  skippedskipped
lconwaymacOS 12.5.1 Monterey / x86_64  OK    OK    OK    OK  UNNEEDED, same version is already published
Package 32/79HostnameOS / ArchINSTALLBUILDCHECKBUILD BIN
LoomExperiment 1.16.0  (landing page)
Bioconductor Package Maintainer
git_last_commit: 3fd5f92
git_last_commit_date: 2022-11-01 11:18:53 -0500
nebbiolo2Linux (Ubuntu 20.04.5 LTS) / x86_64  OK    OK    OK  UNNEEDED, same version is already published
palomino4Windows Server 2022 Datacenter / x64  OK    OK    OK    OK  UNNEEDED, same version is already published
lconwaymacOS 12.5.1 Monterey / x86_64  OK    OK    OK    OK  UNNEEDED, same version is already published
Package 33/79HostnameOS / ArchINSTALLBUILDCHECKBUILD BIN
Macarron 1.2.0  (landing page)
Sagun Maharjan
git_last_commit: 5d638db
git_last_commit_date: 2022-11-01 11:26:59 -0500
nebbiolo2Linux (Ubuntu 20.04.5 LTS) / x86_64  OK    OK    OK  UNNEEDED, same version is already published
palomino4Windows Server 2022 Datacenter / x64  OK    OK    ERROR    OK  
lconwaymacOS 12.5.1 Monterey / x86_64  OK    OK    OK    OK  UNNEEDED, same version is already published
Package 34/79HostnameOS / ArchINSTALLBUILDCHECKBUILD BIN
mbkmeans 1.14.0  (landing page)
Davide Risso
git_last_commit: c048655
git_last_commit_date: 2022-11-01 11:19:36 -0500
nebbiolo2Linux (Ubuntu 20.04.5 LTS) / x86_64  OK    OK    OK  UNNEEDED, same version is already published
palomino4Windows Server 2022 Datacenter / x64  OK    OK    OK    OK  UNNEEDED, same version is already published
lconwaymacOS 12.5.1 Monterey / x86_64  OK    OK    OK    OK  UNNEEDED, same version is already published
Package 35/79HostnameOS / ArchINSTALLBUILDCHECKBUILD BIN
MethReg 1.8.0  (landing page)
Tiago Silva
git_last_commit: 6235257
git_last_commit_date: 2022-11-01 11:22:54 -0500
nebbiolo2Linux (Ubuntu 20.04.5 LTS) / x86_64  OK    OK    WARNINGS  UNNEEDED, same version is already published
palomino4Windows Server 2022 Datacenter / x64  OK    OK    WARNINGS    OK  UNNEEDED, same version is already published
lconwaymacOS 12.5.1 Monterey / x86_64  OK    OK    WARNINGS    OK  UNNEEDED, same version is already published
Package 36/79HostnameOS / ArchINSTALLBUILDCHECKBUILD BIN
methrix 1.12.0  (landing page)
Anand Mayakonda
git_last_commit: c93ba71
git_last_commit_date: 2022-11-01 11:20:54 -0500
nebbiolo2Linux (Ubuntu 20.04.5 LTS) / x86_64  OK    OK    OK  UNNEEDED, same version is already published
palomino4Windows Server 2022 Datacenter / x64  OK    OK    OK    OK  UNNEEDED, same version is already published
lconwaymacOS 12.5.1 Monterey / x86_64  OK    OK    OK    OK  UNNEEDED, same version is already published
Package 37/79HostnameOS / ArchINSTALLBUILDCHECKBUILD BIN
methylSig 1.10.0  (landing page)
Raymond G. Cavalcante
git_last_commit: 688a7f9
git_last_commit_date: 2022-11-01 11:21:55 -0500
nebbiolo2Linux (Ubuntu 20.04.5 LTS) / x86_64  OK    OK    OK  UNNEEDED, same version is already published
palomino4Windows Server 2022 Datacenter / x64  OK    OK    OK    OK  UNNEEDED, same version is already published
lconwaymacOS 12.5.1 Monterey / x86_64  OK    OK    OK    OK  UNNEEDED, same version is already published
Package 38/79HostnameOS / ArchINSTALLBUILDCHECKBUILD BIN
mia 1.6.0  (landing page)
Tuomas Borman
git_last_commit: 41e31ad
git_last_commit_date: 2022-11-01 11:24:19 -0500
nebbiolo2Linux (Ubuntu 20.04.5 LTS) / x86_64  OK    OK    OK  UNNEEDED, same version is already published
palomino4Windows Server 2022 Datacenter / x64  OK    OK    OK    OK  UNNEEDED, same version is already published
lconwaymacOS 12.5.1 Monterey / x86_64  OK    OK    OK    OK  UNNEEDED, same version is already published
Package 39/79HostnameOS / ArchINSTALLBUILDCHECKBUILD BIN
miaViz 1.6.0  (landing page)
Tuomas Borman
git_last_commit: b72c5dd
git_last_commit_date: 2022-11-01 11:24:27 -0500
nebbiolo2Linux (Ubuntu 20.04.5 LTS) / x86_64  OK    OK    OK  UNNEEDED, same version is already published
palomino4Windows Server 2022 Datacenter / x64  OK    OK    OK    OK  UNNEEDED, same version is already published
lconwaymacOS 12.5.1 Monterey / x86_64  OK    OK    OK    OK  UNNEEDED, same version is already published
Package 40/79HostnameOS / ArchINSTALLBUILDCHECKBUILD BIN
minfi 1.44.0  (landing page)
Kasper Daniel Hansen
git_last_commit: 7c89fef
git_last_commit_date: 2022-11-01 11:06:23 -0500
nebbiolo2Linux (Ubuntu 20.04.5 LTS) / x86_64  OK    OK    OK  UNNEEDED, same version is already published
palomino4Windows Server 2022 Datacenter / x64  OK    OK    OK    OK  UNNEEDED, same version is already published
lconwaymacOS 12.5.1 Monterey / x86_64  OK    OK    OK    OK  UNNEEDED, same version is already published
Package 41/79HostnameOS / ArchINSTALLBUILDCHECKBUILD BIN
MOFA2 1.8.0  (landing page)
Ricard Argelaguet
git_last_commit: a1ef44d
git_last_commit_date: 2022-11-01 11:23:11 -0500
nebbiolo2Linux (Ubuntu 20.04.5 LTS) / x86_64  OK    OK    ERROR  
palomino4Windows Server 2022 Datacenter / x64  OK    OK    ERROR    OK  
lconwaymacOS 12.5.1 Monterey / x86_64  OK    OK    ERROR    OK  
Package 42/79HostnameOS / ArchINSTALLBUILDCHECKBUILD BIN
MuData 1.2.0  (landing page)
Danila Bredikhin
git_last_commit: e790d30
git_last_commit_date: 2022-11-01 11:26:30 -0500
nebbiolo2Linux (Ubuntu 20.04.5 LTS) / x86_64  OK    OK    OK  UNNEEDED, same version is already published
palomino4Windows Server 2022 Datacenter / x64  OK    OK    OK    OK  UNNEEDED, same version is already published
lconwaymacOS 12.5.1 Monterey / x86_64  OK    OK    OK    OK  UNNEEDED, same version is already published
Package 43/79HostnameOS / ArchINSTALLBUILDCHECKBUILD BIN
MultiAssayExperiment 1.24.0  (landing page)
Marcel Ramos
git_last_commit: 7f63e33
git_last_commit_date: 2022-11-01 11:13:22 -0500
nebbiolo2Linux (Ubuntu 20.04.5 LTS) / x86_64  OK    OK    OK  UNNEEDED, same version is already published
palomino4Windows Server 2022 Datacenter / x64  OK    OK    OK    OK  UNNEEDED, same version is already published
lconwaymacOS 12.5.1 Monterey / x86_64  OK    OK    OK    OK  UNNEEDED, same version is already published
Package 44/79HostnameOS / ArchINSTALLBUILDCHECKBUILD BIN
mumosa 1.6.0  (landing page)
Aaron Lun
git_last_commit: 86eddca
git_last_commit_date: 2022-11-01 11:23:42 -0500
nebbiolo2Linux (Ubuntu 20.04.5 LTS) / x86_64  OK    OK    OK  UNNEEDED, same version is already published
palomino4Windows Server 2022 Datacenter / x64  OK    OK    OK    OK  UNNEEDED, same version is already published
lconwaymacOS 12.5.1 Monterey / x86_64  OK    OK    OK    OK  UNNEEDED, same version is already published
Package 45/79HostnameOS / ArchINSTALLBUILDCHECKBUILD BIN
NetActivity 1.0.0  (landing page)
Carlos Ruiz-Arenas
git_last_commit: 639ed02
git_last_commit_date: 2022-11-01 11:27:51 -0500
nebbiolo2Linux (Ubuntu 20.04.5 LTS) / x86_64  OK    OK    OK  UNNEEDED, same version is already published
palomino4Windows Server 2022 Datacenter / x64  OK    OK    OK    OK  UNNEEDED, same version is already published
lconwaymacOS 12.5.1 Monterey / x86_64  OK    OK    OK    OK  UNNEEDED, same version is already published
Package 46/79HostnameOS / ArchINSTALLBUILDCHECKBUILD BIN
netSmooth 1.18.0  (landing page)
Jonathan Ronen
git_last_commit: 0faef91
git_last_commit_date: 2022-11-01 11:17:50 -0500
nebbiolo2Linux (Ubuntu 20.04.5 LTS) / x86_64  OK    OK    OK  UNNEEDED, same version is already published
palomino4Windows Server 2022 Datacenter / x64  OK    OK    OK    OK  UNNEEDED, same version is already published
lconwaymacOS 12.5.1 Monterey / x86_64  OK    OK    OK    OK  UNNEEDED, same version is already published
Package 47/79HostnameOS / ArchINSTALLBUILDCHECKBUILD BIN
NewWave 1.8.0  (landing page)
Federico Agostinis
git_last_commit: 633f457
git_last_commit_date: 2022-11-01 11:23:25 -0500
nebbiolo2Linux (Ubuntu 20.04.5 LTS) / x86_64  OK    OK    OK  UNNEEDED, same version is already published
palomino4Windows Server 2022 Datacenter / x64  OK    OK    OK    OK  UNNEEDED, same version is already published
lconwaymacOS 12.5.1 Monterey / x86_64  OK    OK    OK    OK  UNNEEDED, same version is already published
Package 48/79HostnameOS / ArchINSTALLBUILDCHECKBUILD BIN
NxtIRFcore 1.4.0  (landing page)
Alex Chit Hei Wong
git_last_commit: c38d908
git_last_commit_date: 2022-11-01 11:26:02 -0500
nebbiolo2Linux (Ubuntu 20.04.5 LTS) / x86_64  OK    OK    OK  UNNEEDED, same version is already published
palomino4Windows Server 2022 Datacenter / x64  OK    OK    OK    OK  UNNEEDED, same version is already published
lconwaymacOS 12.5.1 Monterey / x86_64  OK    OK    OK    OK  UNNEEDED, same version is already published
Package 49/79HostnameOS / ArchINSTALLBUILDCHECKBUILD BIN
orthogene 1.4.1  (landing page)
Brian Schilder
git_last_commit: 8576135
git_last_commit_date: 2022-11-12 08:55:18 -0500
nebbiolo2Linux (Ubuntu 20.04.5 LTS) / x86_64  OK    OK    ERROR  
palomino4Windows Server 2022 Datacenter / x64  OK    OK    OK    OK  UNNEEDED, same version is already published
lconwaymacOS 12.5.1 Monterey / x86_64  OK    OK    OK    OK  UNNEEDED, same version is already published
Package 50/79HostnameOS / ArchINSTALLBUILDCHECKBUILD BIN
PCAtools 2.10.0  (landing page)
Kevin Blighe
git_last_commit: 99d6841
git_last_commit_date: 2022-11-01 11:19:04 -0500
nebbiolo2Linux (Ubuntu 20.04.5 LTS) / x86_64  OK    OK    OK  UNNEEDED, same version is already published
palomino4Windows Server 2022 Datacenter / x64  OK    OK    OK    OK  UNNEEDED, same version is already published
lconwaymacOS 12.5.1 Monterey / x86_64  OK    OK    OK    OK  UNNEEDED, same version is already published
Package 51/79HostnameOS / ArchINSTALLBUILDCHECKBUILD BIN
ResidualMatrix 1.8.0  (landing page)
Aaron Lun
git_last_commit: 888a93e
git_last_commit_date: 2022-11-01 11:22:49 -0500
nebbiolo2Linux (Ubuntu 20.04.5 LTS) / x86_64  OK    OK    OK  UNNEEDED, same version is already published
palomino4Windows Server 2022 Datacenter / x64  OK    OK    OK    OK  UNNEEDED, same version is already published
lconwaymacOS 12.5.1 Monterey / x86_64  OK    OK    OK    OK  UNNEEDED, same version is already published
Package 52/79HostnameOS / ArchINSTALLBUILDCHECKBUILD BIN
restfulSE 1.20.0  (landing page)
Shweta Gopaulakrishnan
git_last_commit: 0d059b0
git_last_commit_date: 2022-11-01 11:16:25 -0500
nebbiolo2Linux (Ubuntu 20.04.5 LTS) / x86_64  OK    OK    OK  UNNEEDED, same version is already published
palomino4Windows Server 2022 Datacenter / x64  OK    ERROR  skippedskipped
lconwaymacOS 12.5.1 Monterey / x86_64  OK    OK    OK    OK  UNNEEDED, same version is already published
Package 53/79HostnameOS / ArchINSTALLBUILDCHECKBUILD BIN
rhdf5client 1.20.0  (landing page)
Vincent Carey
git_last_commit: 1484405
git_last_commit_date: 2022-11-01 11:16:37 -0500
nebbiolo2Linux (Ubuntu 20.04.5 LTS) / x86_64  OK    OK    OK  UNNEEDED, same version is already published
palomino4Windows Server 2022 Datacenter / x64  OK    OK    OK    OK  UNNEEDED, same version is already published
lconwaymacOS 12.5.1 Monterey / x86_64  OK    OK    OK    OK  UNNEEDED, same version is already published
Package 54/79HostnameOS / ArchINSTALLBUILDCHECKBUILD BIN
RTCGAToolbox 2.28.0  (landing page)
Marcel Ramos
git_last_commit: d17bf22
git_last_commit_date: 2022-11-01 11:11:43 -0500
nebbiolo2Linux (Ubuntu 20.04.5 LTS) / x86_64  OK    OK    OK  UNNEEDED, same version is already published
palomino4Windows Server 2022 Datacenter / x64  OK    OK    OK    OK  UNNEEDED, same version is already published
lconwaymacOS 12.5.1 Monterey / x86_64  OK    OK    OK    OK  UNNEEDED, same version is already published
Package 55/79HostnameOS / ArchINSTALLBUILDCHECKBUILD BIN
ScaledMatrix 1.6.0  (landing page)
Aaron Lun
git_last_commit: 45a29d3
git_last_commit_date: 2022-11-01 11:23:47 -0500
nebbiolo2Linux (Ubuntu 20.04.5 LTS) / x86_64  OK    OK    OK  UNNEEDED, same version is already published
palomino4Windows Server 2022 Datacenter / x64  OK    OK    OK    OK  UNNEEDED, same version is already published
lconwaymacOS 12.5.1 Monterey / x86_64  OK    OK    OK    OK  UNNEEDED, same version is already published
Package 56/79HostnameOS / ArchINSTALLBUILDCHECKBUILD BIN
SCArray 1.6.0  (landing page)
Xiuwen Zheng
git_last_commit: 56c7925
git_last_commit_date: 2022-11-01 11:23:46 -0500
nebbiolo2Linux (Ubuntu 20.04.5 LTS) / x86_64  OK    OK    OK  UNNEEDED, same version is already published
palomino4Windows Server 2022 Datacenter / x64  OK    OK    OK    OK  UNNEEDED, same version is already published
lconwaymacOS 12.5.1 Monterey / x86_64  OK    OK    OK    OK  UNNEEDED, same version is already published
Package 57/79HostnameOS / ArchINSTALLBUILDCHECKBUILD BIN
scater 1.26.1  (landing page)
Alan O'Callaghan
git_last_commit: d73b6c0
git_last_commit_date: 2022-11-13 08:00:06 -0500
nebbiolo2Linux (Ubuntu 20.04.5 LTS) / x86_64  OK    OK    OK  UNNEEDED, same version is already published
palomino4Windows Server 2022 Datacenter / x64  OK    OK    OK    OK  UNNEEDED, same version is already published
lconwaymacOS 12.5.1 Monterey / x86_64  OK    OK    OK    OK  UNNEEDED, same version is already published
Package 58/79HostnameOS / ArchINSTALLBUILDCHECKBUILD BIN
scDblFinder 1.12.0  (landing page)
Pierre-Luc Germain
git_last_commit: 65a88be
git_last_commit_date: 2022-11-04 12:31:15 -0500
nebbiolo2Linux (Ubuntu 20.04.5 LTS) / x86_64  OK    OK    OK  UNNEEDED, same version is already published
palomino4Windows Server 2022 Datacenter / x64  OK    OK    OK    OK  UNNEEDED, same version is already published
lconwaymacOS 12.5.1 Monterey / x86_64  OK    OK    OK    OK  UNNEEDED, same version is already published
Package 59/79HostnameOS / ArchINSTALLBUILDCHECKBUILD BIN
scMerge 1.14.0  (landing page)
Yingxin Lin
git_last_commit: afedc69
git_last_commit_date: 2022-11-01 11:19:49 -0500
nebbiolo2Linux (Ubuntu 20.04.5 LTS) / x86_64  OK    OK    OK  UNNEEDED, same version is already published
palomino4Windows Server 2022 Datacenter / x64  OK    OK    OK    OK  UNNEEDED, same version is already published
lconwaymacOS 12.5.1 Monterey / x86_64  OK    OK    OK    OK  UNNEEDED, same version is already published
Package 60/79HostnameOS / ArchINSTALLBUILDCHECKBUILD BIN
scmeth 1.18.0  (landing page)
Divy Kangeyan
git_last_commit: fffdd11
git_last_commit_date: 2022-11-01 11:17:10 -0500
nebbiolo2Linux (Ubuntu 20.04.5 LTS) / x86_64  OK    OK    OK  UNNEEDED, same version is already published
palomino4Windows Server 2022 Datacenter / x64  OK    OK    OK    OK  UNNEEDED, same version is already published
lconwaymacOS 12.5.1 Monterey / x86_64  OK    OK    OK    OK  UNNEEDED, same version is already published
Package 61/79HostnameOS / ArchINSTALLBUILDCHECKBUILD BIN
scPCA 1.12.0  (landing page)
Philippe Boileau
git_last_commit: 8e92c23
git_last_commit_date: 2022-11-01 11:20:52 -0500
nebbiolo2Linux (Ubuntu 20.04.5 LTS) / x86_64  OK    OK    OK  UNNEEDED, same version is already published
palomino4Windows Server 2022 Datacenter / x64  OK    OK    OK    OK  UNNEEDED, same version is already published
lconwaymacOS 12.5.1 Monterey / x86_64  OK    OK    OK    OK  UNNEEDED, same version is already published
Package 62/79HostnameOS / ArchINSTALLBUILDCHECKBUILD BIN
scran 1.26.2  (landing page)
Aaron Lun
git_last_commit: 0cdaef6
git_last_commit_date: 2023-01-19 11:18:27 -0500
nebbiolo2Linux (Ubuntu 20.04.5 LTS) / x86_64  OK    OK    WARNINGS  UNNEEDED, same version is already published
palomino4Windows Server 2022 Datacenter / x64  OK    OK    WARNINGS    OK  UNNEEDED, same version is already published
lconwaymacOS 12.5.1 Monterey / x86_64  OK    OK    WARNINGS    OK  UNNEEDED, same version is already published
Package 63/79HostnameOS / ArchINSTALLBUILDCHECKBUILD BIN
scry 1.10.0  (landing page)
Kelly Street
git_last_commit: d416920
git_last_commit_date: 2022-11-01 11:22:00 -0500
nebbiolo2Linux (Ubuntu 20.04.5 LTS) / x86_64  OK    OK    OK  UNNEEDED, same version is already published
palomino4Windows Server 2022 Datacenter / x64  OK    OK    OK    OK  UNNEEDED, same version is already published
lconwaymacOS 12.5.1 Monterey / x86_64  OK    OK    OK    OK  UNNEEDED, same version is already published
Package 64/79HostnameOS / ArchINSTALLBUILDCHECKBUILD BIN
scuttle 1.8.4  (landing page)
Aaron Lun
git_last_commit: ac64d31
git_last_commit_date: 2023-01-19 11:18:30 -0500
nebbiolo2Linux (Ubuntu 20.04.5 LTS) / x86_64  OK    OK    OK  UNNEEDED, same version is already published
palomino4Windows Server 2022 Datacenter / x64  OK    OK    OK    OK  UNNEEDED, same version is already published
lconwaymacOS 12.5.1 Monterey / x86_64  OK    OK    OK    OK  UNNEEDED, same version is already published
Package 65/79HostnameOS / ArchINSTALLBUILDCHECKBUILD BIN
signatureSearch 1.12.0  (landing page)
Brendan Gongol
git_last_commit: b007162
git_last_commit_date: 2022-11-01 11:20:59 -0500
nebbiolo2Linux (Ubuntu 20.04.5 LTS) / x86_64  OK    OK    OK  UNNEEDED, same version is already published
palomino4Windows Server 2022 Datacenter / x64  OK    OK    OK    OK  UNNEEDED, same version is already published
lconwaymacOS 12.5.1 Monterey / x86_64  OK    OK    OK    OK  UNNEEDED, same version is already published
Package 66/79HostnameOS / ArchINSTALLBUILDCHECKBUILD BIN
SingleCellExperiment 1.20.0  (landing page)
Davide Risso
git_last_commit: 467f02c
git_last_commit_date: 2022-11-01 11:15:57 -0500
nebbiolo2Linux (Ubuntu 20.04.5 LTS) / x86_64  OK    OK    OK  UNNEEDED, same version is already published
palomino4Windows Server 2022 Datacenter / x64  OK    OK    OK    OK  UNNEEDED, same version is already published
lconwaymacOS 12.5.1 Monterey / x86_64  OK    OK    OK    OK  UNNEEDED, same version is already published
Package 67/79HostnameOS / ArchINSTALLBUILDCHECKBUILD BIN
singleCellTK 2.8.0  (landing page)
Yichen Wang
git_last_commit: 711d2ed
git_last_commit_date: 2022-11-01 11:17:41 -0500
nebbiolo2Linux (Ubuntu 20.04.5 LTS) / x86_64  OK    OK    OK  UNNEEDED, same version is already published
palomino4Windows Server 2022 Datacenter / x64  OK    OK    OK    OK  UNNEEDED, same version is already published
lconwaymacOS 12.5.1 Monterey / x86_64  OK    OK    OK    OK  UNNEEDED, same version is already published
Package 68/79HostnameOS / ArchINSTALLBUILDCHECKBUILD BIN
SingleR 2.0.0  (landing page)
Aaron Lun
git_last_commit: f36aaf5
git_last_commit_date: 2022-11-01 11:20:26 -0500
nebbiolo2Linux (Ubuntu 20.04.5 LTS) / x86_64  OK    OK    OK  UNNEEDED, same version is already published
palomino4Windows Server 2022 Datacenter / x64  OK    OK    OK    OK  UNNEEDED, same version is already published
lconwaymacOS 12.5.1 Monterey / x86_64  OK    OK    OK    OK  UNNEEDED, same version is already published
Package 69/79HostnameOS / ArchINSTALLBUILDCHECKBUILD BIN
SpliceWiz 1.0.2  (landing page)
Alex Chit Hei Wong
git_last_commit: 2735cec
git_last_commit_date: 2022-12-19 07:24:00 -0500
nebbiolo2Linux (Ubuntu 20.04.5 LTS) / x86_64  OK    OK    OK  UNNEEDED, same version is already published
palomino4Windows Server 2022 Datacenter / x64  OK    OK    OK    OK  UNNEEDED, same version is already published
lconwaymacOS 12.5.1 Monterey / x86_64  OK    OK    OK    OK  UNNEEDED, same version is already published
Package 70/79HostnameOS / ArchINSTALLBUILDCHECKBUILD BIN
SummarizedExperiment 1.28.0  (landing page)
Hervé Pagès
git_last_commit: ba55dac
git_last_commit_date: 2022-11-01 11:11:42 -0500
nebbiolo2Linux (Ubuntu 20.04.5 LTS) / x86_64  OK    OK    OK  UNNEEDED, same version is already published
palomino4Windows Server 2022 Datacenter / x64  OK    OK    OK    OK  UNNEEDED, same version is already published
lconwaymacOS 12.5.1 Monterey / x86_64  OK    OK    OK    OK  UNNEEDED, same version is already published
Package 71/79HostnameOS / ArchINSTALLBUILDCHECKBUILD BIN
TileDBArray 1.8.0  (landing page)
Aaron Lun
git_last_commit: 8189c8c
git_last_commit_date: 2022-11-01 11:22:53 -0500
nebbiolo2Linux (Ubuntu 20.04.5 LTS) / x86_64  OK    OK    OK  UNNEEDED, same version is already published
palomino4Windows Server 2022 Datacenter / x64  OK    OK    OK    OK  UNNEEDED, same version is already published
lconwaymacOS 12.5.1 Monterey / x86_64  OK    OK    OK    OK  UNNEEDED, same version is already published
Package 72/79HostnameOS / ArchINSTALLBUILDCHECKBUILD BIN
transformGamPoi 1.4.0  (landing page)
Constantin Ahlmann-Eltze
git_last_commit: 72df007
git_last_commit_date: 2022-11-01 11:25:38 -0500
nebbiolo2Linux (Ubuntu 20.04.5 LTS) / x86_64  OK    OK    OK  UNNEEDED, same version is already published
palomino4Windows Server 2022 Datacenter / x64  OK    OK    OK    OK  UNNEEDED, same version is already published
lconwaymacOS 12.5.1 Monterey / x86_64  OK    OK    OK    OK  UNNEEDED, same version is already published
Package 73/79HostnameOS / ArchINSTALLBUILDCHECKBUILD BIN
TSCAN 1.36.0  (landing page)
Zhicheng Ji
git_last_commit: 7488959
git_last_commit_date: 2022-11-01 11:10:15 -0500
nebbiolo2Linux (Ubuntu 20.04.5 LTS) / x86_64  OK    OK    WARNINGS  UNNEEDED, same version is already published
palomino4Windows Server 2022 Datacenter / x64  OK    OK    WARNINGS    OK  UNNEEDED, same version is already published
lconwaymacOS 12.5.1 Monterey / x86_64  OK    OK    WARNINGS    OK  UNNEEDED, same version is already published
Package 74/79HostnameOS / ArchINSTALLBUILDCHECKBUILD BIN
VariantExperiment 1.12.0  (landing page)
Qian Liu
git_last_commit: 94a91ff
git_last_commit_date: 2022-11-01 11:20:21 -0500
nebbiolo2Linux (Ubuntu 20.04.5 LTS) / x86_64  OK    OK    WARNINGS  UNNEEDED, same version is already published
palomino4Windows Server 2022 Datacenter / x64  OK    OK    WARNINGS    OK  UNNEEDED, same version is already published
lconwaymacOS 12.5.1 Monterey / x86_64  OK    OK    WARNINGS    OK  UNNEEDED, same version is already published
Package 75/79HostnameOS / ArchINSTALLBUILDCHECKBUILD BIN
VCFArray 1.14.0  (landing page)
Qian Liu
git_last_commit: f992261
git_last_commit_date: 2022-11-01 11:19:00 -0500
nebbiolo2Linux (Ubuntu 20.04.5 LTS) / x86_64  OK    OK    OK  UNNEEDED, same version is already published
palomino4Windows Server 2022 Datacenter / x64  OK    OK    OK    OK  UNNEEDED, same version is already published
lconwaymacOS 12.5.1 Monterey / x86_64  OK    OK    OK    OK  UNNEEDED, same version is already published
Package 76/79HostnameOS / ArchINSTALLBUILDCHECKBUILD BIN
velociraptor 1.8.0  (landing page)
Kevin Rue-Albrecht
git_last_commit: 97efe6b
git_last_commit_date: 2022-11-01 11:22:57 -0500
nebbiolo2Linux (Ubuntu 20.04.5 LTS) / x86_64  OK    OK    OK  UNNEEDED, same version is already published
palomino4Windows Server 2022 Datacenter / x64  OK    OK    OK    OK  UNNEEDED, same version is already published
lconwaymacOS 12.5.1 Monterey / x86_64  OK    OK    OK    OK  UNNEEDED, same version is already published
Package 77/79HostnameOS / ArchINSTALLBUILDCHECKBUILD BIN
weitrix 1.10.0  (landing page)
Paul Harrison
git_last_commit: 80ac6b7
git_last_commit_date: 2022-11-01 11:22:04 -0500
nebbiolo2Linux (Ubuntu 20.04.5 LTS) / x86_64  OK    OK    OK  UNNEEDED, same version is already published
palomino4Windows Server 2022 Datacenter / x64  OK    OK    OK    OK  UNNEEDED, same version is already published
lconwaymacOS 12.5.1 Monterey / x86_64  OK    OK    OK    OK  UNNEEDED, same version is already published
Package 78/79HostnameOS / ArchINSTALLBUILDCHECKBUILD BIN
xcore 1.2.0  (landing page)
Maciej Migdał
git_last_commit: ec0fc51
git_last_commit_date: 2022-11-01 11:26:34 -0500
nebbiolo2Linux (Ubuntu 20.04.5 LTS) / x86_64  OK    OK    OK  UNNEEDED, same version is already published
palomino4Windows Server 2022 Datacenter / x64  OK    OK    OK    OK  UNNEEDED, same version is already published
lconwaymacOS 12.5.1 Monterey / x86_64  OK    OK    OK    OK  UNNEEDED, same version is already published
Package 79/79HostnameOS / ArchINSTALLBUILDCHECKBUILD BIN
zellkonverter 1.8.0  (landing page)
Luke Zappia
git_last_commit: 0d157f3
git_last_commit_date: 2022-11-01 11:22:38 -0500
nebbiolo2Linux (Ubuntu 20.04.5 LTS) / x86_64  OK    OK    OK  UNNEEDED, same version is already published
palomino4Windows Server 2022 Datacenter / x64  OK    OK    OK    OK  UNNEEDED, same version is already published
lconwaymacOS 12.5.1 Monterey / x86_64  OK    OK    OK    OK  UNNEEDED, same version is already published