Index of /checkResults/release/bioc-LATEST/DelayedArray/raw-results

[ICO]NameLast modifiedSizeDescription

[DIR]Parent Directory  -  
[   ]info.dcf01-Apr-2023 00:06 288  
[DIR]kjohnson/12-Jul-2022 00:06 -  
[DIR]lconway/01-Apr-2023 00:06 -  
[DIR]nebbiolo2/01-Apr-2023 00:05 -  
[DIR]palomino4/01-Apr-2023 00:06 -