Back to Multiple platform build/check report for BioC 3.18: simplified long |
|
This page was generated on 2024-03-29 11:37:41 -0400 (Fri, 29 Mar 2024).
Hostname | OS | Arch (*) | R version | Installed pkgs |
---|---|---|---|---|
nebbiolo2 | Linux (Ubuntu 22.04.3 LTS) | x86_64 | 4.3.3 (2024-02-29) -- "Angel Food Cake" | 4669 |
palomino4 | Windows Server 2022 Datacenter | x64 | 4.3.3 (2024-02-29 ucrt) -- "Angel Food Cake" | 4404 |
merida1 | macOS 12.7.1 Monterey | x86_64 | 4.3.3 (2024-02-29) -- "Angel Food Cake" | 4427 |
Click on any hostname to see more info about the system (e.g. compilers) (*) as reported by 'uname -p', except on Windows and Mac OS X |
Package 598/2266 | Hostname | OS / Arch | INSTALL | BUILD | CHECK | BUILD BIN | ||||||||
dreamlet 1.0.3 (landing page) Gabriel Hoffman
| nebbiolo2 | Linux (Ubuntu 22.04.3 LTS) / x86_64 | OK | OK | OK | |||||||||
palomino4 | Windows Server 2022 Datacenter / x64 | OK | OK | OK | OK | |||||||||
merida1 | macOS 12.7.1 Monterey / x86_64 | OK | OK | OK | OK | |||||||||
kjohnson1 | macOS 13.6.1 Ventura / arm64 | see weekly results here | ||||||||||||
To the developers/maintainers of the dreamlet package: - Allow up to 24 hours (and sometimes 48 hours) for your latest push to git@git.bioconductor.org:packages/dreamlet.git to reflect on this report. See Troubleshooting Build Report for more information. - Use the following Renviron settings to reproduce errors and warnings. - If 'R CMD check' started to fail recently on the Linux builder(s) over a missing dependency, add the missing dependency to 'Suggests:' in your DESCRIPTION file. See Renviron.bioc for more information. |
Package: dreamlet |
Version: 1.0.3 |
Command: /Library/Frameworks/R.framework/Resources/bin/R CMD check --install=check:dreamlet.install-out.txt --library=/Library/Frameworks/R.framework/Resources/library --no-vignettes --timings dreamlet_1.0.3.tar.gz |
StartedAt: 2024-03-28 02:10:59 -0400 (Thu, 28 Mar 2024) |
EndedAt: 2024-03-28 02:34:45 -0400 (Thu, 28 Mar 2024) |
EllapsedTime: 1425.5 seconds |
RetCode: 0 |
Status: OK |
CheckDir: dreamlet.Rcheck |
Warnings: 0 |
############################################################################## ############################################################################## ### ### Running command: ### ### /Library/Frameworks/R.framework/Resources/bin/R CMD check --install=check:dreamlet.install-out.txt --library=/Library/Frameworks/R.framework/Resources/library --no-vignettes --timings dreamlet_1.0.3.tar.gz ### ############################################################################## ############################################################################## * using log directory ‘/Users/biocbuild/bbs-3.18-bioc/meat/dreamlet.Rcheck’ * using R version 4.3.3 (2024-02-29) * using platform: x86_64-apple-darwin20 (64-bit) * R was compiled by Apple clang version 14.0.0 (clang-1400.0.29.202) GNU Fortran (GCC) 12.2.0 * running under: macOS Monterey 12.7.1 * using session charset: UTF-8 * using option ‘--no-vignettes’ * checking for file ‘dreamlet/DESCRIPTION’ ... OK * checking extension type ... Package * this is package ‘dreamlet’ version ‘1.0.3’ * package encoding: UTF-8 * checking package namespace information ... OK * checking package dependencies ... OK * checking if this is a source package ... OK * checking if there is a namespace ... OK * checking for hidden files and directories ... OK * checking for portable file names ... OK * checking for sufficient/correct file permissions ... OK * checking whether package ‘dreamlet’ can be installed ... OK * used C++ compiler: ‘Apple clang version 14.0.0 (clang-1400.0.29.202)’ * used SDK: ‘MacOSX11.3.sdk’ * checking C++ specification ... NOTE Specified C++11: please drop specification unless essential * checking installed package size ... OK * checking package directory ... OK * checking ‘build’ directory ... OK * checking DESCRIPTION meta-information ... OK * checking top-level files ... OK * checking for left-over files ... OK * checking index information ... OK * checking package subdirectories ... OK * checking R files for non-ASCII characters ... OK * checking R files for syntax errors ... OK * checking whether the package can be loaded ... OK * checking whether the package can be loaded with stated dependencies ... OK * checking whether the package can be unloaded cleanly ... OK * checking whether the namespace can be loaded with stated dependencies ... OK * checking whether the namespace can be unloaded cleanly ... OK * checking dependencies in R code ... OK * checking S3 generic/method consistency ... OK * checking replacement functions ... OK * checking foreign function calls ... OK * checking R code for possible problems ... OK * checking Rd files ... OK * checking Rd metadata ... OK * checking Rd cross-references ... OK * checking for missing documentation entries ... OK * checking for code/documentation mismatches ... OK * checking Rd \usage sections ... OK * checking Rd contents ... OK * checking for unstated dependencies in examples ... OK * checking line endings in C/C++/Fortran sources/headers ... OK * checking line endings in Makefiles ... OK * checking compilation flags in Makevars ... OK * checking for GNU extensions in Makefiles ... OK * checking for portable use of $(BLAS_LIBS) and $(LAPACK_LIBS) ... OK * checking use of PKG_*FLAGS in Makefiles ... OK * checking compiled code ... NOTE Note: information on .o files is not available * checking files in ‘vignettes’ ... NOTE The following directory looks like a leftover from 'knitr': ‘figure’ Please remove from your package. * checking examples ... OK Examples with CPU (user + system) or elapsed time > 5s user system elapsed zenith_gsa-methods 159.119 8.990 179.807 fitVarPart 43.416 0.312 47.805 plotVarPart-methods 42.289 0.242 44.448 plotPercentBars-methods 41.530 0.204 43.706 sortCols-method 41.129 0.223 43.942 meta_analysis 32.861 0.444 35.649 stackAssays 23.087 0.180 24.640 run_mash 14.264 0.225 15.235 aggregateNonCountSignal 12.642 0.765 15.326 compositePosteriorTest 12.225 0.162 13.748 plotVolcano-methods 8.524 0.099 9.170 diffVar-methods 7.909 0.085 8.725 plotBeeswarm 7.814 0.089 8.516 plotPCA 7.261 0.065 7.713 dreamlet 7.216 0.091 8.042 plotGeneHeatmap-methods 6.550 0.052 6.928 plotForest-methods 6.455 0.065 7.016 plotVoom-methods 6.130 0.090 6.555 pbWeights 6.114 0.092 6.579 processAssays 6.124 0.056 6.565 residuals-methods 6.102 0.066 6.416 seeErrors-methods 6.087 0.073 6.500 getTreat-methods 6.077 0.053 6.369 getExprGeneNames 6.040 0.068 6.681 coefNames-methods 6.006 0.078 6.656 topTable-methods 6.016 0.057 6.359 dreamletCompareClusters 5.323 0.092 5.978 cellTypeSpecificity 4.591 0.128 5.165 extractData-methods 4.335 0.061 5.156 * checking for unstated dependencies in ‘tests’ ... OK * checking tests ... Running ‘runTests.R’ OK * checking for unstated dependencies in vignettes ... OK * checking package vignettes in ‘inst/doc’ ... OK * checking running R code from vignettes ... SKIPPED * checking re-building of vignette outputs ... SKIPPED * checking PDF version of manual ... OK * DONE Status: 3 NOTEs See ‘/Users/biocbuild/bbs-3.18-bioc/meat/dreamlet.Rcheck/00check.log’ for details.
dreamlet.Rcheck/00install.out
############################################################################## ############################################################################## ### ### Running command: ### ### /Library/Frameworks/R.framework/Resources/bin/R CMD INSTALL dreamlet ### ############################################################################## ############################################################################## * installing to library ‘/Library/Frameworks/R.framework/Versions/4.3-x86_64/Resources/library’ * installing *source* package ‘dreamlet’ ... ** using staged installation ** libs using C++ compiler: ‘Apple clang version 14.0.0 (clang-1400.0.29.202)’ using C++11 using SDK: ‘MacOSX11.3.sdk’ clang++ -arch x86_64 -std=gnu++11 -I"/Library/Frameworks/R.framework/Resources/include" -DNDEBUG -I'/Library/Frameworks/R.framework/Versions/4.3-x86_64/Resources/library/Rcpp/include' -I'/Library/Frameworks/R.framework/Versions/4.3-x86_64/Resources/library/beachmat/include' -I/opt/R/x86_64/include -fPIC -falign-functions=64 -Wall -g -O2 -c RcppExports.cpp -o RcppExports.o clang++ -arch x86_64 -std=gnu++11 -I"/Library/Frameworks/R.framework/Resources/include" -DNDEBUG -I'/Library/Frameworks/R.framework/Versions/4.3-x86_64/Resources/library/Rcpp/include' -I'/Library/Frameworks/R.framework/Versions/4.3-x86_64/Resources/library/beachmat/include' -I/opt/R/x86_64/include -fPIC -falign-functions=64 -Wall -g -O2 -c colsum_beachmat.cpp -o colsum_beachmat.o In file included from colsum_beachmat.cpp:1: In file included from /Library/Frameworks/R.framework/Versions/4.3-x86_64/Resources/library/beachmat/include/beachmat3/beachmat.h:24: In file included from /Library/Frameworks/R.framework/Versions/4.3-x86_64/Resources/library/beachmat/include/beachmat3/read_lin_block.h:11: /Library/Frameworks/R.framework/Versions/4.3-x86_64/Resources/library/beachmat/include/beachmat3/lin_matrix.h:218:43: warning: 'beachmat::lin_sparse_matrix::get_row' hides overloaded virtual functions [-Woverloaded-virtual] virtual sparse_index<const int*, int> get_row(size_t r, int* work_x, int* work_i, size_t first, size_t last) = 0; ^ /Library/Frameworks/R.framework/Versions/4.3-x86_64/Resources/library/beachmat/include/beachmat3/lin_matrix.h:66:24: note: hidden overloaded virtual function 'beachmat::lin_matrix::get_row' declared here: different number of parameters (4 vs 5) virtual const int* get_row(size_t r, int* work, size_t first, size_t last) = 0; ^ /Library/Frameworks/R.framework/Versions/4.3-x86_64/Resources/library/beachmat/include/beachmat3/lin_matrix.h:95:27: note: hidden overloaded virtual function 'beachmat::lin_matrix::get_row' declared here: different number of parameters (4 vs 5) virtual const double* get_row(size_t r, double* work, size_t first, size_t last) = 0; ^ /Library/Frameworks/R.framework/Versions/4.3-x86_64/Resources/library/beachmat/include/beachmat3/lin_matrix.h:236:43: warning: 'beachmat::lin_sparse_matrix::get_col' hides overloaded virtual functions [-Woverloaded-virtual] virtual sparse_index<const int*, int> get_col(size_t c, int* work_x, int* work_i, size_t first, size_t last) = 0; ^ /Library/Frameworks/R.framework/Versions/4.3-x86_64/Resources/library/beachmat/include/beachmat3/lin_matrix.h:52:24: note: hidden overloaded virtual function 'beachmat::lin_matrix::get_col' declared here: different number of parameters (4 vs 5) virtual const int* get_col(size_t c, int* work, size_t first, size_t last) = 0; ^ /Library/Frameworks/R.framework/Versions/4.3-x86_64/Resources/library/beachmat/include/beachmat3/lin_matrix.h:81:27: note: hidden overloaded virtual function 'beachmat::lin_matrix::get_col' declared here: different number of parameters (4 vs 5) virtual const double* get_col(size_t c, double* work, size_t first, size_t last) = 0; ^ /Library/Frameworks/R.framework/Versions/4.3-x86_64/Resources/library/beachmat/include/beachmat3/lin_matrix.h:254:46: warning: 'beachmat::lin_sparse_matrix::get_row' hides overloaded virtual functions [-Woverloaded-virtual] virtual sparse_index<const double*, int> get_row(size_t r, double* work_x, int* work_i, size_t first, size_t last) = 0; ^ /Library/Frameworks/R.framework/Versions/4.3-x86_64/Resources/library/beachmat/include/beachmat3/lin_matrix.h:66:24: note: hidden overloaded virtual function 'beachmat::lin_matrix::get_row' declared here: different number of parameters (4 vs 5) virtual const int* get_row(size_t r, int* work, size_t first, size_t last) = 0; ^ /Library/Frameworks/R.framework/Versions/4.3-x86_64/Resources/library/beachmat/include/beachmat3/lin_matrix.h:95:27: note: hidden overloaded virtual function 'beachmat::lin_matrix::get_row' declared here: different number of parameters (4 vs 5) virtual const double* get_row(size_t r, double* work, size_t first, size_t last) = 0; ^ /Library/Frameworks/R.framework/Versions/4.3-x86_64/Resources/library/beachmat/include/beachmat3/lin_matrix.h:272:46: warning: 'beachmat::lin_sparse_matrix::get_col' hides overloaded virtual functions [-Woverloaded-virtual] virtual sparse_index<const double*, int> get_col(size_t c, double* work_x, int* work_i, size_t first, size_t last) = 0; ^ /Library/Frameworks/R.framework/Versions/4.3-x86_64/Resources/library/beachmat/include/beachmat3/lin_matrix.h:52:24: note: hidden overloaded virtual function 'beachmat::lin_matrix::get_col' declared here: different number of parameters (4 vs 5) virtual const int* get_col(size_t c, int* work, size_t first, size_t last) = 0; ^ /Library/Frameworks/R.framework/Versions/4.3-x86_64/Resources/library/beachmat/include/beachmat3/lin_matrix.h:81:27: note: hidden overloaded virtual function 'beachmat::lin_matrix::get_col' declared here: different number of parameters (4 vs 5) virtual const double* get_col(size_t c, double* work, size_t first, size_t last) = 0; ^ /Library/Frameworks/R.framework/Versions/4.3-x86_64/Resources/library/beachmat/include/beachmat3/lin_matrix.h:287:35: warning: 'beachmat::lin_sparse_matrix::get_col' hides overloaded virtual functions [-Woverloaded-virtual] sparse_index<const int*, int> get_col(size_t c, int* work_x, int* work_i) { ^ /Library/Frameworks/R.framework/Versions/4.3-x86_64/Resources/library/beachmat/include/beachmat3/lin_matrix.h:52:24: note: hidden overloaded virtual function 'beachmat::lin_matrix::get_col' declared here: different number of parameters (4 vs 3) virtual const int* get_col(size_t c, int* work, size_t first, size_t last) = 0; ^ /Library/Frameworks/R.framework/Versions/4.3-x86_64/Resources/library/beachmat/include/beachmat3/lin_matrix.h:81:27: note: hidden overloaded virtual function 'beachmat::lin_matrix::get_col' declared here: different number of parameters (4 vs 3) virtual const double* get_col(size_t c, double* work, size_t first, size_t last) = 0; ^ /Library/Frameworks/R.framework/Versions/4.3-x86_64/Resources/library/beachmat/include/beachmat3/lin_matrix.h:304:35: warning: 'beachmat::lin_sparse_matrix::get_row' hides overloaded virtual functions [-Woverloaded-virtual] sparse_index<const int*, int> get_row(size_t r, int* work_x, int* work_i) { ^ /Library/Frameworks/R.framework/Versions/4.3-x86_64/Resources/library/beachmat/include/beachmat3/lin_matrix.h:66:24: note: hidden overloaded virtual function 'beachmat::lin_matrix::get_row' declared here: different number of parameters (4 vs 3) virtual const int* get_row(size_t r, int* work, size_t first, size_t last) = 0; ^ /Library/Frameworks/R.framework/Versions/4.3-x86_64/Resources/library/beachmat/include/beachmat3/lin_matrix.h:95:27: note: hidden overloaded virtual function 'beachmat::lin_matrix::get_row' declared here: different number of parameters (4 vs 3) virtual const double* get_row(size_t r, double* work, size_t first, size_t last) = 0; ^ /Library/Frameworks/R.framework/Versions/4.3-x86_64/Resources/library/beachmat/include/beachmat3/lin_matrix.h:321:38: warning: 'beachmat::lin_sparse_matrix::get_col' hides overloaded virtual functions [-Woverloaded-virtual] sparse_index<const double*, int> get_col(size_t c, double* work_x, int* work_i) { ^ /Library/Frameworks/R.framework/Versions/4.3-x86_64/Resources/library/beachmat/include/beachmat3/lin_matrix.h:52:24: note: hidden overloaded virtual function 'beachmat::lin_matrix::get_col' declared here: different number of parameters (4 vs 3) virtual const int* get_col(size_t c, int* work, size_t first, size_t last) = 0; ^ /Library/Frameworks/R.framework/Versions/4.3-x86_64/Resources/library/beachmat/include/beachmat3/lin_matrix.h:81:27: note: hidden overloaded virtual function 'beachmat::lin_matrix::get_col' declared here: different number of parameters (4 vs 3) virtual const double* get_col(size_t c, double* work, size_t first, size_t last) = 0; ^ /Library/Frameworks/R.framework/Versions/4.3-x86_64/Resources/library/beachmat/include/beachmat3/lin_matrix.h:338:38: warning: 'beachmat::lin_sparse_matrix::get_row' hides overloaded virtual functions [-Woverloaded-virtual] sparse_index<const double*, int> get_row(size_t r, double* work_x, int* work_i) { ^ /Library/Frameworks/R.framework/Versions/4.3-x86_64/Resources/library/beachmat/include/beachmat3/lin_matrix.h:66:24: note: hidden overloaded virtual function 'beachmat::lin_matrix::get_row' declared here: different number of parameters (4 vs 3) virtual const int* get_row(size_t r, int* work, size_t first, size_t last) = 0; ^ /Library/Frameworks/R.framework/Versions/4.3-x86_64/Resources/library/beachmat/include/beachmat3/lin_matrix.h:95:27: note: hidden overloaded virtual function 'beachmat::lin_matrix::get_row' declared here: different number of parameters (4 vs 3) virtual const double* get_row(size_t r, double* work, size_t first, size_t last) = 0; ^ 8 warnings generated. clang++ -arch x86_64 -std=gnu++11 -dynamiclib -Wl,-headerpad_max_install_names -undefined dynamic_lookup -L/Library/Frameworks/R.framework/Resources/lib -L/opt/R/x86_64/lib -o dreamlet.so RcppExports.o colsum_beachmat.o -F/Library/Frameworks/R.framework/.. -framework R -Wl,-framework -Wl,CoreFoundation installing to /Library/Frameworks/R.framework/Versions/4.3-x86_64/Resources/library/00LOCK-dreamlet/00new/dreamlet/libs ** R ** inst ** byte-compile and prepare package for lazy loading ** help Loading required namespace: variancePartition Loading required namespace: dreamlet *** installing help indices *** copying figures ** building package indices ** installing vignettes ** testing if installed package can be loaded from temporary location ** checking absolute paths in shared objects and dynamic libraries ** testing if installed package can be loaded from final location ** testing if installed package keeps a record of temporary installation path * DONE (dreamlet)
dreamlet.Rcheck/tests/runTests.Rout
R version 4.3.3 (2024-02-29) -- "Angel Food Cake" Copyright (C) 2024 The R Foundation for Statistical Computing Platform: x86_64-apple-darwin20 (64-bit) R is free software and comes with ABSOLUTELY NO WARRANTY. You are welcome to redistribute it under certain conditions. Type 'license()' or 'licence()' for distribution details. R is a collaborative project with many contributors. Type 'contributors()' for more information and 'citation()' on how to cite R or R packages in publications. Type 'demo()' for some demos, 'help()' for on-line help, or 'help.start()' for an HTML browser interface to help. Type 'q()' to quit R. > library(Matrix) > library(dreamlet) Loading required package: variancePartition Loading required package: ggplot2 Loading required package: limma Loading required package: BiocParallel Attaching package: 'variancePartition' The following object is masked from 'package:limma': topTable Loading required package: SingleCellExperiment Loading required package: SummarizedExperiment Loading required package: MatrixGenerics Loading required package: matrixStats Attaching package: 'MatrixGenerics' The following objects are masked from 'package:matrixStats': colAlls, colAnyNAs, colAnys, colAvgsPerRowSet, colCollapse, colCounts, colCummaxs, colCummins, colCumprods, colCumsums, colDiffs, colIQRDiffs, colIQRs, colLogSumExps, colMadDiffs, colMads, colMaxs, colMeans2, colMedians, colMins, colOrderStats, colProds, colQuantiles, colRanges, colRanks, colSdDiffs, colSds, colSums2, colTabulates, colVarDiffs, colVars, colWeightedMads, colWeightedMeans, colWeightedMedians, colWeightedSds, colWeightedVars, rowAlls, rowAnyNAs, rowAnys, rowAvgsPerColSet, rowCollapse, rowCounts, rowCummaxs, rowCummins, rowCumprods, rowCumsums, rowDiffs, rowIQRDiffs, rowIQRs, rowLogSumExps, rowMadDiffs, rowMads, rowMaxs, rowMeans2, rowMedians, rowMins, rowOrderStats, rowProds, rowQuantiles, rowRanges, rowRanks, rowSdDiffs, rowSds, rowSums2, rowTabulates, rowVarDiffs, rowVars, rowWeightedMads, rowWeightedMeans, rowWeightedMedians, rowWeightedSds, rowWeightedVars Loading required package: GenomicRanges Loading required package: stats4 Loading required package: BiocGenerics Attaching package: 'BiocGenerics' The following object is masked from 'package:limma': plotMA The following objects are masked from 'package:stats': IQR, mad, sd, var, xtabs The following objects are masked from 'package:base': Filter, Find, Map, Position, Reduce, anyDuplicated, aperm, append, as.data.frame, basename, cbind, colnames, dirname, do.call, duplicated, eval, evalq, get, grep, grepl, intersect, is.unsorted, lapply, mapply, match, mget, order, paste, pmax, pmax.int, pmin, pmin.int, rank, rbind, rownames, sapply, setdiff, sort, table, tapply, union, unique, unsplit, which.max, which.min Loading required package: S4Vectors Attaching package: 'S4Vectors' The following objects are masked from 'package:Matrix': expand, unname The following object is masked from 'package:utils': findMatches The following objects are masked from 'package:base': I, expand.grid, unname Loading required package: IRanges Loading required package: GenomeInfoDb Loading required package: Biobase Welcome to Bioconductor Vignettes contain introductory material; view with 'browseVignettes()'. To cite Bioconductor, see 'citation("Biobase")', and for packages 'citation("pkgname")'. Attaching package: 'Biobase' The following object is masked from 'package:MatrixGenerics': rowMedians The following objects are masked from 'package:matrixStats': anyMissing, rowMedians > library(DelayedArray) Loading required package: S4Arrays Loading required package: abind Attaching package: 'S4Arrays' The following object is masked from 'package:abind': abind The following object is masked from 'package:base': rowsum Loading required package: SparseArray Attaching package: 'DelayedArray' The following objects are masked from 'package:base': apply, scale, sweep > library(edgeR) Attaching package: 'edgeR' The following object is masked from 'package:SingleCellExperiment': cpm > library(muscat) > library(RUnit) > > BiocGenerics:::testPackage("dreamlet") Processing: B cells Computing library sizes... Processing samples... Processing: CD14+ Monocytes Computing library sizes... Processing samples... Processing: CD4 T cells Computing library sizes... Processing samples... Processing: CD8 T cells Computing library sizes... Processing samples... Processing: FCGR3A+ Monocytes Computing library sizes... Processing samples... B cells...0.61 secs CD14+ Monocytes...0.76 secs CD4 T cells...0.58 secs CD8 T cells...0.38 secs FCGR3A+ Monocytes...0.9 secs B cells...0.6 secs CD14+ Monocytes...0.95 secs CD4 T cells...0.62 secs CD8 T cells...0.36 secs FCGR3A+ Monocytes...0.72 secs B cells...0.52 secs CD14+ Monocytes...0.79 secs CD4 T cells...0.6 secs CD8 T cells...0.37 secs FCGR3A+ Monocytes...0.74 secs Processing: B cells Computing library sizes... Processing samples... Processing: CD14+ Monocytes Computing library sizes... Processing samples... Processing: CD4 T cells Computing library sizes... Processing samples... Processing: CD8 T cells Computing library sizes... Processing samples... Processing: FCGR3A+ Monocytes Computing library sizes... Processing samples... B cells...0.54 secs CD14+ Monocytes...0.75 secs CD4 T cells...0.58 secs CD8 T cells...0.37 secs FCGR3A+ Monocytes...0.86 secs B cells...0.52 secs CD14+ Monocytes...0.79 secs CD4 T cells...0.58 secs CD8 T cells...0.36 secs FCGR3A+ Monocytes...0.76 secs B cells...0.53 secs B cells...0.5 secs Processing block [[1/1, 1/1]] ... OK B cells...0.59 secs CD14+ Monocytes...0.7 secs CD4 T cells...0.65 secs CD8 T cells...0.39 secs FCGR3A+ Monocytes...0.57 secs B cells...7.6 secs CD14+ Monocytes...9.9 secs CD4 T cells...8.1 secs CD8 T cells...5 secs FCGR3A+ Monocytes...9.9 secs B cells...0.4 secs CD14+ Monocytes...0.63 secs CD4 T cells...0.49 secs CD8 T cells...0.27 secs FCGR3A+ Monocytes...0.53 secs RUNIT TEST PROTOCOL -- Thu Mar 28 02:34:23 2024 *********************************************** Number of test functions: 12 Number of errors: 0 Number of failures: 0 1 Test Suite : dreamlet RUnit Tests - 12 test functions, 0 errors, 0 failures Number of test functions: 12 Number of errors: 0 Number of failures: 0 > > proc.time() user system elapsed 134.115 4.351 178.791
dreamlet.Rcheck/dreamlet-Ex.timings
name | user | system | elapsed | |
aggregateNonCountSignal | 12.642 | 0.765 | 15.326 | |
aggregateToPseudoBulk | 2.240 | 0.033 | 2.487 | |
aggregateVar | 2.405 | 0.033 | 2.686 | |
as.dreamletResult | 3.738 | 0.074 | 4.165 | |
buildClusterTreeFromPB | 1.257 | 0.019 | 1.376 | |
cellCounts | 1.159 | 0.038 | 1.297 | |
cellTypeSpecificity | 4.591 | 0.128 | 5.165 | |
checkFormula | 0.001 | 0.000 | 0.002 | |
coefNames-methods | 6.006 | 0.078 | 6.656 | |
compositePosteriorTest | 12.225 | 0.162 | 13.748 | |
computeCellCounts | 0.281 | 0.013 | 0.350 | |
computeLogCPM | 0.619 | 0.076 | 0.781 | |
computeNormCounts | 0.422 | 0.034 | 0.512 | |
details-methods | 4.102 | 0.069 | 4.684 | |
diffVar-methods | 7.909 | 0.085 | 8.725 | |
dreamlet | 7.216 | 0.091 | 8.042 | |
dreamletCompareClusters | 5.323 | 0.092 | 5.978 | |
dropRedundantTerms | 0.010 | 0.001 | 0.013 | |
equalFormulas | 0.001 | 0.000 | 0.003 | |
extractData-methods | 4.335 | 0.061 | 5.156 | |
fitVarPart | 43.416 | 0.312 | 47.805 | |
getExprGeneNames | 6.040 | 0.068 | 6.681 | |
getTreat-methods | 6.077 | 0.053 | 6.369 | |
meta_analysis | 32.861 | 0.444 | 35.649 | |
outlier | 0.005 | 0.001 | 0.007 | |
outlierByAssay | 4.149 | 0.038 | 4.207 | |
pbWeights | 6.114 | 0.092 | 6.579 | |
plotBeeswarm | 7.814 | 0.089 | 8.516 | |
plotCellComposition | 2.124 | 0.038 | 2.428 | |
plotForest-methods | 6.455 | 0.065 | 7.016 | |
plotGeneHeatmap-methods | 6.550 | 0.052 | 6.928 | |
plotHeatmap-methods | 1.666 | 0.025 | 1.785 | |
plotPCA | 7.261 | 0.065 | 7.713 | |
plotPercentBars-methods | 41.530 | 0.204 | 43.706 | |
plotProjection | 1.092 | 0.049 | 1.151 | |
plotVarPart-methods | 42.289 | 0.242 | 44.448 | |
plotViolin-methods | 2.151 | 0.033 | 2.379 | |
plotVolcano-methods | 8.524 | 0.099 | 9.170 | |
plotVoom-methods | 6.130 | 0.090 | 6.555 | |
processAssays | 6.124 | 0.056 | 6.565 | |
removeConstantTerms | 0.009 | 0.000 | 0.010 | |
residuals-methods | 6.102 | 0.066 | 6.416 | |
run_mash | 14.264 | 0.225 | 15.235 | |
seeErrors-methods | 6.087 | 0.073 | 6.500 | |
sortCols-method | 41.129 | 0.223 | 43.942 | |
stackAssays | 23.087 | 0.180 | 24.640 | |
topTable-methods | 6.016 | 0.057 | 6.359 | |
zenith_gsa-methods | 159.119 | 8.990 | 179.807 | |